BEGIN:VCALENDAR
VERSION:2.0
PRODID:-//Anchor Covenant Church - ECPv6.15.20//NONSGML v1.0//EN
CALSCALE:GREGORIAN
METHOD:PUBLISH
X-ORIGINAL-URL:https://anchorcovenant.org
X-WR-CALDESC:Events for Anchor Covenant Church
REFRESH-INTERVAL;VALUE=DURATION:PT1H
X-Robots-Tag:noindex
X-PUBLISHED-TTL:PT1H
BEGIN:VTIMEZONE
TZID:UTC
BEGIN:STANDARD
TZOFFSETFROM:+0000
TZOFFSETTO:+0000
TZNAME:UTC
DTSTART:20240101T000000
END:STANDARD
END:VTIMEZONE
BEGIN:VEVENT
DTSTART;TZID=UTC:20251003T110000
DTEND;TZID=UTC:20251003T130000
DTSTAMP:20260423T234702
CREATED:20250910T140402Z
LAST-MODIFIED:20251001T172206Z
UID:10000237-1759489200-1759496400@anchorcovenant.org
SUMMARY:55+ Gather at the Orchard
DESCRIPTION:Join us at 11am at the Apple Barn Orchard and Winery.
URL:https://anchorcovenant.org/event/55-picnic-at-the-park/
LOCATION:Apple Barn Orchard and Winery\, W6384 Sugarcreek Road\, Elkhorn\, WI\, 53121\, United States
ATTACH;FMTTYPE=image/png:https://anchorcovenant.org/wp-content/uploads/2025/09/unnamed-39.png
END:VEVENT
BEGIN:VEVENT
DTSTART;TZID=UTC:20251004T100000
DTEND;TZID=UTC:20251004T120000
DTSTAMP:20260423T234702
CREATED:20250918T114019Z
LAST-MODIFIED:20250918T114019Z
UID:10000242-1759572000-1759579200@anchorcovenant.org
SUMMARY:Anchor Adventure: Hiking
DESCRIPTION:Join us October 4th at 10am at Linn Nature Park for a hike just under 3 miles.
URL:https://anchorcovenant.org/event/anchor-adventure-hiking/
LOCATION:Linn Nature Park\, N1250 Maple Ridge Road\, Fontana\, WI\, United States
ATTACH;FMTTYPE=image/png:https://anchorcovenant.org/wp-content/uploads/2025/09/unnamed-29.png
END:VEVENT
BEGIN:VEVENT
DTSTART;TZID=UTC:20251005T160000
DTEND;TZID=UTC:20251005T180000
DTSTAMP:20260423T234702
CREATED:20250925T135527Z
LAST-MODIFIED:20250925T135527Z
UID:10000250-1759680000-1759687200@anchorcovenant.org
SUMMARY:Both Buoys
DESCRIPTION:Both Buoys\, Join us for Sock Soccer\, Dodgeball\, Climbing\, and Small Groups Sunday\, October 5th at 4:00pm.
URL:https://anchorcovenant.org/event/both-buoys/
LOCATION:Covenant Harbor\, 1724 W Main Street\, Lake Geneva\, WI\, 53147
ATTACH;FMTTYPE=image/png:https://anchorcovenant.org/wp-content/uploads/2025/09/unnamed-38.png
END:VEVENT
BEGIN:VEVENT
DTSTART;TZID=UTC:20251008T055900
DTEND;TZID=UTC:20251008T190000
DTSTAMP:20260423T234702
CREATED:20250925T135329Z
LAST-MODIFIED:20251001T172956Z
UID:10000249-1759903140-1759950000@anchorcovenant.org
SUMMARY:Buoy Bible Study
DESCRIPTION:Join Bob and Erik in study of David before school at 5:59am in the Buoy Room.
URL:https://anchorcovenant.org/event/buoy-bible-study/
LOCATION:Anchor Covenant Church\, 1229 Park Row\, Lake Geneva\, WI
ATTACH;FMTTYPE=image/png:https://anchorcovenant.org/wp-content/uploads/2025/09/unnamed-36.png
END:VEVENT
BEGIN:VEVENT
DTSTART;TZID=UTC:20251010T080000
DTEND;TZID=UTC:20251012T170000
DTSTAMP:20260423T234702
CREATED:20250918T120643Z
LAST-MODIFIED:20250918T120643Z
UID:10000245-1760083200-1760288400@anchorcovenant.org
SUMMARY:Buoy 68 Fall Retreat
DESCRIPTION:Attention all Buoy 68 students! We will be heading up to Covenant Point for Fall Retreat October 10. Please register by 9/24. Hope to see you all there!
URL:https://anchorcovenant.org/event/buoy-68-fall-retreat/
LOCATION:Covenant Point\, 358 Hagerman Lake Rd\, Iron River\, MI\, 49935\, United States
ATTACH;FMTTYPE=image/png:https://anchorcovenant.org/wp-content/uploads/2025/09/unnamed-31.png
END:VEVENT
BEGIN:VEVENT
DTSTART;TZID=UTC:20251012T103000
DTEND;TZID=UTC:20251012T120000
DTSTAMP:20260423T234702
CREATED:20251008T135423Z
LAST-MODIFIED:20251008T135423Z
UID:10000251-1760265000-1760270400@anchorcovenant.org
SUMMARY:Thanksgiving Food Drive
DESCRIPTION:
URL:https://anchorcovenant.org/event/thanksgiving-food-drive-4/
LOCATION:Anchor Covenant Church\, 1229 Park Row\, Lake Geneva\, WI
ATTACH;FMTTYPE=image/png:https://anchorcovenant.org/wp-content/uploads/2025/10/unnamed-42.png
END:VEVENT
BEGIN:VEVENT
DTSTART;TZID=UTC:20251019T103000
DTEND;TZID=UTC:20251019T233000
DTSTAMP:20260423T234702
CREATED:20251015T125343Z
LAST-MODIFIED:20251015T125343Z
UID:10000253-1760869800-1760916600@anchorcovenant.org
SUMMARY:Sunday Service
DESCRIPTION:Join us Sundays at 10:30am for our weekly service.
URL:https://anchorcovenant.org/event/sunday-service/
LOCATION:Anchor Covenant Church\, 1229 Park Row\, Lake Geneva\, WI
ATTACH;FMTTYPE=image/webp:https://anchorcovenant.org/wp-content/uploads/2025/09/IMG_2030.webp
END:VEVENT
BEGIN:VEVENT
DTSTART;TZID=UTC:20251019T160000
DTEND;TZID=UTC:20251019T173000
DTSTAMP:20260423T234702
CREATED:20250925T134845Z
LAST-MODIFIED:20251001T172906Z
UID:10000248-1760889600-1760895000@anchorcovenant.org
SUMMARY:Kids Family Event
DESCRIPTION:Join us for the Kids Family Event on Sunday\, October 26th at 4:00pm. This event is open to all families with children 5th grade and below.
URL:https://anchorcovenant.org/event/kids-family-event/
LOCATION:Anchor Covenant Church\, 1229 Park Row\, Lake Geneva\, WI
ATTACH;FMTTYPE=image/png:https://anchorcovenant.org/wp-content/uploads/2025/09/unnamed-41.png
END:VEVENT
BEGIN:VEVENT
DTSTART;TZID=UTC:20251019T160000
DTEND;TZID=UTC:20251019T190000
DTSTAMP:20260423T234702
CREATED:20250918T120213Z
LAST-MODIFIED:20250922T112142Z
UID:10000244-1760889600-1760900400@anchorcovenant.org
SUMMARY:New Members Retreat
DESCRIPTION:Anyone interested in becoming a new member\, please contact Pastor Melissa and join us for the new members retreat October 19 at 4:00pm.
URL:https://anchorcovenant.org/event/new-members-retreat/
LOCATION:WI
ATTACH;FMTTYPE=image/png:https://anchorcovenant.org/wp-content/uploads/2025/09/unnamed-30.png
END:VEVENT
BEGIN:VEVENT
DTSTART;TZID=UTC:20251021T190000
DTEND;TZID=UTC:20251021T200000
DTSTAMP:20260423T234702
CREATED:20250914T123038Z
LAST-MODIFIED:20251022T125245Z
UID:10000239-1761073200-1761076800@anchorcovenant.org
SUMMARY:Anchored in the Word
DESCRIPTION:Join us for a Women’s Bible Study every fourth Tuesday at 7:00pm.
URL:https://anchorcovenant.org/event/anchored-in-the-word/
LOCATION:Anchor Covenant Church\, 1229 Park Row\, Lake Geneva\, WI
ATTACH;FMTTYPE=image/jpeg:https://anchorcovenant.org/wp-content/uploads/2025/09/unnamed-16.jpg
END:VEVENT
BEGIN:VEVENT
DTSTART;TZID=UTC:20251026T103000
DTEND;TZID=UTC:20251026T120000
DTSTAMP:20260423T234702
CREATED:20251022T122912Z
LAST-MODIFIED:20251022T122912Z
UID:10000255-1761474600-1761480000@anchorcovenant.org
SUMMARY:KICY Sunday
DESCRIPTION:Join us this Sunday to hear more about KICY\, one of our nation ministries. Remember to bring your $1. See you Sunday!
URL:https://anchorcovenant.org/event/kicy-sunday/
LOCATION:Anchor Covenant Church\, 1229 Park Row\, Lake Geneva\, WI
ATTACH;FMTTYPE=image/jpeg:https://anchorcovenant.org/wp-content/uploads/2025/10/KICY_AM-850-ICY100.3FM_logo.jpg
END:VEVENT
BEGIN:VEVENT
DTSTART;TZID=UTC:20251027T190000
DTEND;TZID=UTC:20251027T203000
DTSTAMP:20260423T234702
CREATED:20251022T123452Z
LAST-MODIFIED:20251022T123452Z
UID:10000256-1761591600-1761597000@anchorcovenant.org
SUMMARY:Clothing Exchange
DESCRIPTION:Attention Ladies. Join us Monday\, October 27 at 7:00pm for the semi annual Clothing Exchange at Lake Lawn Resort in Delavan. \nDrop off clothes Sunday 5-7pm or Monday 8:30am-4:30pm. \nText Jaci with any questions: 262-949-4291
URL:https://anchorcovenant.org/event/clothing-exchange/
LOCATION:Lake Lake Resort\, 2400 E Geneva St\, Delavan\, WI\, 53115\, United States
ATTACH;FMTTYPE=image/png:https://anchorcovenant.org/wp-content/uploads/2025/10/unnamed-49.png
END:VEVENT
END:VCALENDAR