BEGIN:VCALENDAR
VERSION:2.0
PRODID:-//Anchor Covenant Church - ECPv6.15.20//NONSGML v1.0//EN
CALSCALE:GREGORIAN
METHOD:PUBLISH
X-ORIGINAL-URL:https://anchorcovenant.org
X-WR-CALDESC:Events for Anchor Covenant Church
REFRESH-INTERVAL;VALUE=DURATION:PT1H
X-Robots-Tag:noindex
X-PUBLISHED-TTL:PT1H
BEGIN:VTIMEZONE
TZID:UTC
BEGIN:STANDARD
TZOFFSETFROM:+0000
TZOFFSETTO:+0000
TZNAME:UTC
DTSTART:20240101T000000
END:STANDARD
END:VTIMEZONE
BEGIN:VEVENT
DTSTART;TZID=UTC:20250207T120000
DTEND;TZID=UTC:20250209T190000
DTSTAMP:20260424T102227
CREATED:20241205T135323Z
LAST-MODIFIED:20241205T145955Z
UID:10000168-1738929600-1739127600@anchorcovenant.org
SUMMARY:BuoyHS Wintertainment
DESCRIPTION: 
URL:https://anchorcovenant.org/event/buoyhs-wintertainment/
LOCATION:Twin Lakes Bible Camp\, 7718 Twin Lakes Rd\, Manson\, IA\, 50563
ORGANIZER;CN="Laura Gowan":MAILTO:laura.gowan@anchorcovenant.org
END:VEVENT
BEGIN:VEVENT
DTSTART;TZID=UTC:20250214T170000
DTEND;TZID=UTC:20250215T210000
DTSTAMP:20260424T102227
CREATED:20241205T135029Z
LAST-MODIFIED:20241205T135029Z
UID:10000167-1739552400-1739653200@anchorcovenant.org
SUMMARY:Compass Winter Camp
DESCRIPTION:
URL:https://anchorcovenant.org/event/compass-winter-camp-2/
LOCATION:Covenant Harbor\, 1724 W Main Street\, Lake Geneva\, WI\, 53147
END:VEVENT
END:VCALENDAR