BEGIN:VCALENDAR
VERSION:2.0
PRODID:-//Anchor Covenant Church - ECPv6.15.20//NONSGML v1.0//EN
CALSCALE:GREGORIAN
METHOD:PUBLISH
X-WR-CALNAME:Anchor Covenant Church
X-ORIGINAL-URL:https://anchorcovenant.org
X-WR-CALDESC:Events for Anchor Covenant Church
REFRESH-INTERVAL;VALUE=DURATION:PT1H
X-Robots-Tag:noindex
X-PUBLISHED-TTL:PT1H
BEGIN:VTIMEZONE
TZID:UTC
BEGIN:STANDARD
TZOFFSETFROM:+0000
TZOFFSETTO:+0000
TZNAME:UTC
DTSTART:20230101T000000
END:STANDARD
END:VTIMEZONE
BEGIN:VEVENT
DTSTART;TZID=UTC:20241201T080000
DTEND;TZID=UTC:20250110T170000
DTSTAMP:20260424T131407
CREATED:20241126T032739Z
LAST-MODIFIED:20241126T032739Z
UID:10000161-1733040000-1736528400@anchorcovenant.org
SUMMARY:Compass Winter Camp Sign Up
DESCRIPTION:Sign up for Compass Winter Camp 2/14-2/15 \nCost $189 minus Anchor Student Gift $50 = $139 (this amount is less if you participated in the Timber Ridge Fundraiser on 11/18) \n 
URL:https://anchorcovenant.org/event/compass-winter-camp-sign-up/
LOCATION:Covenant Harbor\, 1724 W Main Street\, Lake Geneva\, WI\, 53147
ORGANIZER;CN="Jaclynne Fohr":MAILTO:childrensministry@anchorcovenant.org
END:VEVENT
BEGIN:VEVENT
DTSTART;TZID=UTC:20241207T180000
DTEND;TZID=UTC:20241207T210000
DTSTAMP:20260424T131407
CREATED:20241126T032307Z
LAST-MODIFIED:20241126T032307Z
UID:10000159-1733594400-1733605200@anchorcovenant.org
SUMMARY:Buoy68 Christmas Party
DESCRIPTION:
URL:https://anchorcovenant.org/event/buoy68-christmas-party-2/
LOCATION:Covenant Harbor\, 1724 W Main Street\, Lake Geneva\, WI\, 53147
ORGANIZER;CN="Laura Gowan":MAILTO:laura.gowan@anchorcovenant.org
END:VEVENT
BEGIN:VEVENT
DTSTART;TZID=UTC:20241208T160000
DTEND;TZID=UTC:20241208T173000
DTSTAMP:20260424T131407
CREATED:20241118T213413Z
LAST-MODIFIED:20241118T213413Z
UID:10000157-1733673600-1733679000@anchorcovenant.org
SUMMARY:Compass Christmas Party
DESCRIPTION:
URL:https://anchorcovenant.org/event/compass-christmas-party-2/
LOCATION:Covenant Harbor\, 1724 W Main Street\, Lake Geneva\, WI\, 53147
END:VEVENT
BEGIN:VEVENT
DTSTART;TZID=UTC:20241208T170000
DTEND;TZID=UTC:20241208T200000
DTSTAMP:20260424T131407
CREATED:20241126T032416Z
LAST-MODIFIED:20241126T032416Z
UID:10000160-1733677200-1733688000@anchorcovenant.org
SUMMARY:BuoyHS Christmas Party
DESCRIPTION:
URL:https://anchorcovenant.org/event/buoyhs-christmas-party-2/
LOCATION:Covenant Harbor\, 1724 W Main Street\, Lake Geneva\, WI\, 53147
ORGANIZER;CN="Laura Gowan":MAILTO:laura.gowan@anchorcovenant.org
END:VEVENT
BEGIN:VEVENT
DTSTART;TZID=UTC:20241215T000000
DTEND;TZID=UTC:20241229T233000
DTSTAMP:20260424T131407
CREATED:20241126T042218Z
LAST-MODIFIED:20241126T042326Z
UID:10000163-1734220800-1735515000@anchorcovenant.org
SUMMARY:No Buoy
DESCRIPTION:Buoy Christmas Break
URL:https://anchorcovenant.org/event/no-buoy/
LOCATION:Covenant Harbor\, 1724 W Main Street\, Lake Geneva\, WI\, 53147
ORGANIZER;CN="Laura Gowan":MAILTO:laura.gowan@anchorcovenant.org
END:VEVENT
BEGIN:VEVENT
DTSTART;TZID=UTC:20241217T160000
DTEND;TZID=UTC:20241217T190000
DTSTAMP:20260424T131407
CREATED:20241126T032957Z
LAST-MODIFIED:20241126T035342Z
UID:10000162-1734451200-1734462000@anchorcovenant.org
SUMMARY:Church Building Help
DESCRIPTION:Help wipe down dusty furniture and move items back to the Kids’ Deck.
URL:https://anchorcovenant.org/event/church-building-help/
LOCATION:Anchor Covenant Church\, 1229 Park Row\, Lake Geneva\, WI
ORGANIZER;CN="Heidi Nevoso":MAILTO:hnevoso@gmail.com
END:VEVENT
BEGIN:VEVENT
DTSTART;TZID=UTC:20241219T183000
DTEND;TZID=UTC:20241219T203000
DTSTAMP:20260424T131407
CREATED:20241126T195035Z
LAST-MODIFIED:20241126T195035Z
UID:10000166-1734633000-1734640200@anchorcovenant.org
SUMMARY:Dinner Party
DESCRIPTION:Anchor’s December Pop-in Dinner has been scheduled!\nPlease join us at ZAAB Corner Bistro in Lake Geneva\nDecember 19th at 6:30 pm\n*Please RSVP to Pete & Pat Heintzelman by Dec 16th*
URL:https://anchorcovenant.org/event/dinner-party-2/
LOCATION:ZAAB Corner Bistro\, 501 Broad St\, Lake Geneva\, WI\, 53147
END:VEVENT
BEGIN:VEVENT
DTSTART;TZID=UTC:20241222T103000
DTEND;TZID=UTC:20241222T113000
DTSTAMP:20260424T131407
CREATED:20241118T213309Z
LAST-MODIFIED:20241118T213309Z
UID:10000156-1734863400-1734867000@anchorcovenant.org
SUMMARY:Anchor Kids Christmas Program
DESCRIPTION:
URL:https://anchorcovenant.org/event/anchor-kids-christmas-program/
LOCATION:Badger Highschool
END:VEVENT
BEGIN:VEVENT
DTSTART;TZID=UTC:20241224T170000
DTEND;TZID=UTC:20241224T180000
DTSTAMP:20260424T131407
CREATED:20241118T213142Z
LAST-MODIFIED:20241118T213142Z
UID:10000155-1735059600-1735063200@anchorcovenant.org
SUMMARY:Christmas Eve Service
DESCRIPTION:
URL:https://anchorcovenant.org/event/christmas-eve-service-2/
LOCATION:Horticultural Hall\, 330 Broad St\, Lake Geneva\, WI\, 53147\, United States
END:VEVENT
END:VCALENDAR