BEGIN:VCALENDAR
VERSION:2.0
PRODID:-//Anchor Covenant Church - ECPv6.15.20//NONSGML v1.0//EN
CALSCALE:GREGORIAN
METHOD:PUBLISH
X-ORIGINAL-URL:https://anchorcovenant.org
X-WR-CALDESC:Events for Anchor Covenant Church
REFRESH-INTERVAL;VALUE=DURATION:PT1H
X-Robots-Tag:noindex
X-PUBLISHED-TTL:PT1H
BEGIN:VTIMEZONE
TZID:UTC
BEGIN:STANDARD
TZOFFSETFROM:+0000
TZOFFSETTO:+0000
TZNAME:UTC
DTSTART:20230101T000000
END:STANDARD
END:VTIMEZONE
BEGIN:VEVENT
DTSTART;TZID=UTC:20240915T103000
DTEND;TZID=UTC:20240915T113000
DTSTAMP:20260424T174443
CREATED:20240817T011216Z
LAST-MODIFIED:20240817T012006Z
UID:10000135-1726396200-1726399800@anchorcovenant.org
SUMMARY:Bibles & Blessings
DESCRIPTION:Join us as our Anchor Kids and Youth receive Bibles and prayers as they begin new levels of Grow. \n  \n \nContact Jaci at childrensministry@anchorcovenant.org if your child is in need of a Bible.
URL:https://anchorcovenant.org/event/bibles-blessings/
LOCATION:Badger Highschool
ORGANIZER;CN="Jaclynne Fohr":MAILTO:childrensministry@anchorcovenant.org
END:VEVENT
BEGIN:VEVENT
DTSTART;TZID=UTC:20240915T103000
DTEND;TZID=UTC:20240915T120000
DTSTAMP:20260424T174443
CREATED:20240817T012427Z
LAST-MODIFIED:20240817T012501Z
UID:10000136-1726396200-1726401600@anchorcovenant.org
SUMMARY:Fall Kick-Off
DESCRIPTION:On September 15th we will be kicking our Fall off with a new sermons series and an introduction to all of Anchors’ ministry opportunities!  Come play some games\, fill up on sugar\, and get to know Anchor! \n \n 
URL:https://anchorcovenant.org/event/fall-kick-off/
LOCATION:Badger Highschool
ORGANIZER;CN="Anchor Staff":MAILTO:office@anchorcovenant.org
END:VEVENT
BEGIN:VEVENT
DTSTART;TZID=UTC:20240921T160000
DTEND;TZID=UTC:20240921T180000
DTSTAMP:20260424T174443
CREATED:20240920T220642Z
LAST-MODIFIED:20240920T220642Z
UID:10000144-1726934400-1726941600@anchorcovenant.org
SUMMARY:Bikes & Hikes
DESCRIPTION:Come bike or hike as far as you want!  Then turn around and meet back at the park for a picnic.
URL:https://anchorcovenant.org/event/bikes-hikes/
LOCATION:White River State Trail
END:VEVENT
BEGIN:VEVENT
DTSTART;TZID=UTC:20240922T160000
DTEND;TZID=UTC:20240922T173000
DTSTAMP:20260424T174443
CREATED:20240912T190056Z
LAST-MODIFIED:20240912T190136Z
UID:10000143-1727020800-1727026200@anchorcovenant.org
SUMMARY:Swing Into A New Year of Compass
DESCRIPTION:3rd-5th graders can join us at Harbor to swing into the new year on the Kish Tree Swing. \nEmail childrensministry@anchorcovenant.org for more details.
URL:https://anchorcovenant.org/event/swing-into-a-new-year-of-compass/
LOCATION:Covenant Harbor\, 1724 W Main Street\, Lake Geneva\, WI\, 53147
END:VEVENT
BEGIN:VEVENT
DTSTART;TZID=UTC:20240929T093000
DTEND;TZID=UTC:20240929T101500
DTSTAMP:20260424T174443
CREATED:20240808T135838Z
LAST-MODIFIED:20240808T140603Z
UID:10000134-1727602200-1727604900@anchorcovenant.org
SUMMARY:Grow Begins
DESCRIPTION:Christian formation classes for ages 3-Adult.  Held every Sunday Morning before Worship Service 9/29-11/17
URL:https://anchorcovenant.org/event/grow-begins-2/
LOCATION:Badger Highschool
END:VEVENT
END:VCALENDAR