BEGIN:VCALENDAR
VERSION:2.0
PRODID:-//Anchor Covenant Church - ECPv6.15.20//NONSGML v1.0//EN
CALSCALE:GREGORIAN
METHOD:PUBLISH
X-WR-CALNAME:Anchor Covenant Church
X-ORIGINAL-URL:https://anchorcovenant.org
X-WR-CALDESC:Events for Anchor Covenant Church
REFRESH-INTERVAL;VALUE=DURATION:PT1H
X-Robots-Tag:noindex
X-PUBLISHED-TTL:PT1H
BEGIN:VTIMEZONE
TZID:UTC
BEGIN:STANDARD
TZOFFSETFROM:+0000
TZOFFSETTO:+0000
TZNAME:UTC
DTSTART:20230101T000000
END:STANDARD
END:VTIMEZONE
BEGIN:VEVENT
DTSTART;TZID=UTC:20240811T113000
DTEND;TZID=UTC:20240811T120000
DTSTAMP:20260424T190319
CREATED:20240704T150106Z
LAST-MODIFIED:20240704T150456Z
UID:10000132-1723375800-1723377600@anchorcovenant.org
SUMMARY:Baptism
DESCRIPTION:  \n 
URL:https://anchorcovenant.org/event/baptism/
LOCATION:Anchor Covenant Church\, 1229 Park Row\, Lake Geneva\, WI
END:VEVENT
BEGIN:VEVENT
DTSTART;TZID=UTC:20240811T120000
DTEND;TZID=UTC:20240811T150000
DTSTAMP:20260424T190319
CREATED:20240419T032046Z
LAST-MODIFIED:20240419T032046Z
UID:10000116-1723377600-1723388400@anchorcovenant.org
SUMMARY:Anchor Picnic after Worship
DESCRIPTION:BYO Picnic and join the Anchor Family for a picnic after Worship
URL:https://anchorcovenant.org/event/anchor-picnic-after-worship/
LOCATION:Covenant Harbor\, 1724 W Main Street\, Lake Geneva\, WI\, 53147
ORGANIZER;CN="Anchor Staff":MAILTO:office@anchorcovenant.org
END:VEVENT
BEGIN:VEVENT
DTSTART;TZID=UTC:20240815T180000
DTEND;TZID=UTC:20240815T200000
DTSTAMP:20260424T190319
CREATED:20240425T124953Z
LAST-MODIFIED:20240425T142325Z
UID:10000119-1723744800-1723752000@anchorcovenant.org
SUMMARY:Third Thursday Prayer
DESCRIPTION:
URL:https://anchorcovenant.org/event/third-thursday-prayer-3/
LOCATION:WI
END:VEVENT
BEGIN:VEVENT
DTSTART;TZID=UTC:20240825T113000
DTEND;TZID=UTC:20240825T123000
DTSTAMP:20260424T190319
CREATED:20240817T012750Z
LAST-MODIFIED:20240817T012848Z
UID:10000137-1724585400-1724589000@anchorcovenant.org
SUMMARY:Congregation Meeting
DESCRIPTION:Update from Leadership Team.  Childcare will be provided.
URL:https://anchorcovenant.org/event/congregation-meeting/
LOCATION:Badger Highschool
END:VEVENT
BEGIN:VEVENT
DTSTART;TZID=UTC:20240825T180000
DTEND;TZID=UTC:20240825T193000
DTSTAMP:20260424T190319
CREATED:20240419T031355Z
LAST-MODIFIED:20240824T145820Z
UID:10000114-1724608800-1724614200@anchorcovenant.org
SUMMARY:Anchor Beach Night
DESCRIPTION:
URL:https://anchorcovenant.org/event/anchor-beach-night-3/
LOCATION:riviera beach\, lake geneva
ORGANIZER;CN="Anchor Staff":MAILTO:office@anchorcovenant.org
END:VEVENT
END:VCALENDAR