BEGIN:VCALENDAR
VERSION:2.0
PRODID:-//Anchor Covenant Church - ECPv6.15.20//NONSGML v1.0//EN
CALSCALE:GREGORIAN
METHOD:PUBLISH
X-WR-CALNAME:Anchor Covenant Church
X-ORIGINAL-URL:https://anchorcovenant.org
X-WR-CALDESC:Events for Anchor Covenant Church
REFRESH-INTERVAL;VALUE=DURATION:PT1H
X-Robots-Tag:noindex
X-PUBLISHED-TTL:PT1H
BEGIN:VTIMEZONE
TZID:UTC
BEGIN:STANDARD
TZOFFSETFROM:+0000
TZOFFSETTO:+0000
TZNAME:UTC
DTSTART:20230101T000000
END:STANDARD
END:VTIMEZONE
BEGIN:VEVENT
DTSTART;TZID=UTC:20240601T150000
DTEND;TZID=UTC:20240601T170000
DTSTAMP:20260424T215810
CREATED:20240419T025650Z
LAST-MODIFIED:20240419T032137Z
UID:10000111-1717254000-1717261200@anchorcovenant.org
SUMMARY:Compass Grad Bowling & Pizza Party
DESCRIPTION:
URL:https://anchorcovenant.org/event/compass-grad-bowling-pizza-party/
LOCATION:Como Beach Bowl\, N3342 Sycamore Rd\, Lake Geneva\, WI\, 53147
END:VEVENT
BEGIN:VEVENT
DTSTART;TZID=UTC:20240602T090000
DTEND;TZID=UTC:20240602T100000
DTSTAMP:20260424T215810
CREATED:20240530T175427Z
LAST-MODIFIED:20240530T175427Z
UID:10000125-1717318800-1717322400@anchorcovenant.org
SUMMARY:Buoy Deeper
DESCRIPTION:Buoy68 & HS\nDonuts and Devotions at the boathouse before Church!
URL:https://anchorcovenant.org/event/buoy-deeper/
LOCATION:Covenant Harbor\, 1724 W Main Street\, Lake Geneva\, WI\, 53147
ORGANIZER;CN="Laura Gowan":MAILTO:laura.gowan@anchorcovenant.org
END:VEVENT
BEGIN:VEVENT
DTSTART;TZID=UTC:20240602T103000
DTEND;TZID=UTC:20240602T120000
DTSTAMP:20260424T215810
CREATED:20240311T174142Z
LAST-MODIFIED:20240311T174142Z
UID:10000100-1717324200-1717329600@anchorcovenant.org
SUMMARY:Worship at Covenant Harbor
DESCRIPTION:
URL:https://anchorcovenant.org/event/worship-at-covenant-harbor/
LOCATION:Covenant Harbor\, 1724 W Main Street\, Lake Geneva\, WI\, 53147
END:VEVENT
BEGIN:VEVENT
DTSTART;TZID=UTC:20240602T113000
DTEND;TZID=UTC:20240602T120000
DTSTAMP:20260424T215810
CREATED:20240425T165342Z
LAST-MODIFIED:20240425T165342Z
UID:10000121-1717327800-1717329600@anchorcovenant.org
SUMMARY:Congregational Meeting
DESCRIPTION:Join us for a mid-year congregational meeting after Worship.
URL:https://anchorcovenant.org/event/congregational-meeting/
LOCATION:Covenant Harbor\, 1724 W Main Street\, Lake Geneva\, WI\, 53147
END:VEVENT
BEGIN:VEVENT
DTSTART;TZID=UTC:20240602T120000
DTEND;TZID=UTC:20240602T150000
DTSTAMP:20260424T215810
CREATED:20240419T031920Z
LAST-MODIFIED:20240419T032230Z
UID:10000115-1717329600-1717340400@anchorcovenant.org
SUMMARY:Anchor Picnic at Covenant Harbor Boathouse
DESCRIPTION:BYO Picnic and join the Anchor Family for a picnic after Worship
URL:https://anchorcovenant.org/event/anchor-picnic-at-covenant-harbor-boathouse/
LOCATION:Covenant Harbor\, 1724 W Main Street\, Lake Geneva\, WI\, 53147
ORGANIZER;CN="Anchor Staff":MAILTO:office@anchorcovenant.org
END:VEVENT
BEGIN:VEVENT
DTSTART;TZID=UTC:20240609T090000
DTEND;TZID=UTC:20240609T100000
DTSTAMP:20260424T215810
CREATED:20240530T175542Z
LAST-MODIFIED:20240530T175542Z
UID:10000126-1717923600-1717927200@anchorcovenant.org
SUMMARY:Buoy Deeper
DESCRIPTION:Buoy68 & HS\nDonuts and Devotions at the boathouse before Church!
URL:https://anchorcovenant.org/event/buoy-deeper-2/
LOCATION:Covenant Harbor\, 1724 W Main Street\, Lake Geneva\, WI\, 53147
ORGANIZER;CN="Laura Gowan":MAILTO:laura.gowan@anchorcovenant.org
END:VEVENT
BEGIN:VEVENT
DTSTART;TZID=UTC:20240615T100000
DTEND;TZID=UTC:20240615T120000
DTSTAMP:20260424T215810
CREATED:20240523T183330Z
LAST-MODIFIED:20240523T183330Z
UID:10000124-1718445600-1718452800@anchorcovenant.org
SUMMARY:Bridal Shower for Sierra
DESCRIPTION:www.zola.com/wedding/sierraandzacaugust31
URL:https://anchorcovenant.org/event/bridal-shower-for-sierra/
LOCATION:Gowan’s\, 120Pearson St\, Lake Geneva\, WI\, 53147
ORGANIZER;CN="Laura Gowan":MAILTO:laura.gowan@anchorcovenant.org
END:VEVENT
BEGIN:VEVENT
DTSTART;TZID=UTC:20240616T090000
DTEND;TZID=UTC:20240616T100000
DTSTAMP:20260424T215810
CREATED:20240530T175642Z
LAST-MODIFIED:20240530T175806Z
UID:10000127-1718528400-1718532000@anchorcovenant.org
SUMMARY:Buoy Deeper
DESCRIPTION:Buoy68 & HS\nDonuts and Devotions at the boathouse before Church!
URL:https://anchorcovenant.org/event/buoy-deeper-3/
LOCATION:Covenant Harbor\, 1724 W Main Street\, Lake Geneva\, WI\, 53147
ORGANIZER;CN="Laura Gowan":MAILTO:laura.gowan@anchorcovenant.org
END:VEVENT
BEGIN:VEVENT
DTSTART;TZID=UTC:20240619T183000
DTEND;TZID=UTC:20240619T210000
DTSTAMP:20260424T215810
CREATED:20240523T182747Z
LAST-MODIFIED:20240618T214147Z
UID:10000123-1718821800-1718830800@anchorcovenant.org
SUMMARY:Jon Troast
DESCRIPTION:Bring your own picnic and lawn chair.  Enjoy time together listening to live music\, playing yard games\, and relaxing by a bonfire.
URL:https://anchorcovenant.org/event/jon-troast/
LOCATION:Anchor Covenant Church\, 1229 Park Row\, Lake Geneva\, WI
END:VEVENT
BEGIN:VEVENT
DTSTART;TZID=UTC:20240620T190000
DTEND;TZID=UTC:20240620T210000
DTSTAMP:20260424T215810
CREATED:20240425T124819Z
LAST-MODIFIED:20240425T124819Z
UID:10000117-1718910000-1718917200@anchorcovenant.org
SUMMARY:Third Thursday Prayer
DESCRIPTION:
URL:https://anchorcovenant.org/event/third-thursday-prayer/
LOCATION:WI
END:VEVENT
BEGIN:VEVENT
DTSTART;TZID=UTC:20240623T090000
DTEND;TZID=UTC:20240623T100000
DTSTAMP:20260424T215810
CREATED:20240530T175858Z
LAST-MODIFIED:20240530T175858Z
UID:10000128-1719133200-1719136800@anchorcovenant.org
SUMMARY:Buoy Deeper
DESCRIPTION:
URL:https://anchorcovenant.org/event/buoy-deeper-4/
LOCATION:Covenant Harbor\, 1724 W Main Street\, Lake Geneva\, WI\, 53147
ORGANIZER;CN="Laura Gowan":MAILTO:laura.gowan@anchorcovenant.org
END:VEVENT
BEGIN:VEVENT
DTSTART;TZID=UTC:20240623T180000
DTEND;TZID=UTC:20240623T193000
DTSTAMP:20260424T215810
CREATED:20240419T031125Z
LAST-MODIFIED:20240419T031125Z
UID:10000112-1719165600-1719171000@anchorcovenant.org
SUMMARY:Anchor Beach Night
DESCRIPTION:Join the Anchor Family at Riviera Beach at 6pm (this when it becomes free). Hang out in the sand\, swim\, chat\, meet someone new…
URL:https://anchorcovenant.org/event/anchor-beach-night/
LOCATION:riviera beach\, lake geneva
ORGANIZER;CN="Anchor Staff":MAILTO:office@anchorcovenant.org
END:VEVENT
BEGIN:VEVENT
DTSTART;TZID=UTC:20240626T173000
DTEND;TZID=UTC:20240626T193000
DTSTAMP:20260424T215810
CREATED:20240626T180114Z
LAST-MODIFIED:20240626T180418Z
UID:10000131-1719423000-1719430200@anchorcovenant.org
SUMMARY:55+ Picnic
DESCRIPTION:
URL:https://anchorcovenant.org/event/55-picnic/
LOCATION:Knollwood\, Lake Geneva\, WI\, 53147\, United States
END:VEVENT
BEGIN:VEVENT
DTSTART;TZID=UTC:20240630T090000
DTEND;TZID=UTC:20240630T100000
DTSTAMP:20260424T215810
CREATED:20240530T175957Z
LAST-MODIFIED:20240530T175957Z
UID:10000129-1719738000-1719741600@anchorcovenant.org
SUMMARY:Buoy Deeper
DESCRIPTION:Buoy68 & HS\nDonuts and Devotions at the boathouse before Church!
URL:https://anchorcovenant.org/event/buoy-deeper-5/
LOCATION:Covenant Harbor\, 1724 W Main Street\, Lake Geneva\, WI\, 53147
ORGANIZER;CN="Laura Gowan":MAILTO:laura.gowan@anchorcovenant.org
END:VEVENT
END:VCALENDAR