BEGIN:VCALENDAR
VERSION:2.0
PRODID:-//Anchor Covenant Church - ECPv6.15.20//NONSGML v1.0//EN
CALSCALE:GREGORIAN
METHOD:PUBLISH
X-WR-CALNAME:Anchor Covenant Church
X-ORIGINAL-URL:https://anchorcovenant.org
X-WR-CALDESC:Events for Anchor Covenant Church
REFRESH-INTERVAL;VALUE=DURATION:PT1H
X-Robots-Tag:noindex
X-PUBLISHED-TTL:PT1H
BEGIN:VTIMEZONE
TZID:UTC
BEGIN:STANDARD
TZOFFSETFROM:+0000
TZOFFSETTO:+0000
TZNAME:UTC
DTSTART:20230101T000000
END:STANDARD
END:VTIMEZONE
BEGIN:VEVENT
DTSTART;TZID=UTC:20240303T093000
DTEND;TZID=UTC:20240303T101500
DTSTAMP:20260425T023314
CREATED:20240215T140114Z
LAST-MODIFIED:20240215T140114Z
UID:10000093-1709458200-1709460900@anchorcovenant.org
SUMMARY:McBuoy Grow
DESCRIPTION:  \n  \nIn this post fire season– we are getting creative.\nBuoy Grow will be happening 9:30-10:15am for the next 4 weeks at McDonalds just down the street from worship at Badger.\nAll Buoy students 6th-12th grade. \nBYO $ and Bible. \nFeb 18\nFeb 25\nMarch 3\nMarch 10 \nParents\, you can drop off at 9:30am.\nLeaders will drive your students to worship at Badger at 10:15am. \n  \n 
URL:https://anchorcovenant.org/event/mcbuoy-grow-3/
LOCATION:McDonalds\, 104 N Wells St\, Lake Geneva\, WI\, 53147\, United States
ORGANIZER;CN="Laura Gowan":MAILTO:laura.gowan@anchorcovenant.org
END:VEVENT
BEGIN:VEVENT
DTSTART;TZID=UTC:20240310T093000
DTEND;TZID=UTC:20240310T101500
DTSTAMP:20260425T023314
CREATED:20240215T140237Z
LAST-MODIFIED:20240215T140237Z
UID:10000094-1710063000-1710065700@anchorcovenant.org
SUMMARY:McBuoy Grow
DESCRIPTION:In this post fire season– we are getting creative.\nBuoy Grow will be happening 9:30-10:15am for the next 4 weeks at McDonalds just down the street from worship at Badger.\nAll Buoy students 6th-12th grade. \nBYO $ and Bible. \nFeb 18\nFeb 25\nMarch 3\nMarch 10 \nParents\, you can drop off at 9:30am.\nLeaders will drive your students to worship at Badger at 10:15am.
URL:https://anchorcovenant.org/event/mcbuoy-grow-4/
LOCATION:McDonalds\, 104 N Wells St\, Lake Geneva\, WI\, 53147\, United States
ORGANIZER;CN="Laura Gowan":MAILTO:laura.gowan@anchorcovenant.org
END:VEVENT
BEGIN:VEVENT
DTSTART;TZID=UTC:20240316T100000
DTEND;TZID=UTC:20240316T120000
DTSTAMP:20260425T023314
CREATED:20240215T154103Z
LAST-MODIFIED:20240215T154111Z
UID:10000098-1710583200-1710590400@anchorcovenant.org
SUMMARY:Buoy Roller Skate through the Decades
DESCRIPTION:
URL:https://anchorcovenant.org/event/buoy-roller-skate-through-the-decades/
LOCATION:Traxside\, 637 S. Kane St.\, Burlington\, WI\, 53105\, United States
END:VEVENT
BEGIN:VEVENT
DTSTART;TZID=UTC:20240316T100000
DTEND;TZID=UTC:20240316T120000
DTSTAMP:20260425T023314
CREATED:20240222T175653Z
LAST-MODIFIED:20240222T175653Z
UID:10000099-1710583200-1710590400@anchorcovenant.org
SUMMARY:Compass Family Skate
DESCRIPTION:
URL:https://anchorcovenant.org/event/compass-family-skate/
LOCATION:Traxside\, 637 S. Kane St.\, Burlington\, WI\, 53105\, United States
END:VEVENT
BEGIN:VEVENT
DTSTART;TZID=UTC:20240317T073000
DTEND;TZID=UTC:20240317T140000
DTSTAMP:20260425T023314
CREATED:20240215T140946Z
LAST-MODIFIED:20240215T141028Z
UID:10000096-1710660600-1710684000@anchorcovenant.org
SUMMARY:Maple Fest
DESCRIPTION:It’s time for Maple Fest\nYou are invited to join us for Maple Fest 2024! Starting at 7:30 a.m. and continuing until 2:00 p.m.\, Maple Fest will include the classic pancake breakfast\, a outdoor market featuring local businesses and classic camp family friendly activities. Come for the perfect pancake-filled day and to get to know a bit of who we are. We would love to meet you!
URL:https://anchorcovenant.org/event/maple-fest/
LOCATION:Covenant Harbor\, 1724 W Main Street\, Lake Geneva\, WI\, 53147
END:VEVENT
BEGIN:VEVENT
DTSTART;TZID=UTC:20240329T180000
DTEND;TZID=UTC:20240329T193000
DTSTAMP:20260425T023314
CREATED:20240320T011841Z
LAST-MODIFIED:20240320T012019Z
UID:10000101-1711735200-1711740600@anchorcovenant.org
SUMMARY:Good Friday Dinner and Service
DESCRIPTION:Join us for an intentional dinner to celebrate Good Friday.  RSVP to office@anchorcovenant.org.  Tickets are $10.
URL:https://anchorcovenant.org/event/good-friday-dinner-and-service/
LOCATION:Simple Cafe\, 525 Broad Street\, Lake Geneva\, WI\, 53147\, United States
END:VEVENT
END:VCALENDAR