BEGIN:VCALENDAR
VERSION:2.0
PRODID:-//Anchor Covenant Church - ECPv6.15.20//NONSGML v1.0//EN
CALSCALE:GREGORIAN
METHOD:PUBLISH
X-WR-CALNAME:Anchor Covenant Church
X-ORIGINAL-URL:https://anchorcovenant.org
X-WR-CALDESC:Events for Anchor Covenant Church
REFRESH-INTERVAL;VALUE=DURATION:PT1H
X-Robots-Tag:noindex
X-PUBLISHED-TTL:PT1H
BEGIN:VTIMEZONE
TZID:UTC
BEGIN:STANDARD
TZOFFSETFROM:+0000
TZOFFSETTO:+0000
TZNAME:UTC
DTSTART:20220101T000000
END:STANDARD
END:VTIMEZONE
BEGIN:VEVENT
DTSTART;TZID=UTC:20230801T080000
DTEND;TZID=UTC:20230801T170000
DTSTAMP:20260425T132533
CREATED:20230731T190109Z
LAST-MODIFIED:20230731T190152Z
UID:10000008-1690876800-1690909200@anchorcovenant.org
SUMMARY:Work Day
DESCRIPTION:Help Wanted @ Anchor\nCome and go as you are able! We appreciate you!\nWe are getting there! Still painting walls\, trim pieces\, sanding tables for staining\, clean up\, and resetting of items. Contact Heidi Nevoso with any questions: hnevoso@gmail.com
URL:https://anchorcovenant.org/event/work-day-4/
LOCATION:Anchor Covenant Church\, 1229 Park Row\, Lake Geneva\, WI
ORGANIZER;CN="Heidi Nevoso":MAILTO:hnevoso@gmail.com
END:VEVENT
BEGIN:VEVENT
DTSTART;TZID=UTC:20230802T080000
DTEND;TZID=UTC:20230802T170000
DTSTAMP:20260425T132533
CREATED:20230731T190246Z
LAST-MODIFIED:20230731T190252Z
UID:10000009-1690963200-1690995600@anchorcovenant.org
SUMMARY:Work Day
DESCRIPTION:Help Wanted @ Anchor\nCome and go as you are able! We appreciate you!\nWe are getting there! Still painting walls\, trim pieces\, sanding tables for staining\, clean up\, and resetting of items. Contact Heidi Nevoso with any questions: hnevoso@gmail.com
URL:https://anchorcovenant.org/event/work-day-5/
LOCATION:Anchor Covenant Church\, 1229 Park Row\, Lake Geneva\, WI
ORGANIZER;CN="Heidi Nevoso":MAILTO:hnevoso@gmail.com
END:VEVENT
BEGIN:VEVENT
DTSTART;TZID=UTC:20230803T120000
DTEND;TZID=UTC:20230803T190000
DTSTAMP:20260425T132533
CREATED:20230731T190425Z
LAST-MODIFIED:20230731T190425Z
UID:10000011-1691064000-1691089200@anchorcovenant.org
SUMMARY:Work Day
DESCRIPTION:Help Wanted @ Anchor\nCome and go as you are able! We appreciate you!\nWe are getting there! Still painting walls\, trim pieces\, sanding tables for staining\, clean up\, and resetting of items. Contact Heidi Nevoso with any questions: hnevoso@gmail.com
URL:https://anchorcovenant.org/event/work-day-7/
LOCATION:Anchor Covenant Church\, 1229 Park Row\, Lake Geneva\, WI
ORGANIZER;CN="Heidi Nevoso":MAILTO:hnevoso@gmail.com
END:VEVENT
BEGIN:VEVENT
DTSTART;TZID=UTC:20230804T090000
DTEND;TZID=UTC:20230804T130000
DTSTAMP:20260425T132533
CREATED:20230731T190513Z
LAST-MODIFIED:20230731T190513Z
UID:10000012-1691139600-1691154000@anchorcovenant.org
SUMMARY:Work Day
DESCRIPTION:Help Wanted @ Anchor\nCome and go as you are able! We appreciate you!\nWe are getting there! Still painting walls\, trim pieces\, sanding tables for staining\, clean up\, and resetting of items. Contact Heidi Nevoso with any questions: hnevoso@gmail.com
URL:https://anchorcovenant.org/event/work-day-8/
LOCATION:Anchor Covenant Church\, 1229 Park Row\, Lake Geneva\, WI
ORGANIZER;CN="Heidi Nevoso":MAILTO:hnevoso@gmail.com
END:VEVENT
BEGIN:VEVENT
DTSTART;TZID=UTC:20230805T080000
DTEND;TZID=UTC:20230805T170000
DTSTAMP:20260425T132533
CREATED:20230731T190611Z
LAST-MODIFIED:20230731T190611Z
UID:10000013-1691222400-1691254800@anchorcovenant.org
SUMMARY:Work Day
DESCRIPTION:Help Wanted @ Anchor\nCome and go as you are able! We appreciate you!\nWe are getting there! Still painting walls\, trim pieces\, sanding tables for staining\, clean up\, and resetting of items. Contact Heidi Nevoso with any questions: hnevoso@gmail.com
URL:https://anchorcovenant.org/event/work-day-9/
LOCATION:Anchor Covenant Church\, 1229 Park Row\, Lake Geneva\, WI
ORGANIZER;CN="Heidi Nevoso":MAILTO:hnevoso@gmail.com
END:VEVENT
BEGIN:VEVENT
DTSTART;TZID=UTC:20230807T180000
DTEND;TZID=UTC:20230807T210000
DTSTAMP:20260425T132533
CREATED:20230731T190708Z
LAST-MODIFIED:20230731T190708Z
UID:10000014-1691431200-1691442000@anchorcovenant.org
SUMMARY:Work Day
DESCRIPTION:Help Wanted @ Anchor\nCome and go as you are able! We appreciate you!\nWe are getting there! Still painting walls\, trim pieces\, sanding tables for staining\, clean up\, and resetting of items. Contact Heidi Nevoso with any questions: hnevoso@gmail.com
URL:https://anchorcovenant.org/event/work-day-10/
LOCATION:Anchor Covenant Church\, 1229 Park Row\, Lake Geneva\, WI
ORGANIZER;CN="Heidi Nevoso":MAILTO:hnevoso@gmail.com
END:VEVENT
BEGIN:VEVENT
DTSTART;TZID=UTC:20230808T120000
DTEND;TZID=UTC:20230808T180000
DTSTAMP:20260425T132533
CREATED:20230731T190757Z
LAST-MODIFIED:20230731T190758Z
UID:10000015-1691496000-1691517600@anchorcovenant.org
SUMMARY:Work Day
DESCRIPTION:Help Wanted @ Anchor\nCome and go as you are able! We appreciate you!\nWe are getting there! Still painting walls\, trim pieces\, sanding tables for staining\, clean up\, and resetting of items. Contact Heidi Nevoso with any questions: hnevoso@gmail.com
URL:https://anchorcovenant.org/event/work-day-11/
LOCATION:Anchor Covenant Church\, 1229 Park Row\, Lake Geneva\, WI
ORGANIZER;CN="Heidi Nevoso":MAILTO:hnevoso@gmail.com
END:VEVENT
BEGIN:VEVENT
DTSTART;TZID=UTC:20230809T180000
DTEND;TZID=UTC:20230809T210000
DTSTAMP:20260425T132533
CREATED:20230731T190848Z
LAST-MODIFIED:20230731T190848Z
UID:10000016-1691604000-1691614800@anchorcovenant.org
SUMMARY:Work Day
DESCRIPTION:Help Wanted @ Anchor\nCome and go as you are able! We appreciate you!\nWe are getting there! Still painting walls\, trim pieces\, sanding tables for staining\, clean up\, and resetting of items. \nContact Heidi Nevoso with any questions: hnevoso@gmail.com
URL:https://anchorcovenant.org/event/work-day-12/
LOCATION:WI
END:VEVENT
BEGIN:VEVENT
DTSTART;TZID=UTC:20230814T180000
DTEND;TZID=UTC:20230814T200000
DTSTAMP:20260425T132533
CREATED:20230810T163254Z
LAST-MODIFIED:20230810T163544Z
UID:10000020-1692036000-1692043200@anchorcovenant.org
SUMMARY:Buoy68 Yogeeze & Beach
DESCRIPTION:
URL:https://anchorcovenant.org/event/buoy68-yogeeze-beach/
LOCATION:Yogeeze\, 253 Center St\, Lake Geneva\, WI\, 53147
ORGANIZER;CN="Laura Gowan":MAILTO:laura.gowan@anchorcovenant.org
END:VEVENT
BEGIN:VEVENT
DTSTART;TZID=UTC:20230817T171500
DTEND;TZID=UTC:20230817T171500
DTSTAMP:20260425T132533
CREATED:20230810T163914Z
LAST-MODIFIED:20230810T163914Z
UID:10000021-1692292500-1692292500@anchorcovenant.org
SUMMARY:BuoyHS Ski Show and Food Truck
DESCRIPTION: 
URL:https://anchorcovenant.org/event/buoyhs-ski-show-and-food-truck/
LOCATION:Anchor Covenant Church\, 1229 Park Row\, Lake Geneva\, WI
ORGANIZER;CN="Laura Gowan":MAILTO:laura.gowan@anchorcovenant.org
END:VEVENT
END:VCALENDAR