BEGIN:VCALENDAR
VERSION:2.0
PRODID:-//Anchor Covenant Church - ECPv6.15.20//NONSGML v1.0//EN
CALSCALE:GREGORIAN
METHOD:PUBLISH
X-ORIGINAL-URL:https://anchorcovenant.org
X-WR-CALDESC:Events for Anchor Covenant Church
REFRESH-INTERVAL;VALUE=DURATION:PT1H
X-Robots-Tag:noindex
X-PUBLISHED-TTL:PT1H
BEGIN:VTIMEZONE
TZID:UTC
BEGIN:STANDARD
TZOFFSETFROM:+0000
TZOFFSETTO:+0000
TZNAME:UTC
DTSTART:20270101T000000
END:STANDARD
END:VTIMEZONE
BEGIN:VEVENT
DTSTART;TZID=UTC:20280809T070000
DTEND;TZID=UTC:20280809T080000
DTSTAMP:20260425T153326
CREATED:20250731T124751Z
LAST-MODIFIED:20251216T215002Z
UID:10000417-1849417200-1849420800@anchorcovenant.org
SUMMARY:Men's Coffee
DESCRIPTION:Join us for Wednesday Men’s Coffee at 7:00am at Anchor Covenant Church. \nContact Pete for details: pjheintzelman@gmail.com
URL:https://anchorcovenant.org/event/mens-coffee-5/2028-08-09/
LOCATION:Anchor Covenant Church\, 1229 Park Row\, Lake Geneva\, WI
ATTACH;FMTTYPE=image/jpeg:https://anchorcovenant.org/wp-content/uploads/2025/07/unnamed-1.jpg
END:VEVENT
BEGIN:VEVENT
DTSTART;TZID=UTC:20280809T190000
DTEND;TZID=UTC:20280809T200000
DTSTAMP:20260425T153326
CREATED:20260114T155752Z
LAST-MODIFIED:20260325T134649Z
UID:10001370-1849460400-1849464000@anchorcovenant.org
SUMMARY:Young Adults Bible Study
DESCRIPTION:Join us Wednesdays at 7:00pm for the Young Adults Bible Study. \nFirst\, Third\, and Fifth Wednesdays we will meet at Anchor in the Buoy Room. \nSecond and Fourth Wednesdays we will be doing outings in the community\, contact Emma at emma.devries@anchorcovenant.org for details.
URL:https://anchorcovenant.org/event/young-adults-bible-study-2/2028-08-09/
LOCATION:Anchor Covenant Church\, 1229 Park Row\, Lake Geneva\, WI
ATTACH;FMTTYPE=image/png:https://anchorcovenant.org/wp-content/uploads/2026/01/unnamed-2026-03-25T084611.930.png
END:VEVENT
BEGIN:VEVENT
DTSTART;TZID=UTC:20280812T080000
DTEND;TZID=UTC:20280812T090000
DTSTAMP:20260425T153326
CREATED:20260115T181119Z
LAST-MODIFIED:20260304T214621Z
UID:10001631-1849680000-1849683600@anchorcovenant.org
SUMMARY:Hour of Prayer
DESCRIPTION:Please join us for an hour of prayer each week at Anchor hosted by El Buen Pastor\, every Saturday at 8:00am
URL:https://anchorcovenant.org/event/hour-of-prayer-2-2/2028-08-12/
LOCATION:Anchor Covenant Church\, 1229 Park Row\, Lake Geneva\, WI
ATTACH;FMTTYPE=image/png:https://anchorcovenant.org/wp-content/uploads/2026/01/unnamed-100.png
END:VEVENT
BEGIN:VEVENT
DTSTART;TZID=UTC:20280813T103000
DTEND;TZID=UTC:20280813T114500
DTSTAMP:20260425T153326
CREATED:20251216T220604Z
LAST-MODIFIED:20251216T220604Z
UID:10002110-1849775400-1849779900@anchorcovenant.org
SUMMARY:Service
DESCRIPTION:Join us every Sunday from 10:30-11:45 for our service online or in person at Anchor Covenant Church.
URL:https://anchorcovenant.org/event/service/2028-08-13/
LOCATION:Anchor Covenant Church\, 1229 Park Row\, Lake Geneva\, WI
ATTACH;FMTTYPE=image/png:https://anchorcovenant.org/wp-content/uploads/2025/12/Anchor.png
END:VEVENT
BEGIN:VEVENT
DTSTART;TZID=UTC:20280816T070000
DTEND;TZID=UTC:20280816T080000
DTSTAMP:20260425T153326
CREATED:20250731T124751Z
LAST-MODIFIED:20251216T215002Z
UID:10000418-1850022000-1850025600@anchorcovenant.org
SUMMARY:Men's Coffee
DESCRIPTION:Join us for Wednesday Men’s Coffee at 7:00am at Anchor Covenant Church. \nContact Pete for details: pjheintzelman@gmail.com
URL:https://anchorcovenant.org/event/mens-coffee-5/2028-08-16/
LOCATION:Anchor Covenant Church\, 1229 Park Row\, Lake Geneva\, WI
ATTACH;FMTTYPE=image/jpeg:https://anchorcovenant.org/wp-content/uploads/2025/07/unnamed-1.jpg
END:VEVENT
BEGIN:VEVENT
DTSTART;TZID=UTC:20280816T190000
DTEND;TZID=UTC:20280816T200000
DTSTAMP:20260425T153326
CREATED:20260114T155752Z
LAST-MODIFIED:20260325T134649Z
UID:10001371-1850065200-1850068800@anchorcovenant.org
SUMMARY:Young Adults Bible Study
DESCRIPTION:Join us Wednesdays at 7:00pm for the Young Adults Bible Study. \nFirst\, Third\, and Fifth Wednesdays we will meet at Anchor in the Buoy Room. \nSecond and Fourth Wednesdays we will be doing outings in the community\, contact Emma at emma.devries@anchorcovenant.org for details.
URL:https://anchorcovenant.org/event/young-adults-bible-study-2/2028-08-16/
LOCATION:Anchor Covenant Church\, 1229 Park Row\, Lake Geneva\, WI
ATTACH;FMTTYPE=image/png:https://anchorcovenant.org/wp-content/uploads/2026/01/unnamed-2026-03-25T084611.930.png
END:VEVENT
BEGIN:VEVENT
DTSTART;TZID=UTC:20280819T080000
DTEND;TZID=UTC:20280819T090000
DTSTAMP:20260425T153326
CREATED:20260115T181119Z
LAST-MODIFIED:20260304T214621Z
UID:10001632-1850284800-1850288400@anchorcovenant.org
SUMMARY:Hour of Prayer
DESCRIPTION:Please join us for an hour of prayer each week at Anchor hosted by El Buen Pastor\, every Saturday at 8:00am
URL:https://anchorcovenant.org/event/hour-of-prayer-2-2/2028-08-19/
LOCATION:Anchor Covenant Church\, 1229 Park Row\, Lake Geneva\, WI
ATTACH;FMTTYPE=image/png:https://anchorcovenant.org/wp-content/uploads/2026/01/unnamed-100.png
END:VEVENT
BEGIN:VEVENT
DTSTART;TZID=UTC:20280820T103000
DTEND;TZID=UTC:20280820T114500
DTSTAMP:20260425T153326
CREATED:20251216T220604Z
LAST-MODIFIED:20251216T220604Z
UID:10002111-1850380200-1850384700@anchorcovenant.org
SUMMARY:Service
DESCRIPTION:Join us every Sunday from 10:30-11:45 for our service online or in person at Anchor Covenant Church.
URL:https://anchorcovenant.org/event/service/2028-08-20/
LOCATION:Anchor Covenant Church\, 1229 Park Row\, Lake Geneva\, WI
ATTACH;FMTTYPE=image/png:https://anchorcovenant.org/wp-content/uploads/2025/12/Anchor.png
END:VEVENT
BEGIN:VEVENT
DTSTART;TZID=UTC:20280823T070000
DTEND;TZID=UTC:20280823T080000
DTSTAMP:20260425T153326
CREATED:20250731T124751Z
LAST-MODIFIED:20251216T215002Z
UID:10000419-1850626800-1850630400@anchorcovenant.org
SUMMARY:Men's Coffee
DESCRIPTION:Join us for Wednesday Men’s Coffee at 7:00am at Anchor Covenant Church. \nContact Pete for details: pjheintzelman@gmail.com
URL:https://anchorcovenant.org/event/mens-coffee-5/2028-08-23/
LOCATION:Anchor Covenant Church\, 1229 Park Row\, Lake Geneva\, WI
ATTACH;FMTTYPE=image/jpeg:https://anchorcovenant.org/wp-content/uploads/2025/07/unnamed-1.jpg
END:VEVENT
BEGIN:VEVENT
DTSTART;TZID=UTC:20280823T190000
DTEND;TZID=UTC:20280823T200000
DTSTAMP:20260425T153326
CREATED:20260114T155752Z
LAST-MODIFIED:20260325T134649Z
UID:10001372-1850670000-1850673600@anchorcovenant.org
SUMMARY:Young Adults Bible Study
DESCRIPTION:Join us Wednesdays at 7:00pm for the Young Adults Bible Study. \nFirst\, Third\, and Fifth Wednesdays we will meet at Anchor in the Buoy Room. \nSecond and Fourth Wednesdays we will be doing outings in the community\, contact Emma at emma.devries@anchorcovenant.org for details.
URL:https://anchorcovenant.org/event/young-adults-bible-study-2/2028-08-23/
LOCATION:Anchor Covenant Church\, 1229 Park Row\, Lake Geneva\, WI
ATTACH;FMTTYPE=image/png:https://anchorcovenant.org/wp-content/uploads/2026/01/unnamed-2026-03-25T084611.930.png
END:VEVENT
BEGIN:VEVENT
DTSTART;TZID=UTC:20280826T080000
DTEND;TZID=UTC:20280826T090000
DTSTAMP:20260425T153326
CREATED:20260115T181119Z
LAST-MODIFIED:20260304T214621Z
UID:10001633-1850889600-1850893200@anchorcovenant.org
SUMMARY:Hour of Prayer
DESCRIPTION:Please join us for an hour of prayer each week at Anchor hosted by El Buen Pastor\, every Saturday at 8:00am
URL:https://anchorcovenant.org/event/hour-of-prayer-2-2/2028-08-26/
LOCATION:Anchor Covenant Church\, 1229 Park Row\, Lake Geneva\, WI
ATTACH;FMTTYPE=image/png:https://anchorcovenant.org/wp-content/uploads/2026/01/unnamed-100.png
END:VEVENT
BEGIN:VEVENT
DTSTART;TZID=UTC:20280827T103000
DTEND;TZID=UTC:20280827T114500
DTSTAMP:20260425T153326
CREATED:20251216T220604Z
LAST-MODIFIED:20251216T220604Z
UID:10002112-1850985000-1850989500@anchorcovenant.org
SUMMARY:Service
DESCRIPTION:Join us every Sunday from 10:30-11:45 for our service online or in person at Anchor Covenant Church.
URL:https://anchorcovenant.org/event/service/2028-08-27/
LOCATION:Anchor Covenant Church\, 1229 Park Row\, Lake Geneva\, WI
ATTACH;FMTTYPE=image/png:https://anchorcovenant.org/wp-content/uploads/2025/12/Anchor.png
END:VEVENT
BEGIN:VEVENT
DTSTART;TZID=UTC:20280830T070000
DTEND;TZID=UTC:20280830T080000
DTSTAMP:20260425T153326
CREATED:20250731T124751Z
LAST-MODIFIED:20251216T215002Z
UID:10000420-1851231600-1851235200@anchorcovenant.org
SUMMARY:Men's Coffee
DESCRIPTION:Join us for Wednesday Men’s Coffee at 7:00am at Anchor Covenant Church. \nContact Pete for details: pjheintzelman@gmail.com
URL:https://anchorcovenant.org/event/mens-coffee-5/2028-08-30/
LOCATION:Anchor Covenant Church\, 1229 Park Row\, Lake Geneva\, WI
ATTACH;FMTTYPE=image/jpeg:https://anchorcovenant.org/wp-content/uploads/2025/07/unnamed-1.jpg
END:VEVENT
BEGIN:VEVENT
DTSTART;TZID=UTC:20280830T190000
DTEND;TZID=UTC:20280830T200000
DTSTAMP:20260425T153326
CREATED:20260114T155752Z
LAST-MODIFIED:20260325T134649Z
UID:10001373-1851274800-1851278400@anchorcovenant.org
SUMMARY:Young Adults Bible Study
DESCRIPTION:Join us Wednesdays at 7:00pm for the Young Adults Bible Study. \nFirst\, Third\, and Fifth Wednesdays we will meet at Anchor in the Buoy Room. \nSecond and Fourth Wednesdays we will be doing outings in the community\, contact Emma at emma.devries@anchorcovenant.org for details.
URL:https://anchorcovenant.org/event/young-adults-bible-study-2/2028-08-30/
LOCATION:Anchor Covenant Church\, 1229 Park Row\, Lake Geneva\, WI
ATTACH;FMTTYPE=image/png:https://anchorcovenant.org/wp-content/uploads/2026/01/unnamed-2026-03-25T084611.930.png
END:VEVENT
BEGIN:VEVENT
DTSTART;TZID=UTC:20280902T080000
DTEND;TZID=UTC:20280902T090000
DTSTAMP:20260425T153326
CREATED:20260115T181119Z
LAST-MODIFIED:20260304T214621Z
UID:10001634-1851494400-1851498000@anchorcovenant.org
SUMMARY:Hour of Prayer
DESCRIPTION:Please join us for an hour of prayer each week at Anchor hosted by El Buen Pastor\, every Saturday at 8:00am
URL:https://anchorcovenant.org/event/hour-of-prayer-2-2/2028-09-02/
LOCATION:Anchor Covenant Church\, 1229 Park Row\, Lake Geneva\, WI
ATTACH;FMTTYPE=image/png:https://anchorcovenant.org/wp-content/uploads/2026/01/unnamed-100.png
END:VEVENT
BEGIN:VEVENT
DTSTART;TZID=UTC:20280903T103000
DTEND;TZID=UTC:20280903T114500
DTSTAMP:20260425T153326
CREATED:20251216T220604Z
LAST-MODIFIED:20251216T220604Z
UID:10002113-1851589800-1851594300@anchorcovenant.org
SUMMARY:Service
DESCRIPTION:Join us every Sunday from 10:30-11:45 for our service online or in person at Anchor Covenant Church.
URL:https://anchorcovenant.org/event/service/2028-09-03/
LOCATION:Anchor Covenant Church\, 1229 Park Row\, Lake Geneva\, WI
ATTACH;FMTTYPE=image/png:https://anchorcovenant.org/wp-content/uploads/2025/12/Anchor.png
END:VEVENT
BEGIN:VEVENT
DTSTART;TZID=UTC:20280906T070000
DTEND;TZID=UTC:20280906T080000
DTSTAMP:20260425T153326
CREATED:20250731T124751Z
LAST-MODIFIED:20251216T215002Z
UID:10000421-1851836400-1851840000@anchorcovenant.org
SUMMARY:Men's Coffee
DESCRIPTION:Join us for Wednesday Men’s Coffee at 7:00am at Anchor Covenant Church. \nContact Pete for details: pjheintzelman@gmail.com
URL:https://anchorcovenant.org/event/mens-coffee-5/2028-09-06/
LOCATION:Anchor Covenant Church\, 1229 Park Row\, Lake Geneva\, WI
ATTACH;FMTTYPE=image/jpeg:https://anchorcovenant.org/wp-content/uploads/2025/07/unnamed-1.jpg
END:VEVENT
BEGIN:VEVENT
DTSTART;TZID=UTC:20280906T190000
DTEND;TZID=UTC:20280906T200000
DTSTAMP:20260425T153326
CREATED:20260114T155752Z
LAST-MODIFIED:20260325T134649Z
UID:10001374-1851879600-1851883200@anchorcovenant.org
SUMMARY:Young Adults Bible Study
DESCRIPTION:Join us Wednesdays at 7:00pm for the Young Adults Bible Study. \nFirst\, Third\, and Fifth Wednesdays we will meet at Anchor in the Buoy Room. \nSecond and Fourth Wednesdays we will be doing outings in the community\, contact Emma at emma.devries@anchorcovenant.org for details.
URL:https://anchorcovenant.org/event/young-adults-bible-study-2/2028-09-06/
LOCATION:Anchor Covenant Church\, 1229 Park Row\, Lake Geneva\, WI
ATTACH;FMTTYPE=image/png:https://anchorcovenant.org/wp-content/uploads/2026/01/unnamed-2026-03-25T084611.930.png
END:VEVENT
BEGIN:VEVENT
DTSTART;TZID=UTC:20280909T080000
DTEND;TZID=UTC:20280909T090000
DTSTAMP:20260425T153326
CREATED:20260115T181119Z
LAST-MODIFIED:20260304T214621Z
UID:10001635-1852099200-1852102800@anchorcovenant.org
SUMMARY:Hour of Prayer
DESCRIPTION:Please join us for an hour of prayer each week at Anchor hosted by El Buen Pastor\, every Saturday at 8:00am
URL:https://anchorcovenant.org/event/hour-of-prayer-2-2/2028-09-09/
LOCATION:Anchor Covenant Church\, 1229 Park Row\, Lake Geneva\, WI
ATTACH;FMTTYPE=image/png:https://anchorcovenant.org/wp-content/uploads/2026/01/unnamed-100.png
END:VEVENT
BEGIN:VEVENT
DTSTART;TZID=UTC:20280910T103000
DTEND;TZID=UTC:20280910T114500
DTSTAMP:20260425T153326
CREATED:20251216T220604Z
LAST-MODIFIED:20251216T220604Z
UID:10002114-1852194600-1852199100@anchorcovenant.org
SUMMARY:Service
DESCRIPTION:Join us every Sunday from 10:30-11:45 for our service online or in person at Anchor Covenant Church.
URL:https://anchorcovenant.org/event/service/2028-09-10/
LOCATION:Anchor Covenant Church\, 1229 Park Row\, Lake Geneva\, WI
ATTACH;FMTTYPE=image/png:https://anchorcovenant.org/wp-content/uploads/2025/12/Anchor.png
END:VEVENT
BEGIN:VEVENT
DTSTART;TZID=UTC:20280913T070000
DTEND;TZID=UTC:20280913T080000
DTSTAMP:20260425T153326
CREATED:20250731T124751Z
LAST-MODIFIED:20251216T215002Z
UID:10000422-1852441200-1852444800@anchorcovenant.org
SUMMARY:Men's Coffee
DESCRIPTION:Join us for Wednesday Men’s Coffee at 7:00am at Anchor Covenant Church. \nContact Pete for details: pjheintzelman@gmail.com
URL:https://anchorcovenant.org/event/mens-coffee-5/2028-09-13/
LOCATION:Anchor Covenant Church\, 1229 Park Row\, Lake Geneva\, WI
ATTACH;FMTTYPE=image/jpeg:https://anchorcovenant.org/wp-content/uploads/2025/07/unnamed-1.jpg
END:VEVENT
BEGIN:VEVENT
DTSTART;TZID=UTC:20280913T190000
DTEND;TZID=UTC:20280913T200000
DTSTAMP:20260425T153326
CREATED:20260114T155752Z
LAST-MODIFIED:20260325T134649Z
UID:10001375-1852484400-1852488000@anchorcovenant.org
SUMMARY:Young Adults Bible Study
DESCRIPTION:Join us Wednesdays at 7:00pm for the Young Adults Bible Study. \nFirst\, Third\, and Fifth Wednesdays we will meet at Anchor in the Buoy Room. \nSecond and Fourth Wednesdays we will be doing outings in the community\, contact Emma at emma.devries@anchorcovenant.org for details.
URL:https://anchorcovenant.org/event/young-adults-bible-study-2/2028-09-13/
LOCATION:Anchor Covenant Church\, 1229 Park Row\, Lake Geneva\, WI
ATTACH;FMTTYPE=image/png:https://anchorcovenant.org/wp-content/uploads/2026/01/unnamed-2026-03-25T084611.930.png
END:VEVENT
BEGIN:VEVENT
DTSTART;TZID=UTC:20280916T080000
DTEND;TZID=UTC:20280916T090000
DTSTAMP:20260425T153326
CREATED:20260115T181119Z
LAST-MODIFIED:20260304T214621Z
UID:10001636-1852704000-1852707600@anchorcovenant.org
SUMMARY:Hour of Prayer
DESCRIPTION:Please join us for an hour of prayer each week at Anchor hosted by El Buen Pastor\, every Saturday at 8:00am
URL:https://anchorcovenant.org/event/hour-of-prayer-2-2/2028-09-16/
LOCATION:Anchor Covenant Church\, 1229 Park Row\, Lake Geneva\, WI
ATTACH;FMTTYPE=image/png:https://anchorcovenant.org/wp-content/uploads/2026/01/unnamed-100.png
END:VEVENT
BEGIN:VEVENT
DTSTART;TZID=UTC:20280917T103000
DTEND;TZID=UTC:20280917T114500
DTSTAMP:20260425T153326
CREATED:20251216T220604Z
LAST-MODIFIED:20251216T220604Z
UID:10002115-1852799400-1852803900@anchorcovenant.org
SUMMARY:Service
DESCRIPTION:Join us every Sunday from 10:30-11:45 for our service online or in person at Anchor Covenant Church.
URL:https://anchorcovenant.org/event/service/2028-09-17/
LOCATION:Anchor Covenant Church\, 1229 Park Row\, Lake Geneva\, WI
ATTACH;FMTTYPE=image/png:https://anchorcovenant.org/wp-content/uploads/2025/12/Anchor.png
END:VEVENT
BEGIN:VEVENT
DTSTART;TZID=UTC:20280920T070000
DTEND;TZID=UTC:20280920T080000
DTSTAMP:20260425T153326
CREATED:20250731T124751Z
LAST-MODIFIED:20251216T215002Z
UID:10000423-1853046000-1853049600@anchorcovenant.org
SUMMARY:Men's Coffee
DESCRIPTION:Join us for Wednesday Men’s Coffee at 7:00am at Anchor Covenant Church. \nContact Pete for details: pjheintzelman@gmail.com
URL:https://anchorcovenant.org/event/mens-coffee-5/2028-09-20/
LOCATION:Anchor Covenant Church\, 1229 Park Row\, Lake Geneva\, WI
ATTACH;FMTTYPE=image/jpeg:https://anchorcovenant.org/wp-content/uploads/2025/07/unnamed-1.jpg
END:VEVENT
BEGIN:VEVENT
DTSTART;TZID=UTC:20280920T190000
DTEND;TZID=UTC:20280920T200000
DTSTAMP:20260425T153326
CREATED:20260114T155752Z
LAST-MODIFIED:20260325T134649Z
UID:10001376-1853089200-1853092800@anchorcovenant.org
SUMMARY:Young Adults Bible Study
DESCRIPTION:Join us Wednesdays at 7:00pm for the Young Adults Bible Study. \nFirst\, Third\, and Fifth Wednesdays we will meet at Anchor in the Buoy Room. \nSecond and Fourth Wednesdays we will be doing outings in the community\, contact Emma at emma.devries@anchorcovenant.org for details.
URL:https://anchorcovenant.org/event/young-adults-bible-study-2/2028-09-20/
LOCATION:Anchor Covenant Church\, 1229 Park Row\, Lake Geneva\, WI
ATTACH;FMTTYPE=image/png:https://anchorcovenant.org/wp-content/uploads/2026/01/unnamed-2026-03-25T084611.930.png
END:VEVENT
BEGIN:VEVENT
DTSTART;TZID=UTC:20280923T080000
DTEND;TZID=UTC:20280923T090000
DTSTAMP:20260425T153326
CREATED:20260115T181119Z
LAST-MODIFIED:20260304T214621Z
UID:10001637-1853308800-1853312400@anchorcovenant.org
SUMMARY:Hour of Prayer
DESCRIPTION:Please join us for an hour of prayer each week at Anchor hosted by El Buen Pastor\, every Saturday at 8:00am
URL:https://anchorcovenant.org/event/hour-of-prayer-2-2/2028-09-23/
LOCATION:Anchor Covenant Church\, 1229 Park Row\, Lake Geneva\, WI
ATTACH;FMTTYPE=image/png:https://anchorcovenant.org/wp-content/uploads/2026/01/unnamed-100.png
END:VEVENT
BEGIN:VEVENT
DTSTART;TZID=UTC:20280924T103000
DTEND;TZID=UTC:20280924T114500
DTSTAMP:20260425T153326
CREATED:20251216T220604Z
LAST-MODIFIED:20251216T220604Z
UID:10002116-1853404200-1853408700@anchorcovenant.org
SUMMARY:Service
DESCRIPTION:Join us every Sunday from 10:30-11:45 for our service online or in person at Anchor Covenant Church.
URL:https://anchorcovenant.org/event/service/2028-09-24/
LOCATION:Anchor Covenant Church\, 1229 Park Row\, Lake Geneva\, WI
ATTACH;FMTTYPE=image/png:https://anchorcovenant.org/wp-content/uploads/2025/12/Anchor.png
END:VEVENT
BEGIN:VEVENT
DTSTART;TZID=UTC:20280927T070000
DTEND;TZID=UTC:20280927T080000
DTSTAMP:20260425T153326
CREATED:20250731T124751Z
LAST-MODIFIED:20251216T215002Z
UID:10000424-1853650800-1853654400@anchorcovenant.org
SUMMARY:Men's Coffee
DESCRIPTION:Join us for Wednesday Men’s Coffee at 7:00am at Anchor Covenant Church. \nContact Pete for details: pjheintzelman@gmail.com
URL:https://anchorcovenant.org/event/mens-coffee-5/2028-09-27/
LOCATION:Anchor Covenant Church\, 1229 Park Row\, Lake Geneva\, WI
ATTACH;FMTTYPE=image/jpeg:https://anchorcovenant.org/wp-content/uploads/2025/07/unnamed-1.jpg
END:VEVENT
BEGIN:VEVENT
DTSTART;TZID=UTC:20280927T190000
DTEND;TZID=UTC:20280927T200000
DTSTAMP:20260425T153326
CREATED:20260114T155752Z
LAST-MODIFIED:20260325T134649Z
UID:10001377-1853694000-1853697600@anchorcovenant.org
SUMMARY:Young Adults Bible Study
DESCRIPTION:Join us Wednesdays at 7:00pm for the Young Adults Bible Study. \nFirst\, Third\, and Fifth Wednesdays we will meet at Anchor in the Buoy Room. \nSecond and Fourth Wednesdays we will be doing outings in the community\, contact Emma at emma.devries@anchorcovenant.org for details.
URL:https://anchorcovenant.org/event/young-adults-bible-study-2/2028-09-27/
LOCATION:Anchor Covenant Church\, 1229 Park Row\, Lake Geneva\, WI
ATTACH;FMTTYPE=image/png:https://anchorcovenant.org/wp-content/uploads/2026/01/unnamed-2026-03-25T084611.930.png
END:VEVENT
END:VCALENDAR