BEGIN:VCALENDAR
VERSION:2.0
PRODID:-//Anchor Covenant Church - ECPv6.15.20//NONSGML v1.0//EN
CALSCALE:GREGORIAN
METHOD:PUBLISH
X-ORIGINAL-URL:https://anchorcovenant.org
X-WR-CALDESC:Events for Anchor Covenant Church
REFRESH-INTERVAL;VALUE=DURATION:PT1H
X-Robots-Tag:noindex
X-PUBLISHED-TTL:PT1H
BEGIN:VTIMEZONE
TZID:UTC
BEGIN:STANDARD
TZOFFSETFROM:+0000
TZOFFSETTO:+0000
TZNAME:UTC
DTSTART:20260101T000000
END:STANDARD
END:VTIMEZONE
BEGIN:VEVENT
DTSTART;TZID=UTC:20270306T080000
DTEND;TZID=UTC:20270306T090000
DTSTAMP:20260424T162151
CREATED:20260115T181119Z
LAST-MODIFIED:20260304T214621Z
UID:10001556-1804320000-1804323600@anchorcovenant.org
SUMMARY:Hour of Prayer
DESCRIPTION:Please join us for an hour of prayer each week at Anchor hosted by El Buen Pastor\, every Saturday at 8:00am
URL:https://anchorcovenant.org/event/hour-of-prayer-2-2/2027-03-06/
LOCATION:Anchor Covenant Church\, 1229 Park Row\, Lake Geneva\, WI
ATTACH;FMTTYPE=image/png:https://anchorcovenant.org/wp-content/uploads/2026/01/unnamed-100.png
END:VEVENT
BEGIN:VEVENT
DTSTART;TZID=UTC:20270307T093000
DTEND;TZID=UTC:20270307T101500
DTSTAMP:20260424T162151
CREATED:20260325T133604Z
LAST-MODIFIED:20260325T133742Z
UID:10001813-1804411800-1804414500@anchorcovenant.org
SUMMARY:Grow
DESCRIPTION:Join us for Grow every Sunday from 9:30-10:15.
URL:https://anchorcovenant.org/event/grow-2/2027-03-07/
ATTACH;FMTTYPE=image/jpeg:https://anchorcovenant.org/wp-content/uploads/2025/12/unnamed-9.jpg
END:VEVENT
BEGIN:VEVENT
DTSTART;TZID=UTC:20270307T103000
DTEND;TZID=UTC:20270307T114500
DTSTAMP:20260424T162151
CREATED:20251216T220604Z
LAST-MODIFIED:20251216T220604Z
UID:10002035-1804415400-1804419900@anchorcovenant.org
SUMMARY:Service
DESCRIPTION:Join us every Sunday from 10:30-11:45 for our service online or in person at Anchor Covenant Church.
URL:https://anchorcovenant.org/event/service/2027-03-07/
LOCATION:Anchor Covenant Church\, 1229 Park Row\, Lake Geneva\, WI
ATTACH;FMTTYPE=image/png:https://anchorcovenant.org/wp-content/uploads/2025/12/Anchor.png
END:VEVENT
BEGIN:VEVENT
DTSTART;TZID=UTC:20270307T160000
DTEND;TZID=UTC:20270307T180000
DTSTAMP:20260424T162151
CREATED:20250826T180922Z
LAST-MODIFIED:20260325T134226Z
UID:10001957-1804435200-1804442400@anchorcovenant.org
SUMMARY:Buoy 68
DESCRIPTION:All Middle Schoolers welcome. \nJoin us for Buoy at Anchor Covenant Church every Sunday from 4-6pm.
URL:https://anchorcovenant.org/event/buoy-68/2027-03-07/
ATTACH;FMTTYPE=image/png:https://anchorcovenant.org/wp-content/uploads/2025/08/Screenshot-2025-09-18-at-11.47.20-AM.png
END:VEVENT
BEGIN:VEVENT
DTSTART;TZID=UTC:20270307T170000
DTEND;TZID=UTC:20270307T190000
DTSTAMP:20260424T162151
CREATED:20250826T181055Z
LAST-MODIFIED:20260325T134306Z
UID:10001886-1804438800-1804446000@anchorcovenant.org
SUMMARY:Buoy HS
DESCRIPTION:All High Schoolers welcome. \nJoin us for Buoy at Anchor Covenant Church every Sunday from 5-7 pm.
URL:https://anchorcovenant.org/event/buoy-hs/2027-03-07/
ATTACH;FMTTYPE=image/webp:https://anchorcovenant.org/wp-content/uploads/2025/08/Screenshot-2025-09-18-at-11.47.20-AM.webp
END:VEVENT
BEGIN:VEVENT
DTSTART;TZID=UTC:20270310T070000
DTEND;TZID=UTC:20270310T080000
DTSTAMP:20260424T162151
CREATED:20250731T124751Z
LAST-MODIFIED:20251216T215002Z
UID:10000343-1804662000-1804665600@anchorcovenant.org
SUMMARY:Men's Coffee
DESCRIPTION:Join us for Wednesday Men’s Coffee at 7:00am at Anchor Covenant Church. \nContact Pete for details: pjheintzelman@gmail.com
URL:https://anchorcovenant.org/event/mens-coffee-5/2027-03-10/
LOCATION:Anchor Covenant Church\, 1229 Park Row\, Lake Geneva\, WI
ATTACH;FMTTYPE=image/jpeg:https://anchorcovenant.org/wp-content/uploads/2025/07/unnamed-1.jpg
END:VEVENT
BEGIN:VEVENT
DTSTART;TZID=UTC:20270310T190000
DTEND;TZID=UTC:20270310T200000
DTSTAMP:20260424T162151
CREATED:20260114T155752Z
LAST-MODIFIED:20260325T134649Z
UID:10001296-1804705200-1804708800@anchorcovenant.org
SUMMARY:Young Adults Bible Study
DESCRIPTION:Join us Wednesdays at 7:00pm for the Young Adults Bible Study. \nFirst\, Third\, and Fifth Wednesdays we will meet at Anchor in the Buoy Room. \nSecond and Fourth Wednesdays we will be doing outings in the community\, contact Emma at emma.devries@anchorcovenant.org for details.
URL:https://anchorcovenant.org/event/young-adults-bible-study-2/2027-03-10/
LOCATION:Anchor Covenant Church\, 1229 Park Row\, Lake Geneva\, WI
ATTACH;FMTTYPE=image/png:https://anchorcovenant.org/wp-content/uploads/2026/01/unnamed-2026-03-25T084611.930.png
END:VEVENT
BEGIN:VEVENT
DTSTART;TZID=UTC:20270313T080000
DTEND;TZID=UTC:20270313T090000
DTSTAMP:20260424T162151
CREATED:20260115T181119Z
LAST-MODIFIED:20260304T214621Z
UID:10001557-1804924800-1804928400@anchorcovenant.org
SUMMARY:Hour of Prayer
DESCRIPTION:Please join us for an hour of prayer each week at Anchor hosted by El Buen Pastor\, every Saturday at 8:00am
URL:https://anchorcovenant.org/event/hour-of-prayer-2-2/2027-03-13/
LOCATION:Anchor Covenant Church\, 1229 Park Row\, Lake Geneva\, WI
ATTACH;FMTTYPE=image/png:https://anchorcovenant.org/wp-content/uploads/2026/01/unnamed-100.png
END:VEVENT
BEGIN:VEVENT
DTSTART;TZID=UTC:20270314T093000
DTEND;TZID=UTC:20270314T101500
DTSTAMP:20260424T162151
CREATED:20260325T133604Z
LAST-MODIFIED:20260325T133742Z
UID:10001814-1805016600-1805019300@anchorcovenant.org
SUMMARY:Grow
DESCRIPTION:Join us for Grow every Sunday from 9:30-10:15.
URL:https://anchorcovenant.org/event/grow-2/2027-03-14/
ATTACH;FMTTYPE=image/jpeg:https://anchorcovenant.org/wp-content/uploads/2025/12/unnamed-9.jpg
END:VEVENT
BEGIN:VEVENT
DTSTART;TZID=UTC:20270314T103000
DTEND;TZID=UTC:20270314T114500
DTSTAMP:20260424T162151
CREATED:20251216T220604Z
LAST-MODIFIED:20251216T220604Z
UID:10002036-1805020200-1805024700@anchorcovenant.org
SUMMARY:Service
DESCRIPTION:Join us every Sunday from 10:30-11:45 for our service online or in person at Anchor Covenant Church.
URL:https://anchorcovenant.org/event/service/2027-03-14/
LOCATION:Anchor Covenant Church\, 1229 Park Row\, Lake Geneva\, WI
ATTACH;FMTTYPE=image/png:https://anchorcovenant.org/wp-content/uploads/2025/12/Anchor.png
END:VEVENT
BEGIN:VEVENT
DTSTART;TZID=UTC:20270314T160000
DTEND;TZID=UTC:20270314T180000
DTSTAMP:20260424T162151
CREATED:20250826T180922Z
LAST-MODIFIED:20260325T134226Z
UID:10001958-1805040000-1805047200@anchorcovenant.org
SUMMARY:Buoy 68
DESCRIPTION:All Middle Schoolers welcome. \nJoin us for Buoy at Anchor Covenant Church every Sunday from 4-6pm.
URL:https://anchorcovenant.org/event/buoy-68/2027-03-14/
ATTACH;FMTTYPE=image/png:https://anchorcovenant.org/wp-content/uploads/2025/08/Screenshot-2025-09-18-at-11.47.20-AM.png
END:VEVENT
BEGIN:VEVENT
DTSTART;TZID=UTC:20270314T170000
DTEND;TZID=UTC:20270314T190000
DTSTAMP:20260424T162151
CREATED:20250826T181055Z
LAST-MODIFIED:20260325T134306Z
UID:10001887-1805043600-1805050800@anchorcovenant.org
SUMMARY:Buoy HS
DESCRIPTION:All High Schoolers welcome. \nJoin us for Buoy at Anchor Covenant Church every Sunday from 5-7 pm.
URL:https://anchorcovenant.org/event/buoy-hs/2027-03-14/
ATTACH;FMTTYPE=image/webp:https://anchorcovenant.org/wp-content/uploads/2025/08/Screenshot-2025-09-18-at-11.47.20-AM.webp
END:VEVENT
BEGIN:VEVENT
DTSTART;TZID=UTC:20270317T070000
DTEND;TZID=UTC:20270317T080000
DTSTAMP:20260424T162151
CREATED:20250731T124751Z
LAST-MODIFIED:20251216T215002Z
UID:10000344-1805266800-1805270400@anchorcovenant.org
SUMMARY:Men's Coffee
DESCRIPTION:Join us for Wednesday Men’s Coffee at 7:00am at Anchor Covenant Church. \nContact Pete for details: pjheintzelman@gmail.com
URL:https://anchorcovenant.org/event/mens-coffee-5/2027-03-17/
LOCATION:Anchor Covenant Church\, 1229 Park Row\, Lake Geneva\, WI
ATTACH;FMTTYPE=image/jpeg:https://anchorcovenant.org/wp-content/uploads/2025/07/unnamed-1.jpg
END:VEVENT
BEGIN:VEVENT
DTSTART;TZID=UTC:20270317T190000
DTEND;TZID=UTC:20270317T200000
DTSTAMP:20260424T162151
CREATED:20260114T155752Z
LAST-MODIFIED:20260325T134649Z
UID:10001297-1805310000-1805313600@anchorcovenant.org
SUMMARY:Young Adults Bible Study
DESCRIPTION:Join us Wednesdays at 7:00pm for the Young Adults Bible Study. \nFirst\, Third\, and Fifth Wednesdays we will meet at Anchor in the Buoy Room. \nSecond and Fourth Wednesdays we will be doing outings in the community\, contact Emma at emma.devries@anchorcovenant.org for details.
URL:https://anchorcovenant.org/event/young-adults-bible-study-2/2027-03-17/
LOCATION:Anchor Covenant Church\, 1229 Park Row\, Lake Geneva\, WI
ATTACH;FMTTYPE=image/png:https://anchorcovenant.org/wp-content/uploads/2026/01/unnamed-2026-03-25T084611.930.png
END:VEVENT
BEGIN:VEVENT
DTSTART;TZID=UTC:20270320T080000
DTEND;TZID=UTC:20270320T090000
DTSTAMP:20260424T162151
CREATED:20260115T181119Z
LAST-MODIFIED:20260304T214621Z
UID:10001558-1805529600-1805533200@anchorcovenant.org
SUMMARY:Hour of Prayer
DESCRIPTION:Please join us for an hour of prayer each week at Anchor hosted by El Buen Pastor\, every Saturday at 8:00am
URL:https://anchorcovenant.org/event/hour-of-prayer-2-2/2027-03-20/
LOCATION:Anchor Covenant Church\, 1229 Park Row\, Lake Geneva\, WI
ATTACH;FMTTYPE=image/png:https://anchorcovenant.org/wp-content/uploads/2026/01/unnamed-100.png
END:VEVENT
BEGIN:VEVENT
DTSTART;TZID=UTC:20270321T093000
DTEND;TZID=UTC:20270321T101500
DTSTAMP:20260424T162151
CREATED:20260325T133604Z
LAST-MODIFIED:20260325T133742Z
UID:10001815-1805621400-1805624100@anchorcovenant.org
SUMMARY:Grow
DESCRIPTION:Join us for Grow every Sunday from 9:30-10:15.
URL:https://anchorcovenant.org/event/grow-2/2027-03-21/
ATTACH;FMTTYPE=image/jpeg:https://anchorcovenant.org/wp-content/uploads/2025/12/unnamed-9.jpg
END:VEVENT
BEGIN:VEVENT
DTSTART;TZID=UTC:20270321T103000
DTEND;TZID=UTC:20270321T114500
DTSTAMP:20260424T162151
CREATED:20251216T220604Z
LAST-MODIFIED:20251216T220604Z
UID:10002037-1805625000-1805629500@anchorcovenant.org
SUMMARY:Service
DESCRIPTION:Join us every Sunday from 10:30-11:45 for our service online or in person at Anchor Covenant Church.
URL:https://anchorcovenant.org/event/service/2027-03-21/
LOCATION:Anchor Covenant Church\, 1229 Park Row\, Lake Geneva\, WI
ATTACH;FMTTYPE=image/png:https://anchorcovenant.org/wp-content/uploads/2025/12/Anchor.png
END:VEVENT
BEGIN:VEVENT
DTSTART;TZID=UTC:20270321T160000
DTEND;TZID=UTC:20270321T180000
DTSTAMP:20260424T162151
CREATED:20250826T180922Z
LAST-MODIFIED:20260325T134226Z
UID:10001959-1805644800-1805652000@anchorcovenant.org
SUMMARY:Buoy 68
DESCRIPTION:All Middle Schoolers welcome. \nJoin us for Buoy at Anchor Covenant Church every Sunday from 4-6pm.
URL:https://anchorcovenant.org/event/buoy-68/2027-03-21/
ATTACH;FMTTYPE=image/png:https://anchorcovenant.org/wp-content/uploads/2025/08/Screenshot-2025-09-18-at-11.47.20-AM.png
END:VEVENT
BEGIN:VEVENT
DTSTART;TZID=UTC:20270321T170000
DTEND;TZID=UTC:20270321T190000
DTSTAMP:20260424T162151
CREATED:20250826T181055Z
LAST-MODIFIED:20260325T134306Z
UID:10001888-1805648400-1805655600@anchorcovenant.org
SUMMARY:Buoy HS
DESCRIPTION:All High Schoolers welcome. \nJoin us for Buoy at Anchor Covenant Church every Sunday from 5-7 pm.
URL:https://anchorcovenant.org/event/buoy-hs/2027-03-21/
ATTACH;FMTTYPE=image/webp:https://anchorcovenant.org/wp-content/uploads/2025/08/Screenshot-2025-09-18-at-11.47.20-AM.webp
END:VEVENT
BEGIN:VEVENT
DTSTART;TZID=UTC:20270324T070000
DTEND;TZID=UTC:20270324T080000
DTSTAMP:20260424T162151
CREATED:20250731T124751Z
LAST-MODIFIED:20251216T215002Z
UID:10000345-1805871600-1805875200@anchorcovenant.org
SUMMARY:Men's Coffee
DESCRIPTION:Join us for Wednesday Men’s Coffee at 7:00am at Anchor Covenant Church. \nContact Pete for details: pjheintzelman@gmail.com
URL:https://anchorcovenant.org/event/mens-coffee-5/2027-03-24/
LOCATION:Anchor Covenant Church\, 1229 Park Row\, Lake Geneva\, WI
ATTACH;FMTTYPE=image/jpeg:https://anchorcovenant.org/wp-content/uploads/2025/07/unnamed-1.jpg
END:VEVENT
BEGIN:VEVENT
DTSTART;TZID=UTC:20270324T190000
DTEND;TZID=UTC:20270324T200000
DTSTAMP:20260424T162151
CREATED:20260114T155752Z
LAST-MODIFIED:20260325T134649Z
UID:10001298-1805914800-1805918400@anchorcovenant.org
SUMMARY:Young Adults Bible Study
DESCRIPTION:Join us Wednesdays at 7:00pm for the Young Adults Bible Study. \nFirst\, Third\, and Fifth Wednesdays we will meet at Anchor in the Buoy Room. \nSecond and Fourth Wednesdays we will be doing outings in the community\, contact Emma at emma.devries@anchorcovenant.org for details.
URL:https://anchorcovenant.org/event/young-adults-bible-study-2/2027-03-24/
LOCATION:Anchor Covenant Church\, 1229 Park Row\, Lake Geneva\, WI
ATTACH;FMTTYPE=image/png:https://anchorcovenant.org/wp-content/uploads/2026/01/unnamed-2026-03-25T084611.930.png
END:VEVENT
BEGIN:VEVENT
DTSTART;TZID=UTC:20270327T080000
DTEND;TZID=UTC:20270327T090000
DTSTAMP:20260424T162151
CREATED:20260115T181119Z
LAST-MODIFIED:20260304T214621Z
UID:10001559-1806134400-1806138000@anchorcovenant.org
SUMMARY:Hour of Prayer
DESCRIPTION:Please join us for an hour of prayer each week at Anchor hosted by El Buen Pastor\, every Saturday at 8:00am
URL:https://anchorcovenant.org/event/hour-of-prayer-2-2/2027-03-27/
LOCATION:Anchor Covenant Church\, 1229 Park Row\, Lake Geneva\, WI
ATTACH;FMTTYPE=image/png:https://anchorcovenant.org/wp-content/uploads/2026/01/unnamed-100.png
END:VEVENT
BEGIN:VEVENT
DTSTART;TZID=UTC:20270328T093000
DTEND;TZID=UTC:20270328T101500
DTSTAMP:20260424T162151
CREATED:20260325T133604Z
LAST-MODIFIED:20260325T133742Z
UID:10001816-1806226200-1806228900@anchorcovenant.org
SUMMARY:Grow
DESCRIPTION:Join us for Grow every Sunday from 9:30-10:15.
URL:https://anchorcovenant.org/event/grow-2/2027-03-28/
ATTACH;FMTTYPE=image/jpeg:https://anchorcovenant.org/wp-content/uploads/2025/12/unnamed-9.jpg
END:VEVENT
BEGIN:VEVENT
DTSTART;TZID=UTC:20270328T103000
DTEND;TZID=UTC:20270328T114500
DTSTAMP:20260424T162151
CREATED:20251216T220604Z
LAST-MODIFIED:20251216T220604Z
UID:10002038-1806229800-1806234300@anchorcovenant.org
SUMMARY:Service
DESCRIPTION:Join us every Sunday from 10:30-11:45 for our service online or in person at Anchor Covenant Church.
URL:https://anchorcovenant.org/event/service/2027-03-28/
LOCATION:Anchor Covenant Church\, 1229 Park Row\, Lake Geneva\, WI
ATTACH;FMTTYPE=image/png:https://anchorcovenant.org/wp-content/uploads/2025/12/Anchor.png
END:VEVENT
BEGIN:VEVENT
DTSTART;TZID=UTC:20270328T160000
DTEND;TZID=UTC:20270328T180000
DTSTAMP:20260424T162151
CREATED:20250826T180922Z
LAST-MODIFIED:20260325T134226Z
UID:10001960-1806249600-1806256800@anchorcovenant.org
SUMMARY:Buoy 68
DESCRIPTION:All Middle Schoolers welcome. \nJoin us for Buoy at Anchor Covenant Church every Sunday from 4-6pm.
URL:https://anchorcovenant.org/event/buoy-68/2027-03-28/
ATTACH;FMTTYPE=image/png:https://anchorcovenant.org/wp-content/uploads/2025/08/Screenshot-2025-09-18-at-11.47.20-AM.png
END:VEVENT
BEGIN:VEVENT
DTSTART;TZID=UTC:20270328T170000
DTEND;TZID=UTC:20270328T190000
DTSTAMP:20260424T162151
CREATED:20250826T181055Z
LAST-MODIFIED:20260325T134306Z
UID:10001889-1806253200-1806260400@anchorcovenant.org
SUMMARY:Buoy HS
DESCRIPTION:All High Schoolers welcome. \nJoin us for Buoy at Anchor Covenant Church every Sunday from 5-7 pm.
URL:https://anchorcovenant.org/event/buoy-hs/2027-03-28/
ATTACH;FMTTYPE=image/webp:https://anchorcovenant.org/wp-content/uploads/2025/08/Screenshot-2025-09-18-at-11.47.20-AM.webp
END:VEVENT
BEGIN:VEVENT
DTSTART;TZID=UTC:20270331T070000
DTEND;TZID=UTC:20270331T080000
DTSTAMP:20260424T162151
CREATED:20250731T124751Z
LAST-MODIFIED:20251216T215002Z
UID:10000346-1806476400-1806480000@anchorcovenant.org
SUMMARY:Men's Coffee
DESCRIPTION:Join us for Wednesday Men’s Coffee at 7:00am at Anchor Covenant Church. \nContact Pete for details: pjheintzelman@gmail.com
URL:https://anchorcovenant.org/event/mens-coffee-5/2027-03-31/
LOCATION:Anchor Covenant Church\, 1229 Park Row\, Lake Geneva\, WI
ATTACH;FMTTYPE=image/jpeg:https://anchorcovenant.org/wp-content/uploads/2025/07/unnamed-1.jpg
END:VEVENT
BEGIN:VEVENT
DTSTART;TZID=UTC:20270331T190000
DTEND;TZID=UTC:20270331T200000
DTSTAMP:20260424T162151
CREATED:20260114T155752Z
LAST-MODIFIED:20260325T134649Z
UID:10001299-1806519600-1806523200@anchorcovenant.org
SUMMARY:Young Adults Bible Study
DESCRIPTION:Join us Wednesdays at 7:00pm for the Young Adults Bible Study. \nFirst\, Third\, and Fifth Wednesdays we will meet at Anchor in the Buoy Room. \nSecond and Fourth Wednesdays we will be doing outings in the community\, contact Emma at emma.devries@anchorcovenant.org for details.
URL:https://anchorcovenant.org/event/young-adults-bible-study-2/2027-03-31/
LOCATION:Anchor Covenant Church\, 1229 Park Row\, Lake Geneva\, WI
ATTACH;FMTTYPE=image/png:https://anchorcovenant.org/wp-content/uploads/2026/01/unnamed-2026-03-25T084611.930.png
END:VEVENT
BEGIN:VEVENT
DTSTART;TZID=UTC:20270403T080000
DTEND;TZID=UTC:20270403T090000
DTSTAMP:20260424T162151
CREATED:20260115T181119Z
LAST-MODIFIED:20260304T214621Z
UID:10001560-1806739200-1806742800@anchorcovenant.org
SUMMARY:Hour of Prayer
DESCRIPTION:Please join us for an hour of prayer each week at Anchor hosted by El Buen Pastor\, every Saturday at 8:00am
URL:https://anchorcovenant.org/event/hour-of-prayer-2-2/2027-04-03/
LOCATION:Anchor Covenant Church\, 1229 Park Row\, Lake Geneva\, WI
ATTACH;FMTTYPE=image/png:https://anchorcovenant.org/wp-content/uploads/2026/01/unnamed-100.png
END:VEVENT
BEGIN:VEVENT
DTSTART;TZID=UTC:20270404T093000
DTEND;TZID=UTC:20270404T101500
DTSTAMP:20260424T162151
CREATED:20260325T133604Z
LAST-MODIFIED:20260325T133742Z
UID:10001817-1806831000-1806833700@anchorcovenant.org
SUMMARY:Grow
DESCRIPTION:Join us for Grow every Sunday from 9:30-10:15.
URL:https://anchorcovenant.org/event/grow-2/2027-04-04/
ATTACH;FMTTYPE=image/jpeg:https://anchorcovenant.org/wp-content/uploads/2025/12/unnamed-9.jpg
END:VEVENT
END:VCALENDAR