BEGIN:VCALENDAR
VERSION:2.0
PRODID:-//Anchor Covenant Church - ECPv6.15.20//NONSGML v1.0//EN
CALSCALE:GREGORIAN
METHOD:PUBLISH
X-ORIGINAL-URL:https://anchorcovenant.org
X-WR-CALDESC:Events for Anchor Covenant Church
REFRESH-INTERVAL;VALUE=DURATION:PT1H
X-Robots-Tag:noindex
X-PUBLISHED-TTL:PT1H
BEGIN:VTIMEZONE
TZID:UTC
BEGIN:STANDARD
TZOFFSETFROM:+0000
TZOFFSETTO:+0000
TZNAME:UTC
DTSTART:20230101T000000
END:STANDARD
END:VTIMEZONE
BEGIN:VEVENT
DTSTART;TZID=UTC:20241217T160000
DTEND;TZID=UTC:20241217T190000
DTSTAMP:20260425T123432
CREATED:20241126T032957Z
LAST-MODIFIED:20241126T035342Z
UID:10000162-1734451200-1734462000@anchorcovenant.org
SUMMARY:Church Building Help
DESCRIPTION:Help wipe down dusty furniture and move items back to the Kids’ Deck.
URL:https://anchorcovenant.org/event/church-building-help/
LOCATION:Anchor Covenant Church\, 1229 Park Row\, Lake Geneva\, WI
ORGANIZER;CN="Heidi Nevoso":MAILTO:hnevoso@gmail.com
END:VEVENT
BEGIN:VEVENT
DTSTART;TZID=UTC:20241219T183000
DTEND;TZID=UTC:20241219T203000
DTSTAMP:20260425T123432
CREATED:20241126T195035Z
LAST-MODIFIED:20241126T195035Z
UID:10000166-1734633000-1734640200@anchorcovenant.org
SUMMARY:Dinner Party
DESCRIPTION:Anchor’s December Pop-in Dinner has been scheduled!\nPlease join us at ZAAB Corner Bistro in Lake Geneva\nDecember 19th at 6:30 pm\n*Please RSVP to Pete & Pat Heintzelman by Dec 16th*
URL:https://anchorcovenant.org/event/dinner-party-2/
LOCATION:ZAAB Corner Bistro\, 501 Broad St\, Lake Geneva\, WI\, 53147
END:VEVENT
BEGIN:VEVENT
DTSTART;TZID=UTC:20241222T103000
DTEND;TZID=UTC:20241222T113000
DTSTAMP:20260425T123432
CREATED:20241118T213309Z
LAST-MODIFIED:20241118T213309Z
UID:10000156-1734863400-1734867000@anchorcovenant.org
SUMMARY:Anchor Kids Christmas Program
DESCRIPTION:
URL:https://anchorcovenant.org/event/anchor-kids-christmas-program/
LOCATION:Badger Highschool
END:VEVENT
BEGIN:VEVENT
DTSTART;TZID=UTC:20241224T170000
DTEND;TZID=UTC:20241224T180000
DTSTAMP:20260425T123432
CREATED:20241118T213142Z
LAST-MODIFIED:20241118T213142Z
UID:10000155-1735059600-1735063200@anchorcovenant.org
SUMMARY:Christmas Eve Service
DESCRIPTION:
URL:https://anchorcovenant.org/event/christmas-eve-service-2/
LOCATION:Horticultural Hall\, 330 Broad St\, Lake Geneva\, WI\, 53147\, United States
END:VEVENT
BEGIN:VEVENT
DTSTART;TZID=UTC:20250105T160000
DTEND;TZID=UTC:20250105T173000
DTSTAMP:20260425T123432
CREATED:20241126T042442Z
LAST-MODIFIED:20241126T042442Z
UID:10000164-1736092800-1736098200@anchorcovenant.org
SUMMARY:Buoy68 Cereal and Game Night
DESCRIPTION:
URL:https://anchorcovenant.org/event/buoy68-cereal-and-game-night/
LOCATION:Covenant Harbor\, 1724 W Main Street\, Lake Geneva\, WI\, 53147
ORGANIZER;CN="Laura Gowan":MAILTO:laura.gowan@anchorcovenant.org
END:VEVENT
BEGIN:VEVENT
DTSTART;TZID=UTC:20250105T180000
DTEND;TZID=UTC:20250105T193000
DTSTAMP:20260425T123432
CREATED:20241126T042556Z
LAST-MODIFIED:20241126T042704Z
UID:10000165-1736100000-1736105400@anchorcovenant.org
SUMMARY:BuoyHS Cereal and Game Night
DESCRIPTION:
URL:https://anchorcovenant.org/event/buoyhs-cereal-and-game-night/
LOCATION:Covenant Harbor\, 1724 W Main Street\, Lake Geneva\, WI\, 53147
ORGANIZER;CN="Laura Gowan":MAILTO:laura.gowan@anchorcovenant.org
END:VEVENT
BEGIN:VEVENT
DTSTART;TZID=UTC:20250207T120000
DTEND;TZID=UTC:20250209T190000
DTSTAMP:20260425T123432
CREATED:20241205T135323Z
LAST-MODIFIED:20241205T145955Z
UID:10000168-1738929600-1739127600@anchorcovenant.org
SUMMARY:BuoyHS Wintertainment
DESCRIPTION: 
URL:https://anchorcovenant.org/event/buoyhs-wintertainment/
LOCATION:Twin Lakes Bible Camp\, 7718 Twin Lakes Rd\, Manson\, IA\, 50563
ORGANIZER;CN="Laura Gowan":MAILTO:laura.gowan@anchorcovenant.org
END:VEVENT
BEGIN:VEVENT
DTSTART;TZID=UTC:20250214T170000
DTEND;TZID=UTC:20250215T210000
DTSTAMP:20260425T123432
CREATED:20241205T135029Z
LAST-MODIFIED:20241205T135029Z
UID:10000167-1739552400-1739653200@anchorcovenant.org
SUMMARY:Compass Winter Camp
DESCRIPTION:
URL:https://anchorcovenant.org/event/compass-winter-camp-2/
LOCATION:Covenant Harbor\, 1724 W Main Street\, Lake Geneva\, WI\, 53147
END:VEVENT
BEGIN:VEVENT
DTSTART;TZID=UTC:20250418T080000
DTEND;TZID=UTC:20250418T170000
DTSTAMP:20260425T123432
CREATED:20250418T191413Z
LAST-MODIFIED:20250418T191413Z
UID:10000169-1744963200-1744995600@anchorcovenant.org
SUMMARY:Men's Coffee
DESCRIPTION:
URL:https://anchorcovenant.org/event/mens-coffee/
END:VEVENT
BEGIN:VEVENT
DTSTART;TZID=UTC:20250418T190000
DTEND;TZID=UTC:20250418T200000
DTSTAMP:20260425T123432
CREATED:20250418T193058Z
LAST-MODIFIED:20250418T193351Z
UID:10000170-1745002800-1745006400@anchorcovenant.org
SUMMARY:Good Friday Service
DESCRIPTION:
URL:https://anchorcovenant.org/event/good-friday-service/
LOCATION:Anchor Covenant Church\, 1229 Park Row\, Lake Geneva\, WI
ATTACH;FMTTYPE=image/webp:https://anchorcovenant.org/wp-content/uploads/2025/04/IMG_3061.webp
END:VEVENT
BEGIN:VEVENT
DTSTART;TZID=UTC:20250420T103000
DTEND;TZID=UTC:20250420T113000
DTSTAMP:20260425T123432
CREATED:20250418T193312Z
LAST-MODIFIED:20250418T193312Z
UID:10000171-1745145000-1745148600@anchorcovenant.org
SUMMARY:Easter Service
DESCRIPTION:
URL:https://anchorcovenant.org/event/easter-service/
LOCATION:Anchor Covenant Church\, 1229 Park Row\, Lake Geneva\, WI
END:VEVENT
BEGIN:VEVENT
DTSTART;TZID=UTC:20250423T070000
DTEND;TZID=UTC:20250423T090000
DTSTAMP:20260425T123432
CREATED:20250418T203212Z
LAST-MODIFIED:20250418T203212Z
UID:10000176-1745391600-1745398800@anchorcovenant.org
SUMMARY:Men's Coffee
DESCRIPTION:
URL:https://anchorcovenant.org/event/mens-coffee-2/
LOCATION:Anchor Covenant Church\, 1229 Park Row\, Lake Geneva\, WI
ATTACH;FMTTYPE=image/jpeg:https://anchorcovenant.org/wp-content/uploads/2025/04/BE10E4FD-FEB3-4DF1-91CF-5FF0B35B8719.jpeg
END:VEVENT
BEGIN:VEVENT
DTSTART;TZID=UTC:20250427T103000
DTEND;TZID=UTC:20250427T120000
DTSTAMP:20260425T123432
CREATED:20250418T194658Z
LAST-MODIFIED:20250418T194906Z
UID:10000172-1745749800-1745755200@anchorcovenant.org
SUMMARY:Confirmation
DESCRIPTION:Join us while students are confirmed in their faith during Sunday Worship.  Stay for coffee connection to celebrate the confirmands with coffee and cake.
URL:https://anchorcovenant.org/event/confirmation-8/
LOCATION:Anchor Covenant Church\, 1229 Park Row\, Lake Geneva\, WI
ATTACH;FMTTYPE=image/jpeg:https://anchorcovenant.org/wp-content/uploads/2025/04/confirmation-scaled.jpg
END:VEVENT
BEGIN:VEVENT
DTSTART;TZID=UTC:20250430T070000
DTEND;TZID=UTC:20250430T090000
DTSTAMP:20260425T123432
CREATED:20250418T203608Z
LAST-MODIFIED:20250418T203608Z
UID:10000177-1745996400-1746003600@anchorcovenant.org
SUMMARY:Men's Coffee
DESCRIPTION:
URL:https://anchorcovenant.org/event/mens-coffee-3/
LOCATION:Anchor Covenant Church\, 1229 Park Row\, Lake Geneva\, WI
ATTACH;FMTTYPE=image/webp:https://anchorcovenant.org/wp-content/uploads/2025/04/BE10E4FD-FEB3-4DF1-91CF-5FF0B35B8719.webp
END:VEVENT
BEGIN:VEVENT
DTSTART;TZID=UTC:20250503T170000
DTEND;TZID=UTC:20250503T220000
DTSTAMP:20260425T123432
CREATED:20250418T200046Z
LAST-MODIFIED:20250502T024411Z
UID:10000174-1746291600-1746309600@anchorcovenant.org
SUMMARY:Buoy HS Grand Finale
DESCRIPTION:Goodwill SupSup Mystery Vans:  Climb in a van\, get redressed at Goodwill\, and enjoy the mystery of not knowing what’s to come! \nBuoyHS May 3rd 5-10pm \n  \nRSVP by 4/23
URL:https://anchorcovenant.org/event/buoy-grand-finales/
LOCATION:Anchor Covenant Church\, 1229 Park Row\, Lake Geneva\, WI
ATTACH;FMTTYPE=image/png:https://anchorcovenant.org/wp-content/uploads/2025/04/IMG_9821.png
ORGANIZER;CN="Laura Gowan":MAILTO:laura.gowan@anchorcovenant.org
END:VEVENT
BEGIN:VEVENT
DTSTART;TZID=UTC:20250504T160000
DTEND;TZID=UTC:20250504T210000
DTSTAMP:20260425T123432
CREATED:20250502T024534Z
LAST-MODIFIED:20250502T214135Z
UID:10000182-1746374400-1746392400@anchorcovenant.org
SUMMARY:Buoy 68 Grand Finale
DESCRIPTION:Goodwill SupSup Mystery Vans:  Climb in a van\, get redressed at Goodwill\, and enjoy the mystery of not knowing what’s to come!
URL:https://anchorcovenant.org/event/buoy-68-grand-finale/
ATTACH;FMTTYPE=image/webp:https://anchorcovenant.org/wp-content/uploads/2025/04/IMG_9821.webp
ORGANIZER;CN="Laura Gowan":MAILTO:laura.gowan@anchorcovenant.org
END:VEVENT
BEGIN:VEVENT
DTSTART;TZID=UTC:20250506T190000
DTEND;TZID=UTC:20250506T203000
DTSTAMP:20260425T123432
CREATED:20250427T145300Z
LAST-MODIFIED:20250427T145343Z
UID:10000180-1746558000-1746563400@anchorcovenant.org
SUMMARY:Monthly Intentions
DESCRIPTION:
URL:https://anchorcovenant.org/event/monthly-intentions-3/
LOCATION:Anderson Home
ATTACH;FMTTYPE=image/jpeg:https://anchorcovenant.org/wp-content/uploads/2025/04/Monthly-Intentions-May-scaled.jpg
END:VEVENT
BEGIN:VEVENT
DTSTART;TZID=UTC:20250507T070000
DTEND;TZID=UTC:20250507T090000
DTSTAMP:20260425T123432
CREATED:20250418T203710Z
LAST-MODIFIED:20250418T203710Z
UID:10000178-1746601200-1746608400@anchorcovenant.org
SUMMARY:Men's Coffee
DESCRIPTION:
URL:https://anchorcovenant.org/event/mens-coffee-4/
LOCATION:Anchor Covenant Church\, 1229 Park Row\, Lake Geneva\, WI
ATTACH;FMTTYPE=image/webp:https://anchorcovenant.org/wp-content/uploads/2025/04/BE10E4FD-FEB3-4DF1-91CF-5FF0B35B8719.webp
END:VEVENT
BEGIN:VEVENT
DTSTART;TZID=UTC:20250509T170000
DTEND;TZID=UTC:20250511T113000
DTSTAMP:20260425T123432
CREATED:20250418T203926Z
LAST-MODIFIED:20250418T203926Z
UID:10000179-1746810000-1746963000@anchorcovenant.org
SUMMARY:Mother Daughter Retreat
DESCRIPTION:This is a time for mothers and daughters\, grandmas\, and aunts to connect with their faith and each other.
URL:https://anchorcovenant.org/event/mother-daughter-retreat/
LOCATION:Covenant Harbor\, 1724 W Main Street\, Lake Geneva\, WI\, 53147
ATTACH;FMTTYPE=image/jpeg:https://anchorcovenant.org/wp-content/uploads/2025/03/IMG_0717.jpeg
END:VEVENT
BEGIN:VEVENT
DTSTART;TZID=UTC:20250517T080000
DTEND;TZID=UTC:20250517T140000
DTSTAMP:20260425T123432
CREATED:20250428T131242Z
LAST-MODIFIED:20250428T131242Z
UID:10000181-1747468800-1747490400@anchorcovenant.org
SUMMARY:Global 6k for Clean Water
DESCRIPTION:
URL:https://anchorcovenant.org/event/global-6k-for-clean-water/
ATTACH;FMTTYPE=image/webp:https://anchorcovenant.org/wp-content/uploads/2025/04/IMG_1017.webp
END:VEVENT
BEGIN:VEVENT
DTSTART;TZID=UTC:20250518T103000
DTEND;TZID=UTC:20250518T113000
DTSTAMP:20260425T123432
CREATED:20250502T215128Z
LAST-MODIFIED:20250515T175727Z
UID:10000183-1747564200-1747567800@anchorcovenant.org
SUMMARY:Buoy Grad Sunday
DESCRIPTION:
URL:https://anchorcovenant.org/event/buoy-grad-sunday-2/
LOCATION:Anchor Covenant Church\, 1229 Park Row\, Lake Geneva\, WI
ATTACH;FMTTYPE=image/png:https://anchorcovenant.org/wp-content/uploads/2025/05/anchorgradsunday.png
ORGANIZER;CN="Laura Gowan":MAILTO:laura.gowan@anchorcovenant.org
END:VEVENT
BEGIN:VEVENT
DTSTART;TZID=UTC:20250521T180000
DTEND;TZID=UTC:20250521T200000
DTSTAMP:20260425T123432
CREATED:20250508T145814Z
LAST-MODIFIED:20250508T145930Z
UID:10000186-1747850400-1747857600@anchorcovenant.org
SUMMARY:Dinner Party
DESCRIPTION:RSVP to Pete or Pat by 5/18
URL:https://anchorcovenant.org/event/dinner-party-3/
LOCATION:Ol’ Wisco\, 328 E Walworth Ave\, Delavan\, WI\, 53147\, United States
ATTACH;FMTTYPE=image/jpeg:https://anchorcovenant.org/wp-content/uploads/2025/05/49E262FB-49B7-493A-83FC-F20C0B6D6CF3.jpeg
END:VEVENT
BEGIN:VEVENT
DTSTART;TZID=UTC:20250601T160000
DTEND;TZID=UTC:20250601T173000
DTSTAMP:20260425T123432
CREATED:20250515T183045Z
LAST-MODIFIED:20250515T191100Z
UID:10000200-1748793600-1748799000@anchorcovenant.org
SUMMARY:Anchor Kids Family Event
DESCRIPTION:
URL:https://anchorcovenant.org/event/anchor-kids-family-event/
LOCATION:Anchor Covenant Church\, 1229 Park Row\, Lake Geneva\, WI
ATTACH;FMTTYPE=image/webp:https://anchorcovenant.org/wp-content/uploads/2025/05/Summer-Family-Night-2-1-scaled.webp
ORGANIZER;CN="Kylie Dick":MAILTO:kids@anchorcovenant.org
END:VEVENT
BEGIN:VEVENT
DTSTART;TZID=UTC:20250603T190000
DTEND;TZID=UTC:20250603T210000
DTSTAMP:20260425T123432
CREATED:20250522T164631Z
LAST-MODIFIED:20250522T164711Z
UID:10000202-1748977200-1748984400@anchorcovenant.org
SUMMARY:Monthly Intentions
DESCRIPTION:
URL:https://anchorcovenant.org/event/monthly-intentions-4/
LOCATION:Anchor Covenant Church\, 1229 Park Row\, Lake Geneva\, WI
ATTACH;FMTTYPE=image/webp:https://anchorcovenant.org/wp-content/uploads/2025/04/MONTHLY-INTENTIONS.webp
ORGANIZER;CN="Cherith Anderson":MAILTO:Cherithanderson@gmail.com
END:VEVENT
BEGIN:VEVENT
DTSTART;TZID=UTC:20250606T180000
DTEND;TZID=UTC:20250606T200000
DTSTAMP:20260425T123432
CREATED:20250529T132957Z
LAST-MODIFIED:20250529T142149Z
UID:10000208-1749232800-1749240000@anchorcovenant.org
SUMMARY:Bikes & Bites
DESCRIPTION:
URL:https://anchorcovenant.org/event/bikes-bites-2/
LOCATION:White River State Trail
ATTACH;FMTTYPE=image/png:https://anchorcovenant.org/wp-content/uploads/2025/05/Screenshot-2025-05-27-at-12.17.25 PM.png
END:VEVENT
BEGIN:VEVENT
DTSTART;TZID=UTC:20250610T180000
DTEND;TZID=UTC:20250610T200000
DTSTAMP:20260425T123432
CREATED:20250522T165339Z
LAST-MODIFIED:20250522T165339Z
UID:10000203-1749578400-1749585600@anchorcovenant.org
SUMMARY:55+ Game Night
DESCRIPTION:
URL:https://anchorcovenant.org/event/55-game-night/
LOCATION:Anchor Covenant Church\, 1229 Park Row\, Lake Geneva\, WI
ATTACH;FMTTYPE=image/jpeg:https://anchorcovenant.org/wp-content/uploads/2025/05/IMG_1415.jpg
END:VEVENT
BEGIN:VEVENT
DTSTART;TZID=UTC:20250610T180000
DTEND;TZID=UTC:20250610T200000
DTSTAMP:20260425T123432
CREATED:20250522T165616Z
LAST-MODIFIED:20250603T225236Z
UID:10000204-1749578400-1749585600@anchorcovenant.org
SUMMARY:Anchor Beach Night
DESCRIPTION:
URL:https://anchorcovenant.org/event/anchor-beach-night-4/
LOCATION:riviera beach\, lake geneva
ATTACH;FMTTYPE=image/jpeg:https://anchorcovenant.org/wp-content/uploads/2025/05/IMG_3429.jpg
ORGANIZER;CN="Anchor Office":MAILTO:office@anchorcovenant.org
END:VEVENT
BEGIN:VEVENT
DTSTART;TZID=UTC:20250615T093000
DTEND;TZID=UTC:20250615T101500
DTSTAMP:20260425T123432
CREATED:20250515T180252Z
LAST-MODIFIED:20250515T180252Z
UID:10000196-1749979800-1749982500@anchorcovenant.org
SUMMARY:Donuts & Deeper - Buoy 6-HS
DESCRIPTION:
URL:https://anchorcovenant.org/event/donuts-deeper-buoy-6-hs/
LOCATION:Covenant Harbor\, 1724 W Main Street\, Lake Geneva\, WI\, 53147
ATTACH;FMTTYPE=image/png:https://anchorcovenant.org/wp-content/uploads/2025/05/donuts-deepr.png
ORGANIZER;CN="Laura Gowan":MAILTO:laura.gowan@anchorcovenant.org
END:VEVENT
BEGIN:VEVENT
DTSTART;TZID=UTC:20250615T103000
DTEND;TZID=UTC:20250615T113000
DTSTAMP:20260425T123432
CREATED:20250503T204103Z
LAST-MODIFIED:20250508T151640Z
UID:10000184-1749983400-1749987000@anchorcovenant.org
SUMMARY:Summer Sundays
DESCRIPTION:This Summer… \nWe’re saying yes to sunny days and sacred spaces. Yes to worship under the tent. Yes to a summer of purpose. \nSo let’s pack our bibles and picnic blankets and open our hearts wide to get ready for another summer of worship by the water. Because God meets us in sacred spaces.
URL:https://anchorcovenant.org/event/summer-sundays/
LOCATION:Covenant Harbor\, 1724 W Main Street\, Lake Geneva\, WI\, 53147
ATTACH;FMTTYPE=image/webp:https://anchorcovenant.org/wp-content/uploads/2025/05/67BFA4A2-83FB-44A4-8717-BFEFE61571EF.webp
END:VEVENT
BEGIN:VEVENT
DTSTART;TZID=UTC:20250621T130000
DTEND;TZID=UTC:20250621T143000
DTSTAMP:20260425T123432
CREATED:20250418T195512Z
LAST-MODIFIED:20250418T195605Z
UID:10000173-1750510800-1750516200@anchorcovenant.org
SUMMARY:Kylie's Bridal Shower
DESCRIPTION:Ladies\, come help us celebrate Kylie as she prepares to marry Joseph this summer. \nContact  Jaci for details or to help. \n  \n 
URL:https://anchorcovenant.org/event/kylies-bridal-shower/
LOCATION:Anchor Covenant Church\, 1229 Park Row\, Lake Geneva\, WI
ATTACH;FMTTYPE=image/jpeg:https://anchorcovenant.org/wp-content/uploads/2025/04/59945277-064F-4F15-9C72-AC3D4EFB7335.jpeg
ORGANIZER;CN="Jaclynne Fohr":MAILTO:childrensministry@anchorcovenant.org
END:VEVENT
END:VCALENDAR