BEGIN:VCALENDAR
VERSION:2.0
PRODID:-//Anchor Covenant Church - ECPv6.15.20//NONSGML v1.0//EN
CALSCALE:GREGORIAN
METHOD:PUBLISH
X-ORIGINAL-URL:https://anchorcovenant.org
X-WR-CALDESC:Events for Anchor Covenant Church
REFRESH-INTERVAL;VALUE=DURATION:PT1H
X-Robots-Tag:noindex
X-PUBLISHED-TTL:PT1H
BEGIN:VTIMEZONE
TZID:UTC
BEGIN:STANDARD
TZOFFSETFROM:+0000
TZOFFSETTO:+0000
TZNAME:UTC
DTSTART:20230101T000000
END:STANDARD
END:VTIMEZONE
BEGIN:VEVENT
DTSTART;TZID=UTC:20240718T150000
DTEND;TZID=UTC:20240718T160000
DTSTAMP:20260425T140630
CREATED:20240718T153352Z
LAST-MODIFIED:20240718T153432Z
UID:10000133-1721314800-1721318400@anchorcovenant.org
SUMMARY:Anchor Kids Playtime
DESCRIPTION:Parents and Kids come play as long as you like.  So excited to see everyone and hear how your Summer has been!  There is no bathroom at CenDen\, please plan accordingly.
URL:https://anchorcovenant.org/event/anchor-kids-playtime/
LOCATION:Central Denison\, 900 Wisconsin St\, Lake Geneva\, WI\, 53147
ORGANIZER;CN="Jaclynne Fohr":MAILTO:childrensministry@anchorcovenant.org
END:VEVENT
BEGIN:VEVENT
DTSTART;TZID=UTC:20240718T190000
DTEND;TZID=UTC:20240718T210000
DTSTAMP:20260425T140630
CREATED:20240425T124911Z
LAST-MODIFIED:20240425T124911Z
UID:10000118-1721329200-1721336400@anchorcovenant.org
SUMMARY:Third Thursday Prayer
DESCRIPTION:
URL:https://anchorcovenant.org/event/third-thursday-prayer-2/
END:VEVENT
BEGIN:VEVENT
DTSTART;TZID=UTC:20240728T180000
DTEND;TZID=UTC:20240728T193000
DTSTAMP:20260425T140630
CREATED:20240419T031234Z
LAST-MODIFIED:20240419T031312Z
UID:10000113-1722189600-1722195000@anchorcovenant.org
SUMMARY:Anchor Beach Night
DESCRIPTION:Join the Anchor Family at Riviera Beach at 6pm (this when it becomes free). Hang out in the sand\, swim\, chat\, meet someone new…
URL:https://anchorcovenant.org/event/anchor-beach-night-2/
LOCATION:riviera beach\, lake geneva
ORGANIZER;CN="Anchor Staff":MAILTO:office@anchorcovenant.org
END:VEVENT
BEGIN:VEVENT
DTSTART;TZID=UTC:20240811T113000
DTEND;TZID=UTC:20240811T120000
DTSTAMP:20260425T140630
CREATED:20240704T150106Z
LAST-MODIFIED:20240704T150456Z
UID:10000132-1723375800-1723377600@anchorcovenant.org
SUMMARY:Baptism
DESCRIPTION:  \n 
URL:https://anchorcovenant.org/event/baptism/
LOCATION:Anchor Covenant Church\, 1229 Park Row\, Lake Geneva\, WI
END:VEVENT
BEGIN:VEVENT
DTSTART;TZID=UTC:20240811T120000
DTEND;TZID=UTC:20240811T150000
DTSTAMP:20260425T140630
CREATED:20240419T032046Z
LAST-MODIFIED:20240419T032046Z
UID:10000116-1723377600-1723388400@anchorcovenant.org
SUMMARY:Anchor Picnic after Worship
DESCRIPTION:BYO Picnic and join the Anchor Family for a picnic after Worship
URL:https://anchorcovenant.org/event/anchor-picnic-after-worship/
LOCATION:Covenant Harbor\, 1724 W Main Street\, Lake Geneva\, WI\, 53147
ORGANIZER;CN="Anchor Staff":MAILTO:office@anchorcovenant.org
END:VEVENT
BEGIN:VEVENT
DTSTART;TZID=UTC:20240815T180000
DTEND;TZID=UTC:20240815T200000
DTSTAMP:20260425T140630
CREATED:20240425T124953Z
LAST-MODIFIED:20240425T142325Z
UID:10000119-1723744800-1723752000@anchorcovenant.org
SUMMARY:Third Thursday Prayer
DESCRIPTION:
URL:https://anchorcovenant.org/event/third-thursday-prayer-3/
END:VEVENT
BEGIN:VEVENT
DTSTART;TZID=UTC:20240825T113000
DTEND;TZID=UTC:20240825T123000
DTSTAMP:20260425T140630
CREATED:20240817T012750Z
LAST-MODIFIED:20240817T012848Z
UID:10000137-1724585400-1724589000@anchorcovenant.org
SUMMARY:Congregation Meeting
DESCRIPTION:Update from Leadership Team.  Childcare will be provided.
URL:https://anchorcovenant.org/event/congregation-meeting/
LOCATION:Badger Highschool
END:VEVENT
BEGIN:VEVENT
DTSTART;TZID=UTC:20240825T180000
DTEND;TZID=UTC:20240825T193000
DTSTAMP:20260425T140630
CREATED:20240419T031355Z
LAST-MODIFIED:20240824T145820Z
UID:10000114-1724608800-1724614200@anchorcovenant.org
SUMMARY:Anchor Beach Night
DESCRIPTION:
URL:https://anchorcovenant.org/event/anchor-beach-night-3/
LOCATION:riviera beach\, lake geneva
ORGANIZER;CN="Anchor Staff":MAILTO:office@anchorcovenant.org
END:VEVENT
BEGIN:VEVENT
DTSTART;TZID=UTC:20240915T103000
DTEND;TZID=UTC:20240915T113000
DTSTAMP:20260425T140631
CREATED:20240817T011216Z
LAST-MODIFIED:20240817T012006Z
UID:10000135-1726396200-1726399800@anchorcovenant.org
SUMMARY:Bibles & Blessings
DESCRIPTION:Join us as our Anchor Kids and Youth receive Bibles and prayers as they begin new levels of Grow. \n  \n \nContact Jaci at childrensministry@anchorcovenant.org if your child is in need of a Bible.
URL:https://anchorcovenant.org/event/bibles-blessings/
LOCATION:Badger Highschool
ORGANIZER;CN="Jaclynne Fohr":MAILTO:childrensministry@anchorcovenant.org
END:VEVENT
BEGIN:VEVENT
DTSTART;TZID=UTC:20240915T103000
DTEND;TZID=UTC:20240915T120000
DTSTAMP:20260425T140631
CREATED:20240817T012427Z
LAST-MODIFIED:20240817T012501Z
UID:10000136-1726396200-1726401600@anchorcovenant.org
SUMMARY:Fall Kick-Off
DESCRIPTION:On September 15th we will be kicking our Fall off with a new sermons series and an introduction to all of Anchors’ ministry opportunities!  Come play some games\, fill up on sugar\, and get to know Anchor! \n \n 
URL:https://anchorcovenant.org/event/fall-kick-off/
LOCATION:Badger Highschool
ORGANIZER;CN="Anchor Staff":MAILTO:office@anchorcovenant.org
END:VEVENT
BEGIN:VEVENT
DTSTART;TZID=UTC:20240921T160000
DTEND;TZID=UTC:20240921T180000
DTSTAMP:20260425T140631
CREATED:20240920T220642Z
LAST-MODIFIED:20240920T220642Z
UID:10000144-1726934400-1726941600@anchorcovenant.org
SUMMARY:Bikes & Hikes
DESCRIPTION:Come bike or hike as far as you want!  Then turn around and meet back at the park for a picnic.
URL:https://anchorcovenant.org/event/bikes-hikes/
LOCATION:White River State Trail
END:VEVENT
BEGIN:VEVENT
DTSTART;TZID=UTC:20240922T160000
DTEND;TZID=UTC:20240922T173000
DTSTAMP:20260425T140631
CREATED:20240912T190056Z
LAST-MODIFIED:20240912T190136Z
UID:10000143-1727020800-1727026200@anchorcovenant.org
SUMMARY:Swing Into A New Year of Compass
DESCRIPTION:3rd-5th graders can join us at Harbor to swing into the new year on the Kish Tree Swing. \nEmail childrensministry@anchorcovenant.org for more details.
URL:https://anchorcovenant.org/event/swing-into-a-new-year-of-compass/
LOCATION:Covenant Harbor\, 1724 W Main Street\, Lake Geneva\, WI\, 53147
END:VEVENT
BEGIN:VEVENT
DTSTART;TZID=UTC:20240929T093000
DTEND;TZID=UTC:20240929T101500
DTSTAMP:20260425T140631
CREATED:20240808T135838Z
LAST-MODIFIED:20240808T140603Z
UID:10000134-1727602200-1727604900@anchorcovenant.org
SUMMARY:Grow Begins
DESCRIPTION:Christian formation classes for ages 3-Adult.  Held every Sunday Morning before Worship Service 9/29-11/17
URL:https://anchorcovenant.org/event/grow-begins-2/
LOCATION:Badger Highschool
END:VEVENT
BEGIN:VEVENT
DTSTART;TZID=UTC:20241001T190000
DTEND;TZID=UTC:20241001T203000
DTSTAMP:20260425T140631
CREATED:20240912T185457Z
LAST-MODIFIED:20240912T185727Z
UID:10000142-1727809200-1727814600@anchorcovenant.org
SUMMARY:Monthly Intentions
DESCRIPTION:Are you ready to bring your dreams and hopes to life?  Join us for our Monthly Intentions Gathering\, where you’ll set powerful intentions for the month ahead in a relaxing and inspiring outdoor environment. \n  \nContact Cherith for details (262)745-6257
URL:https://anchorcovenant.org/event/monthly-intentions/
END:VEVENT
BEGIN:VEVENT
DTSTART;TZID=UTC:20241006T103000
DTEND;TZID=UTC:20241103T103000
DTSTAMP:20260425T140631
CREATED:20241016T023615Z
LAST-MODIFIED:20241016T023757Z
UID:10000149-1728210600-1730629800@anchorcovenant.org
SUMMARY:Thanksgiving Food Drive
DESCRIPTION:Receive a bag and list for Food Drive items after worship on 10/13 and 10/20.  Return full bags to church on 11/3.  Items benefit local families visiting the Lake Geneva Food Pantry.
URL:https://anchorcovenant.org/event/5279/
LOCATION:Badger Highschool
END:VEVENT
BEGIN:VEVENT
DTSTART;TZID=UTC:20241006T180000
DTEND;TZID=UTC:20241006T194500
DTSTAMP:20260425T140631
CREATED:20240906T235358Z
LAST-MODIFIED:20240906T235441Z
UID:10000139-1728237600-1728243900@anchorcovenant.org
SUMMARY:Buoy Worship Night 68 & HS
DESCRIPTION:
URL:https://anchorcovenant.org/event/buoy-worship-night-68-hs/
LOCATION:Covenant Harbor\, 1724 W Main Street\, Lake Geneva\, WI\, 53147
ORGANIZER;CN="Laura Gowan":MAILTO:laura.gowan@anchorcovenant.org
END:VEVENT
BEGIN:VEVENT
DTSTART;TZID=UTC:20241011T130000
DTEND;TZID=UTC:20241013T190000
DTSTAMP:20260425T140631
CREATED:20240906T234704Z
LAST-MODIFIED:20240906T234911Z
UID:10000138-1728651600-1728846000@anchorcovenant.org
SUMMARY:Fall Retreat Buoy68
DESCRIPTION:Retreat RSVP
URL:https://anchorcovenant.org/event/fall-retreat-buoy68/
LOCATION:Covenant Point\, 358 Hagerman Lake Rd\, Iron River\, MI\, 49935\, United States
ORGANIZER;CN="Laura Gowan":MAILTO:laura.gowan@anchorcovenant.org
END:VEVENT
BEGIN:VEVENT
DTSTART;TZID=UTC:20241020T150000
DTEND;TZID=UTC:20241020T170000
DTSTAMP:20260425T140631
CREATED:20241016T023122Z
LAST-MODIFIED:20241016T023122Z
UID:10000148-1729436400-1729443600@anchorcovenant.org
SUMMARY:Membership Retreat
DESCRIPTION:
URL:https://anchorcovenant.org/event/membership-retreat/
LOCATION:Covenant Harbor\, 1724 W Main Street\, Lake Geneva\, WI\, 53147
END:VEVENT
BEGIN:VEVENT
DTSTART;TZID=UTC:20241020T160000
DTEND;TZID=UTC:20241020T173000
DTSTAMP:20260425T140631
CREATED:20241016T024038Z
LAST-MODIFIED:20241016T024038Z
UID:10000150-1729440000-1729445400@anchorcovenant.org
SUMMARY:Compass Team Building Event
DESCRIPTION:J \nJoin Anchor Students age 3rd – 5th grade for a fun-filled time of tree swinging and playing on the Kish playground.  Contact jaci.fohr@anchorcovenant.org with any questions.
URL:https://anchorcovenant.org/event/compass-team-building-event/
LOCATION:Covenant Harbor\, 1724 W Main Street\, Lake Geneva\, WI\, 53147
END:VEVENT
BEGIN:VEVENT
DTSTART;VALUE=DATE:20241101
DTEND;VALUE=DATE:20241104
DTSTAMP:20260425T140631
CREATED:20241004T230205Z
LAST-MODIFIED:20241004T230218Z
UID:10000145-1730419200-1730678399@anchorcovenant.org
SUMMARY:Buoy Guys Camping
DESCRIPTION:Guys Camping\nDetails & RSVP here\nRSVP due by Oct 22
URL:https://anchorcovenant.org/event/buoy-guys-camping/
ORGANIZER;CN="Laura Gowan":MAILTO:laura.gowan@anchorcovenant.org
END:VEVENT
BEGIN:VEVENT
DTSTART;TZID=UTC:20241102T170000
DTEND;TZID=UTC:20241103T100000
DTSTAMP:20260425T140631
CREATED:20240906T235628Z
LAST-MODIFIED:20240906T235628Z
UID:10000141-1730566800-1730628000@anchorcovenant.org
SUMMARY:Buoy Gals Retreat
DESCRIPTION:
URL:https://anchorcovenant.org/event/buoy-gals-retreat/
END:VEVENT
BEGIN:VEVENT
DTSTART;TZID=UTC:20241105T190000
DTEND;TZID=UTC:20241105T203000
DTSTAMP:20260425T140631
CREATED:20241019T135438Z
LAST-MODIFIED:20241019T135438Z
UID:10000151-1730833200-1730838600@anchorcovenant.org
SUMMARY:Monthly Intentions
DESCRIPTION:
URL:https://anchorcovenant.org/event/monthly-intentions-2/
LOCATION:Anderson Home
END:VEVENT
BEGIN:VEVENT
DTSTART;TZID=UTC:20241112T073000
DTEND;TZID=UTC:20241112T073000
DTSTAMP:20260425T140631
CREATED:20241109T000109Z
LAST-MODIFIED:20241114T034226Z
UID:10000154-1731396600-1731396600@anchorcovenant.org
SUMMARY:Summer Camp Registration Opens
DESCRIPTION: 
URL:https://anchorcovenant.org/event/summer-camp-registration-opens/
LOCATION:Anchor Covenant Church\, 1229 Park Row\, Lake Geneva\, WI
END:VEVENT
BEGIN:VEVENT
DTSTART;TZID=UTC:20241114T180000
DTEND;TZID=UTC:20241114T190000
DTSTAMP:20260425T140631
CREATED:20241019T135805Z
LAST-MODIFIED:20241019T135805Z
UID:10000152-1731607200-1731610800@anchorcovenant.org
SUMMARY:Dinner Party
DESCRIPTION:Contact Pete for more details and to RSVP.
URL:https://anchorcovenant.org/event/dinner-party/
LOCATION:Tuscan
END:VEVENT
BEGIN:VEVENT
DTSTART;TZID=UTC:20241117T113000
DTEND;TZID=UTC:20241117T130000
DTSTAMP:20260425T140631
CREATED:20241016T022540Z
LAST-MODIFIED:20241016T022548Z
UID:10000146-1731843000-1731848400@anchorcovenant.org
SUMMARY:Potluck
DESCRIPTION:Bring a dish to share and enjoy community and food with the Anchor Church family
URL:https://anchorcovenant.org/event/potluck/
END:VEVENT
BEGIN:VEVENT
DTSTART;TZID=UTC:20241122T120000
DTEND;TZID=UTC:20241122T200000
DTSTAMP:20260425T140631
CREATED:20241016T022939Z
LAST-MODIFIED:20241016T022939Z
UID:10000147-1732276800-1732305600@anchorcovenant.org
SUMMARY:Compass Waterpark Fundraiser
DESCRIPTION:Click the following link to order tickets for the Timber Ridge Fundraiser.  Have fun splashing down slides and help make it possible for Compass students to attend Winter camp.  https://form.jotform.com/242854532562055.
URL:https://anchorcovenant.org/event/compass-waterpark-fundraiser/
ORGANIZER;CN="Jaclynne Fohr":MAILTO:childrensministry@anchorcovenant.org
END:VEVENT
BEGIN:VEVENT
DTSTART;TZID=UTC:20241124T113000
DTEND;TZID=UTC:20241124T123000
DTSTAMP:20260425T140631
CREATED:20241108T235621Z
LAST-MODIFIED:20241108T235722Z
UID:10000153-1732447800-1732451400@anchorcovenant.org
SUMMARY:Buoy Bake & Buy
DESCRIPTION:
URL:https://anchorcovenant.org/event/buoy-bake-buy/
LOCATION:Badger Highschool
ORGANIZER;CN="Laura Gowan":MAILTO:laura.gowan@anchorcovenant.org
END:VEVENT
BEGIN:VEVENT
DTSTART;TZID=UTC:20241124T160000
DTEND;TZID=UTC:20241124T173000
DTSTAMP:20260425T140631
CREATED:20241122T181147Z
LAST-MODIFIED:20241122T181147Z
UID:10000158-1732464000-1732469400@anchorcovenant.org
SUMMARY:Both Buoys (dodgeball and sock soccer)
DESCRIPTION:
URL:https://anchorcovenant.org/event/both-buoys-dodgeball-and-sock-soccer/
LOCATION:Covenant Harbor\, 1724 W Main Street\, Lake Geneva\, WI\, 53147
END:VEVENT
BEGIN:VEVENT
DTSTART;TZID=UTC:20241201T080000
DTEND;TZID=UTC:20250110T170000
DTSTAMP:20260425T140631
CREATED:20241126T032739Z
LAST-MODIFIED:20241126T032739Z
UID:10000161-1733040000-1736528400@anchorcovenant.org
SUMMARY:Compass Winter Camp Sign Up
DESCRIPTION:Sign up for Compass Winter Camp 2/14-2/15 \nCost $189 minus Anchor Student Gift $50 = $139 (this amount is less if you participated in the Timber Ridge Fundraiser on 11/18) \n 
URL:https://anchorcovenant.org/event/compass-winter-camp-sign-up/
LOCATION:Covenant Harbor\, 1724 W Main Street\, Lake Geneva\, WI\, 53147
ORGANIZER;CN="Jaclynne Fohr":MAILTO:childrensministry@anchorcovenant.org
END:VEVENT
BEGIN:VEVENT
DTSTART;TZID=UTC:20241207T180000
DTEND;TZID=UTC:20241207T210000
DTSTAMP:20260425T140631
CREATED:20241126T032307Z
LAST-MODIFIED:20241126T032307Z
UID:10000159-1733594400-1733605200@anchorcovenant.org
SUMMARY:Buoy68 Christmas Party
DESCRIPTION:
URL:https://anchorcovenant.org/event/buoy68-christmas-party-2/
LOCATION:Covenant Harbor\, 1724 W Main Street\, Lake Geneva\, WI\, 53147
ORGANIZER;CN="Laura Gowan":MAILTO:laura.gowan@anchorcovenant.org
END:VEVENT
END:VCALENDAR