BEGIN:VCALENDAR
VERSION:2.0
PRODID:-//Anchor Covenant Church - ECPv6.15.20//NONSGML v1.0//EN
CALSCALE:GREGORIAN
METHOD:PUBLISH
X-ORIGINAL-URL:https://anchorcovenant.org
X-WR-CALDESC:Events for Anchor Covenant Church
REFRESH-INTERVAL;VALUE=DURATION:PT1H
X-Robots-Tag:noindex
X-PUBLISHED-TTL:PT1H
BEGIN:VTIMEZONE
TZID:UTC
BEGIN:STANDARD
TZOFFSETFROM:+0000
TZOFFSETTO:+0000
TZNAME:UTC
DTSTART:20250101T000000
END:STANDARD
END:VTIMEZONE
BEGIN:VEVENT
DTSTART;TZID=UTC:20260516T100000
DTEND;TZID=UTC:20260516T130000
DTSTAMP:20260423T222729
CREATED:20260311T123217Z
LAST-MODIFIED:20260311T123217Z
UID:10002893-1778925600-1778936400@anchorcovenant.org
SUMMARY:Global 6K for Clean Water
DESCRIPTION:Anchor will be joining Deer Grove and the Covenant Denomination to team up with World Vision to provide clean water for Congo. On Saturday\, May 16\, at 10:00 a.m.\, meet at Deer Grove Covenant church to walk/run/roll and enjoy a hot dog lunch.
URL:https://anchorcovenant.org/event/global-6k-for-clean-water-2/
LOCATION:Deer Grove Covenant Church
ATTACH;FMTTYPE=image/jpeg:https://anchorcovenant.org/wp-content/uploads/2026/03/unnamed-21.jpg
END:VEVENT
BEGIN:VEVENT
DTSTART;TZID=UTC:20260517T093000
DTEND;TZID=UTC:20260517T101500
DTSTAMP:20260423T222729
CREATED:20260325T133604Z
LAST-MODIFIED:20260325T133742Z
UID:10001771-1779010200-1779012900@anchorcovenant.org
SUMMARY:Grow
DESCRIPTION:Join us for Grow every Sunday from 9:30-10:15.
URL:https://anchorcovenant.org/event/grow-2/2026-05-17/
LOCATION:WI
ATTACH;FMTTYPE=image/jpeg:https://anchorcovenant.org/wp-content/uploads/2025/12/unnamed-9.jpg
END:VEVENT
BEGIN:VEVENT
DTSTART;TZID=UTC:20260517T103000
DTEND;TZID=UTC:20260517T114500
DTSTAMP:20260423T222729
CREATED:20251216T220604Z
LAST-MODIFIED:20251216T220604Z
UID:10001993-1779013800-1779018300@anchorcovenant.org
SUMMARY:Service
DESCRIPTION:Join us every Sunday from 10:30-11:45 for our service online or in person at Anchor Covenant Church.
URL:https://anchorcovenant.org/event/service/2026-05-17/
LOCATION:Anchor Covenant Church\, 1229 Park Row\, Lake Geneva\, WI
ATTACH;FMTTYPE=image/png:https://anchorcovenant.org/wp-content/uploads/2025/12/Anchor.png
END:VEVENT
BEGIN:VEVENT
DTSTART;TZID=UTC:20260517T160000
DTEND;TZID=UTC:20260517T180000
DTSTAMP:20260423T222729
CREATED:20250826T180922Z
LAST-MODIFIED:20260325T134226Z
UID:10001915-1779033600-1779040800@anchorcovenant.org
SUMMARY:Buoy 68
DESCRIPTION:All Middle Schoolers welcome. \nJoin us for Buoy at Anchor Covenant Church every Sunday from 4-6pm.
URL:https://anchorcovenant.org/event/buoy-68/2026-05-17/
LOCATION:WI
ATTACH;FMTTYPE=image/png:https://anchorcovenant.org/wp-content/uploads/2025/08/Screenshot-2025-09-18-at-11.47.20-AM.png
END:VEVENT
BEGIN:VEVENT
DTSTART;TZID=UTC:20260517T170000
DTEND;TZID=UTC:20260517T190000
DTSTAMP:20260423T222729
CREATED:20250826T181055Z
LAST-MODIFIED:20260325T134306Z
UID:10001844-1779037200-1779044400@anchorcovenant.org
SUMMARY:Buoy HS
DESCRIPTION:All High Schoolers welcome. \nJoin us for Buoy at Anchor Covenant Church every Sunday from 5-7 pm.
URL:https://anchorcovenant.org/event/buoy-hs/2026-05-17/
LOCATION:WI
ATTACH;FMTTYPE=image/webp:https://anchorcovenant.org/wp-content/uploads/2025/08/Screenshot-2025-09-18-at-11.47.20-AM.webp
END:VEVENT
BEGIN:VEVENT
DTSTART;TZID=UTC:20260520T070000
DTEND;TZID=UTC:20260520T080000
DTSTAMP:20260423T222729
CREATED:20250731T124751Z
LAST-MODIFIED:20251216T215002Z
UID:10000301-1779260400-1779264000@anchorcovenant.org
SUMMARY:Men's Coffee
DESCRIPTION:Join us for Wednesday Men’s Coffee at 7:00am at Anchor Covenant Church. \nContact Pete for details: pjheintzelman@gmail.com
URL:https://anchorcovenant.org/event/mens-coffee-5/2026-05-20/
LOCATION:Anchor Covenant Church\, 1229 Park Row\, Lake Geneva\, WI
ATTACH;FMTTYPE=image/jpeg:https://anchorcovenant.org/wp-content/uploads/2025/07/unnamed-1.jpg
END:VEVENT
BEGIN:VEVENT
DTSTART;TZID=UTC:20260520T190000
DTEND;TZID=UTC:20260520T200000
DTSTAMP:20260423T222729
CREATED:20260114T155752Z
LAST-MODIFIED:20260325T134649Z
UID:10001254-1779303600-1779307200@anchorcovenant.org
SUMMARY:Young Adults Bible Study
DESCRIPTION:Join us Wednesdays at 7:00pm for the Young Adults Bible Study. \nFirst\, Third\, and Fifth Wednesdays we will meet at Anchor in the Buoy Room. \nSecond and Fourth Wednesdays we will be doing outings in the community\, contact Emma at emma.devries@anchorcovenant.org for details.
URL:https://anchorcovenant.org/event/young-adults-bible-study-2/2026-05-20/
LOCATION:Anchor Covenant Church\, 1229 Park Row\, Lake Geneva\, WI
ATTACH;FMTTYPE=image/png:https://anchorcovenant.org/wp-content/uploads/2026/01/unnamed-2026-03-25T084611.930.png
END:VEVENT
BEGIN:VEVENT
DTSTART;TZID=UTC:20260521T130000
DTEND;TZID=UTC:20260521T140000
DTSTAMP:20260423T222729
CREATED:20260408T142610Z
LAST-MODIFIED:20260408T142612Z
UID:10000561-1779368400-1779372000@anchorcovenant.org
SUMMARY:She Reads Truth
DESCRIPTION:Join us for the She Reads Truth Bible Study every Thursday at 1:00pm at Anchor.
URL:https://anchorcovenant.org/event/she-reads-truth-2-2/2026-05-21/
LOCATION:Anchor Covenant Church\, 1229 Park Row\, Lake Geneva\, WI
ATTACH;FMTTYPE=image/png:https://anchorcovenant.org/wp-content/uploads/2026/01/unnamed-2026-04-08T092458.455.png
END:VEVENT
BEGIN:VEVENT
DTSTART;TZID=UTC:20260523T080000
DTEND;TZID=UTC:20260523T090000
DTSTAMP:20260423T222729
CREATED:20260115T181119Z
LAST-MODIFIED:20260304T214621Z
UID:10001515-1779523200-1779526800@anchorcovenant.org
SUMMARY:Hour of Prayer
DESCRIPTION:Please join us for an hour of prayer each week at Anchor hosted by El Buen Pastor\, every Saturday at 8:00am
URL:https://anchorcovenant.org/event/hour-of-prayer-2-2/2026-05-23/
LOCATION:Anchor Covenant Church\, 1229 Park Row\, Lake Geneva\, WI
ATTACH;FMTTYPE=image/png:https://anchorcovenant.org/wp-content/uploads/2026/01/unnamed-100.png
END:VEVENT
BEGIN:VEVENT
DTSTART;TZID=UTC:20260524T093000
DTEND;TZID=UTC:20260524T101500
DTSTAMP:20260423T222729
CREATED:20260325T133604Z
LAST-MODIFIED:20260325T133742Z
UID:10001772-1779615000-1779617700@anchorcovenant.org
SUMMARY:Grow
DESCRIPTION:Join us for Grow every Sunday from 9:30-10:15.
URL:https://anchorcovenant.org/event/grow-2/2026-05-24/
LOCATION:WI
ATTACH;FMTTYPE=image/jpeg:https://anchorcovenant.org/wp-content/uploads/2025/12/unnamed-9.jpg
END:VEVENT
BEGIN:VEVENT
DTSTART;TZID=UTC:20260524T103000
DTEND;TZID=UTC:20260524T114500
DTSTAMP:20260423T222729
CREATED:20251216T220604Z
LAST-MODIFIED:20251216T220604Z
UID:10001994-1779618600-1779623100@anchorcovenant.org
SUMMARY:Service
DESCRIPTION:Join us every Sunday from 10:30-11:45 for our service online or in person at Anchor Covenant Church.
URL:https://anchorcovenant.org/event/service/2026-05-24/
LOCATION:Anchor Covenant Church\, 1229 Park Row\, Lake Geneva\, WI
ATTACH;FMTTYPE=image/png:https://anchorcovenant.org/wp-content/uploads/2025/12/Anchor.png
END:VEVENT
BEGIN:VEVENT
DTSTART;TZID=UTC:20260524T160000
DTEND;TZID=UTC:20260524T180000
DTSTAMP:20260423T222729
CREATED:20250826T180922Z
LAST-MODIFIED:20260325T134226Z
UID:10001916-1779638400-1779645600@anchorcovenant.org
SUMMARY:Buoy 68
DESCRIPTION:All Middle Schoolers welcome. \nJoin us for Buoy at Anchor Covenant Church every Sunday from 4-6pm.
URL:https://anchorcovenant.org/event/buoy-68/2026-05-24/
LOCATION:WI
ATTACH;FMTTYPE=image/png:https://anchorcovenant.org/wp-content/uploads/2025/08/Screenshot-2025-09-18-at-11.47.20-AM.png
END:VEVENT
BEGIN:VEVENT
DTSTART;TZID=UTC:20260524T170000
DTEND;TZID=UTC:20260524T190000
DTSTAMP:20260423T222729
CREATED:20250826T181055Z
LAST-MODIFIED:20260325T134306Z
UID:10001845-1779642000-1779649200@anchorcovenant.org
SUMMARY:Buoy HS
DESCRIPTION:All High Schoolers welcome. \nJoin us for Buoy at Anchor Covenant Church every Sunday from 5-7 pm.
URL:https://anchorcovenant.org/event/buoy-hs/2026-05-24/
LOCATION:WI
ATTACH;FMTTYPE=image/webp:https://anchorcovenant.org/wp-content/uploads/2025/08/Screenshot-2025-09-18-at-11.47.20-AM.webp
END:VEVENT
BEGIN:VEVENT
DTSTART;TZID=UTC:20260527T070000
DTEND;TZID=UTC:20260527T080000
DTSTAMP:20260423T222729
CREATED:20250731T124751Z
LAST-MODIFIED:20251216T215002Z
UID:10000302-1779865200-1779868800@anchorcovenant.org
SUMMARY:Men's Coffee
DESCRIPTION:Join us for Wednesday Men’s Coffee at 7:00am at Anchor Covenant Church. \nContact Pete for details: pjheintzelman@gmail.com
URL:https://anchorcovenant.org/event/mens-coffee-5/2026-05-27/
LOCATION:Anchor Covenant Church\, 1229 Park Row\, Lake Geneva\, WI
ATTACH;FMTTYPE=image/jpeg:https://anchorcovenant.org/wp-content/uploads/2025/07/unnamed-1.jpg
END:VEVENT
BEGIN:VEVENT
DTSTART;TZID=UTC:20260527T190000
DTEND;TZID=UTC:20260527T200000
DTSTAMP:20260423T222729
CREATED:20260114T155752Z
LAST-MODIFIED:20260325T134649Z
UID:10001255-1779908400-1779912000@anchorcovenant.org
SUMMARY:Young Adults Bible Study
DESCRIPTION:Join us Wednesdays at 7:00pm for the Young Adults Bible Study. \nFirst\, Third\, and Fifth Wednesdays we will meet at Anchor in the Buoy Room. \nSecond and Fourth Wednesdays we will be doing outings in the community\, contact Emma at emma.devries@anchorcovenant.org for details.
URL:https://anchorcovenant.org/event/young-adults-bible-study-2/2026-05-27/
LOCATION:Anchor Covenant Church\, 1229 Park Row\, Lake Geneva\, WI
ATTACH;FMTTYPE=image/png:https://anchorcovenant.org/wp-content/uploads/2026/01/unnamed-2026-03-25T084611.930.png
END:VEVENT
BEGIN:VEVENT
DTSTART;TZID=UTC:20260528T130000
DTEND;TZID=UTC:20260528T140000
DTSTAMP:20260423T222729
CREATED:20260408T142610Z
LAST-MODIFIED:20260408T142612Z
UID:10000562-1779973200-1779976800@anchorcovenant.org
SUMMARY:She Reads Truth
DESCRIPTION:Join us for the She Reads Truth Bible Study every Thursday at 1:00pm at Anchor.
URL:https://anchorcovenant.org/event/she-reads-truth-2-2/2026-05-28/
LOCATION:Anchor Covenant Church\, 1229 Park Row\, Lake Geneva\, WI
ATTACH;FMTTYPE=image/png:https://anchorcovenant.org/wp-content/uploads/2026/01/unnamed-2026-04-08T092458.455.png
END:VEVENT
BEGIN:VEVENT
DTSTART;TZID=UTC:20260530T080000
DTEND;TZID=UTC:20260530T090000
DTSTAMP:20260423T222729
CREATED:20260115T181119Z
LAST-MODIFIED:20260304T214621Z
UID:10001516-1780128000-1780131600@anchorcovenant.org
SUMMARY:Hour of Prayer
DESCRIPTION:Please join us for an hour of prayer each week at Anchor hosted by El Buen Pastor\, every Saturday at 8:00am
URL:https://anchorcovenant.org/event/hour-of-prayer-2-2/2026-05-30/
LOCATION:Anchor Covenant Church\, 1229 Park Row\, Lake Geneva\, WI
ATTACH;FMTTYPE=image/png:https://anchorcovenant.org/wp-content/uploads/2026/01/unnamed-100.png
END:VEVENT
BEGIN:VEVENT
DTSTART;TZID=UTC:20260531T093000
DTEND;TZID=UTC:20260531T101500
DTSTAMP:20260423T222729
CREATED:20260325T133604Z
LAST-MODIFIED:20260325T133742Z
UID:10001773-1780219800-1780222500@anchorcovenant.org
SUMMARY:Grow
DESCRIPTION:Join us for Grow every Sunday from 9:30-10:15.
URL:https://anchorcovenant.org/event/grow-2/2026-05-31/
LOCATION:WI
ATTACH;FMTTYPE=image/jpeg:https://anchorcovenant.org/wp-content/uploads/2025/12/unnamed-9.jpg
END:VEVENT
BEGIN:VEVENT
DTSTART;TZID=UTC:20260531T103000
DTEND;TZID=UTC:20260531T114500
DTSTAMP:20260423T222729
CREATED:20251216T220604Z
LAST-MODIFIED:20251216T220604Z
UID:10001995-1780223400-1780227900@anchorcovenant.org
SUMMARY:Service
DESCRIPTION:Join us every Sunday from 10:30-11:45 for our service online or in person at Anchor Covenant Church.
URL:https://anchorcovenant.org/event/service/2026-05-31/
LOCATION:Anchor Covenant Church\, 1229 Park Row\, Lake Geneva\, WI
ATTACH;FMTTYPE=image/png:https://anchorcovenant.org/wp-content/uploads/2025/12/Anchor.png
END:VEVENT
BEGIN:VEVENT
DTSTART;TZID=UTC:20260531T160000
DTEND;TZID=UTC:20260531T173000
DTSTAMP:20260423T222729
CREATED:20260415T121616Z
LAST-MODIFIED:20260415T122007Z
UID:10002921-1780243200-1780248600@anchorcovenant.org
SUMMARY:Kids Family Night
DESCRIPTION:For kids ages 5th grade and below along with their families. Come join us for devos\, games\, and snacks.
URL:https://anchorcovenant.org/event/kids-family-night/
LOCATION:Anchor Covenant Church\, 1229 Park Row\, Lake Geneva\, WI
ATTACH;FMTTYPE=image/webp:https://anchorcovenant.org/wp-content/uploads/2026/04/unnamed-2026-04-15T071124.091-scaled.webp
END:VEVENT
BEGIN:VEVENT
DTSTART;TZID=UTC:20260531T160000
DTEND;TZID=UTC:20260531T180000
DTSTAMP:20260423T222729
CREATED:20250826T180922Z
LAST-MODIFIED:20260325T134226Z
UID:10001917-1780243200-1780250400@anchorcovenant.org
SUMMARY:Buoy 68
DESCRIPTION:All Middle Schoolers welcome. \nJoin us for Buoy at Anchor Covenant Church every Sunday from 4-6pm.
URL:https://anchorcovenant.org/event/buoy-68/2026-05-31/
LOCATION:WI
ATTACH;FMTTYPE=image/png:https://anchorcovenant.org/wp-content/uploads/2025/08/Screenshot-2025-09-18-at-11.47.20-AM.png
END:VEVENT
BEGIN:VEVENT
DTSTART;TZID=UTC:20260531T170000
DTEND;TZID=UTC:20260531T190000
DTSTAMP:20260423T222729
CREATED:20250826T181055Z
LAST-MODIFIED:20260325T134306Z
UID:10001846-1780246800-1780254000@anchorcovenant.org
SUMMARY:Buoy HS
DESCRIPTION:All High Schoolers welcome. \nJoin us for Buoy at Anchor Covenant Church every Sunday from 5-7 pm.
URL:https://anchorcovenant.org/event/buoy-hs/2026-05-31/
LOCATION:WI
ATTACH;FMTTYPE=image/webp:https://anchorcovenant.org/wp-content/uploads/2025/08/Screenshot-2025-09-18-at-11.47.20-AM.webp
END:VEVENT
BEGIN:VEVENT
DTSTART;TZID=UTC:20260603T070000
DTEND;TZID=UTC:20260603T080000
DTSTAMP:20260423T222729
CREATED:20250731T124751Z
LAST-MODIFIED:20251216T215002Z
UID:10000303-1780470000-1780473600@anchorcovenant.org
SUMMARY:Men's Coffee
DESCRIPTION:Join us for Wednesday Men’s Coffee at 7:00am at Anchor Covenant Church. \nContact Pete for details: pjheintzelman@gmail.com
URL:https://anchorcovenant.org/event/mens-coffee-5/2026-06-03/
LOCATION:Anchor Covenant Church\, 1229 Park Row\, Lake Geneva\, WI
ATTACH;FMTTYPE=image/jpeg:https://anchorcovenant.org/wp-content/uploads/2025/07/unnamed-1.jpg
END:VEVENT
BEGIN:VEVENT
DTSTART;TZID=UTC:20260603T190000
DTEND;TZID=UTC:20260603T200000
DTSTAMP:20260423T222729
CREATED:20260114T155752Z
LAST-MODIFIED:20260325T134649Z
UID:10001256-1780513200-1780516800@anchorcovenant.org
SUMMARY:Young Adults Bible Study
DESCRIPTION:Join us Wednesdays at 7:00pm for the Young Adults Bible Study. \nFirst\, Third\, and Fifth Wednesdays we will meet at Anchor in the Buoy Room. \nSecond and Fourth Wednesdays we will be doing outings in the community\, contact Emma at emma.devries@anchorcovenant.org for details.
URL:https://anchorcovenant.org/event/young-adults-bible-study-2/2026-06-03/
LOCATION:Anchor Covenant Church\, 1229 Park Row\, Lake Geneva\, WI
ATTACH;FMTTYPE=image/png:https://anchorcovenant.org/wp-content/uploads/2026/01/unnamed-2026-03-25T084611.930.png
END:VEVENT
BEGIN:VEVENT
DTSTART;TZID=UTC:20260604T130000
DTEND;TZID=UTC:20260604T140000
DTSTAMP:20260423T222729
CREATED:20260408T142610Z
LAST-MODIFIED:20260408T142612Z
UID:10000563-1780578000-1780581600@anchorcovenant.org
SUMMARY:She Reads Truth
DESCRIPTION:Join us for the She Reads Truth Bible Study every Thursday at 1:00pm at Anchor.
URL:https://anchorcovenant.org/event/she-reads-truth-2-2/2026-06-04/
LOCATION:Anchor Covenant Church\, 1229 Park Row\, Lake Geneva\, WI
ATTACH;FMTTYPE=image/png:https://anchorcovenant.org/wp-content/uploads/2026/01/unnamed-2026-04-08T092458.455.png
END:VEVENT
BEGIN:VEVENT
DTSTART;TZID=UTC:20260606T080000
DTEND;TZID=UTC:20260606T090000
DTSTAMP:20260423T222729
CREATED:20260115T181119Z
LAST-MODIFIED:20260304T214621Z
UID:10001517-1780732800-1780736400@anchorcovenant.org
SUMMARY:Hour of Prayer
DESCRIPTION:Please join us for an hour of prayer each week at Anchor hosted by El Buen Pastor\, every Saturday at 8:00am
URL:https://anchorcovenant.org/event/hour-of-prayer-2-2/2026-06-06/
LOCATION:Anchor Covenant Church\, 1229 Park Row\, Lake Geneva\, WI
ATTACH;FMTTYPE=image/png:https://anchorcovenant.org/wp-content/uploads/2026/01/unnamed-100.png
END:VEVENT
BEGIN:VEVENT
DTSTART;TZID=UTC:20260607T093000
DTEND;TZID=UTC:20260607T101500
DTSTAMP:20260423T222729
CREATED:20260325T133604Z
LAST-MODIFIED:20260325T133742Z
UID:10001774-1780824600-1780827300@anchorcovenant.org
SUMMARY:Grow
DESCRIPTION:Join us for Grow every Sunday from 9:30-10:15.
URL:https://anchorcovenant.org/event/grow-2/2026-06-07/
LOCATION:WI
ATTACH;FMTTYPE=image/jpeg:https://anchorcovenant.org/wp-content/uploads/2025/12/unnamed-9.jpg
END:VEVENT
BEGIN:VEVENT
DTSTART;TZID=UTC:20260607T103000
DTEND;TZID=UTC:20260607T114500
DTSTAMP:20260423T222729
CREATED:20251216T220604Z
LAST-MODIFIED:20251216T220604Z
UID:10001996-1780828200-1780832700@anchorcovenant.org
SUMMARY:Service
DESCRIPTION:Join us every Sunday from 10:30-11:45 for our service online or in person at Anchor Covenant Church.
URL:https://anchorcovenant.org/event/service/2026-06-07/
LOCATION:Anchor Covenant Church\, 1229 Park Row\, Lake Geneva\, WI
ATTACH;FMTTYPE=image/png:https://anchorcovenant.org/wp-content/uploads/2025/12/Anchor.png
END:VEVENT
BEGIN:VEVENT
DTSTART;TZID=UTC:20260607T160000
DTEND;TZID=UTC:20260607T180000
DTSTAMP:20260423T222729
CREATED:20250826T180922Z
LAST-MODIFIED:20260325T134226Z
UID:10001918-1780848000-1780855200@anchorcovenant.org
SUMMARY:Buoy 68
DESCRIPTION:All Middle Schoolers welcome. \nJoin us for Buoy at Anchor Covenant Church every Sunday from 4-6pm.
URL:https://anchorcovenant.org/event/buoy-68/2026-06-07/
LOCATION:WI
ATTACH;FMTTYPE=image/png:https://anchorcovenant.org/wp-content/uploads/2025/08/Screenshot-2025-09-18-at-11.47.20-AM.png
END:VEVENT
BEGIN:VEVENT
DTSTART;TZID=UTC:20260607T170000
DTEND;TZID=UTC:20260607T190000
DTSTAMP:20260423T222729
CREATED:20250826T181055Z
LAST-MODIFIED:20260325T134306Z
UID:10001847-1780851600-1780858800@anchorcovenant.org
SUMMARY:Buoy HS
DESCRIPTION:All High Schoolers welcome. \nJoin us for Buoy at Anchor Covenant Church every Sunday from 5-7 pm.
URL:https://anchorcovenant.org/event/buoy-hs/2026-06-07/
LOCATION:WI
ATTACH;FMTTYPE=image/webp:https://anchorcovenant.org/wp-content/uploads/2025/08/Screenshot-2025-09-18-at-11.47.20-AM.webp
END:VEVENT
END:VCALENDAR