BEGIN:VCALENDAR
VERSION:2.0
PRODID:-//Anchor Covenant Church - ECPv6.15.20//NONSGML v1.0//EN
CALSCALE:GREGORIAN
METHOD:PUBLISH
X-ORIGINAL-URL:https://anchorcovenant.org
X-WR-CALDESC:Events for Anchor Covenant Church
REFRESH-INTERVAL;VALUE=DURATION:PT1H
X-Robots-Tag:noindex
X-PUBLISHED-TTL:PT1H
BEGIN:VTIMEZONE
TZID:UTC
BEGIN:STANDARD
TZOFFSETFROM:+0000
TZOFFSETTO:+0000
TZNAME:UTC
DTSTART:20280101T000000
END:STANDARD
END:VTIMEZONE
BEGIN:VEVENT
DTSTART;TZID=UTC:20290303T080000
DTEND;TZID=UTC:20290303T090000
DTSTAMP:20260425T234227
CREATED:20260115T181119Z
LAST-MODIFIED:20260304T214621Z
UID:10001660-1867219200-1867222800@anchorcovenant.org
SUMMARY:Hour of Prayer
DESCRIPTION:Please join us for an hour of prayer each week at Anchor hosted by El Buen Pastor\, every Saturday at 8:00am
URL:https://anchorcovenant.org/event/hour-of-prayer-2-2/2029-03-03/
LOCATION:Anchor Covenant Church\, 1229 Park Row\, Lake Geneva\, WI
ATTACH;FMTTYPE=image/png:https://anchorcovenant.org/wp-content/uploads/2026/01/unnamed-100.png
END:VEVENT
BEGIN:VEVENT
DTSTART;TZID=UTC:20290304T103000
DTEND;TZID=UTC:20290304T114500
DTSTAMP:20260425T234227
CREATED:20251216T220604Z
LAST-MODIFIED:20251216T220604Z
UID:10002139-1867314600-1867319100@anchorcovenant.org
SUMMARY:Service
DESCRIPTION:Join us every Sunday from 10:30-11:45 for our service online or in person at Anchor Covenant Church.
URL:https://anchorcovenant.org/event/service/2029-03-04/
LOCATION:Anchor Covenant Church\, 1229 Park Row\, Lake Geneva\, WI
ATTACH;FMTTYPE=image/png:https://anchorcovenant.org/wp-content/uploads/2025/12/Anchor.png
END:VEVENT
BEGIN:VEVENT
DTSTART;TZID=UTC:20290307T070000
DTEND;TZID=UTC:20290307T080000
DTSTAMP:20260425T234227
CREATED:20250731T124751Z
LAST-MODIFIED:20251216T215002Z
UID:10000447-1867561200-1867564800@anchorcovenant.org
SUMMARY:Men's Coffee
DESCRIPTION:Join us for Wednesday Men’s Coffee at 7:00am at Anchor Covenant Church. \nContact Pete for details: pjheintzelman@gmail.com
URL:https://anchorcovenant.org/event/mens-coffee-5/2029-03-07/
LOCATION:Anchor Covenant Church\, 1229 Park Row\, Lake Geneva\, WI
ATTACH;FMTTYPE=image/jpeg:https://anchorcovenant.org/wp-content/uploads/2025/07/unnamed-1.jpg
END:VEVENT
BEGIN:VEVENT
DTSTART;TZID=UTC:20290307T190000
DTEND;TZID=UTC:20290307T200000
DTSTAMP:20260425T234227
CREATED:20260114T155752Z
LAST-MODIFIED:20260325T134649Z
UID:10001400-1867604400-1867608000@anchorcovenant.org
SUMMARY:Young Adults Bible Study
DESCRIPTION:Join us Wednesdays at 7:00pm for the Young Adults Bible Study. \nFirst\, Third\, and Fifth Wednesdays we will meet at Anchor in the Buoy Room. \nSecond and Fourth Wednesdays we will be doing outings in the community\, contact Emma at emma.devries@anchorcovenant.org for details.
URL:https://anchorcovenant.org/event/young-adults-bible-study-2/2029-03-07/
LOCATION:Anchor Covenant Church\, 1229 Park Row\, Lake Geneva\, WI
ATTACH;FMTTYPE=image/png:https://anchorcovenant.org/wp-content/uploads/2026/01/unnamed-2026-03-25T084611.930.png
END:VEVENT
BEGIN:VEVENT
DTSTART;TZID=UTC:20290310T080000
DTEND;TZID=UTC:20290310T090000
DTSTAMP:20260425T234227
CREATED:20260115T181119Z
LAST-MODIFIED:20260304T214621Z
UID:10001661-1867824000-1867827600@anchorcovenant.org
SUMMARY:Hour of Prayer
DESCRIPTION:Please join us for an hour of prayer each week at Anchor hosted by El Buen Pastor\, every Saturday at 8:00am
URL:https://anchorcovenant.org/event/hour-of-prayer-2-2/2029-03-10/
LOCATION:Anchor Covenant Church\, 1229 Park Row\, Lake Geneva\, WI
ATTACH;FMTTYPE=image/png:https://anchorcovenant.org/wp-content/uploads/2026/01/unnamed-100.png
END:VEVENT
BEGIN:VEVENT
DTSTART;TZID=UTC:20290311T103000
DTEND;TZID=UTC:20290311T114500
DTSTAMP:20260425T234227
CREATED:20251216T220604Z
LAST-MODIFIED:20251216T220604Z
UID:10002140-1867919400-1867923900@anchorcovenant.org
SUMMARY:Service
DESCRIPTION:Join us every Sunday from 10:30-11:45 for our service online or in person at Anchor Covenant Church.
URL:https://anchorcovenant.org/event/service/2029-03-11/
LOCATION:Anchor Covenant Church\, 1229 Park Row\, Lake Geneva\, WI
ATTACH;FMTTYPE=image/png:https://anchorcovenant.org/wp-content/uploads/2025/12/Anchor.png
END:VEVENT
BEGIN:VEVENT
DTSTART;TZID=UTC:20290314T070000
DTEND;TZID=UTC:20290314T080000
DTSTAMP:20260425T234227
CREATED:20250731T124751Z
LAST-MODIFIED:20251216T215002Z
UID:10000448-1868166000-1868169600@anchorcovenant.org
SUMMARY:Men's Coffee
DESCRIPTION:Join us for Wednesday Men’s Coffee at 7:00am at Anchor Covenant Church. \nContact Pete for details: pjheintzelman@gmail.com
URL:https://anchorcovenant.org/event/mens-coffee-5/2029-03-14/
LOCATION:Anchor Covenant Church\, 1229 Park Row\, Lake Geneva\, WI
ATTACH;FMTTYPE=image/jpeg:https://anchorcovenant.org/wp-content/uploads/2025/07/unnamed-1.jpg
END:VEVENT
BEGIN:VEVENT
DTSTART;TZID=UTC:20290314T190000
DTEND;TZID=UTC:20290314T200000
DTSTAMP:20260425T234227
CREATED:20260114T155752Z
LAST-MODIFIED:20260325T134649Z
UID:10001401-1868209200-1868212800@anchorcovenant.org
SUMMARY:Young Adults Bible Study
DESCRIPTION:Join us Wednesdays at 7:00pm for the Young Adults Bible Study. \nFirst\, Third\, and Fifth Wednesdays we will meet at Anchor in the Buoy Room. \nSecond and Fourth Wednesdays we will be doing outings in the community\, contact Emma at emma.devries@anchorcovenant.org for details.
URL:https://anchorcovenant.org/event/young-adults-bible-study-2/2029-03-14/
LOCATION:Anchor Covenant Church\, 1229 Park Row\, Lake Geneva\, WI
ATTACH;FMTTYPE=image/png:https://anchorcovenant.org/wp-content/uploads/2026/01/unnamed-2026-03-25T084611.930.png
END:VEVENT
BEGIN:VEVENT
DTSTART;TZID=UTC:20290317T080000
DTEND;TZID=UTC:20290317T090000
DTSTAMP:20260425T234227
CREATED:20260115T181119Z
LAST-MODIFIED:20260304T214621Z
UID:10001662-1868428800-1868432400@anchorcovenant.org
SUMMARY:Hour of Prayer
DESCRIPTION:Please join us for an hour of prayer each week at Anchor hosted by El Buen Pastor\, every Saturday at 8:00am
URL:https://anchorcovenant.org/event/hour-of-prayer-2-2/2029-03-17/
LOCATION:Anchor Covenant Church\, 1229 Park Row\, Lake Geneva\, WI
ATTACH;FMTTYPE=image/png:https://anchorcovenant.org/wp-content/uploads/2026/01/unnamed-100.png
END:VEVENT
BEGIN:VEVENT
DTSTART;TZID=UTC:20290318T103000
DTEND;TZID=UTC:20290318T114500
DTSTAMP:20260425T234227
CREATED:20251216T220604Z
LAST-MODIFIED:20251216T220604Z
UID:10002141-1868524200-1868528700@anchorcovenant.org
SUMMARY:Service
DESCRIPTION:Join us every Sunday from 10:30-11:45 for our service online or in person at Anchor Covenant Church.
URL:https://anchorcovenant.org/event/service/2029-03-18/
LOCATION:Anchor Covenant Church\, 1229 Park Row\, Lake Geneva\, WI
ATTACH;FMTTYPE=image/png:https://anchorcovenant.org/wp-content/uploads/2025/12/Anchor.png
END:VEVENT
BEGIN:VEVENT
DTSTART;TZID=UTC:20290321T070000
DTEND;TZID=UTC:20290321T080000
DTSTAMP:20260425T234227
CREATED:20250731T124751Z
LAST-MODIFIED:20251216T215002Z
UID:10000449-1868770800-1868774400@anchorcovenant.org
SUMMARY:Men's Coffee
DESCRIPTION:Join us for Wednesday Men’s Coffee at 7:00am at Anchor Covenant Church. \nContact Pete for details: pjheintzelman@gmail.com
URL:https://anchorcovenant.org/event/mens-coffee-5/2029-03-21/
LOCATION:Anchor Covenant Church\, 1229 Park Row\, Lake Geneva\, WI
ATTACH;FMTTYPE=image/jpeg:https://anchorcovenant.org/wp-content/uploads/2025/07/unnamed-1.jpg
END:VEVENT
BEGIN:VEVENT
DTSTART;TZID=UTC:20290321T190000
DTEND;TZID=UTC:20290321T200000
DTSTAMP:20260425T234227
CREATED:20260114T155752Z
LAST-MODIFIED:20260325T134649Z
UID:10001402-1868814000-1868817600@anchorcovenant.org
SUMMARY:Young Adults Bible Study
DESCRIPTION:Join us Wednesdays at 7:00pm for the Young Adults Bible Study. \nFirst\, Third\, and Fifth Wednesdays we will meet at Anchor in the Buoy Room. \nSecond and Fourth Wednesdays we will be doing outings in the community\, contact Emma at emma.devries@anchorcovenant.org for details.
URL:https://anchorcovenant.org/event/young-adults-bible-study-2/2029-03-21/
LOCATION:Anchor Covenant Church\, 1229 Park Row\, Lake Geneva\, WI
ATTACH;FMTTYPE=image/png:https://anchorcovenant.org/wp-content/uploads/2026/01/unnamed-2026-03-25T084611.930.png
END:VEVENT
BEGIN:VEVENT
DTSTART;TZID=UTC:20290324T080000
DTEND;TZID=UTC:20290324T090000
DTSTAMP:20260425T234227
CREATED:20260115T181119Z
LAST-MODIFIED:20260304T214621Z
UID:10001663-1869033600-1869037200@anchorcovenant.org
SUMMARY:Hour of Prayer
DESCRIPTION:Please join us for an hour of prayer each week at Anchor hosted by El Buen Pastor\, every Saturday at 8:00am
URL:https://anchorcovenant.org/event/hour-of-prayer-2-2/2029-03-24/
LOCATION:Anchor Covenant Church\, 1229 Park Row\, Lake Geneva\, WI
ATTACH;FMTTYPE=image/png:https://anchorcovenant.org/wp-content/uploads/2026/01/unnamed-100.png
END:VEVENT
BEGIN:VEVENT
DTSTART;TZID=UTC:20290325T103000
DTEND;TZID=UTC:20290325T114500
DTSTAMP:20260425T234227
CREATED:20251216T220604Z
LAST-MODIFIED:20251216T220604Z
UID:10002142-1869129000-1869133500@anchorcovenant.org
SUMMARY:Service
DESCRIPTION:Join us every Sunday from 10:30-11:45 for our service online or in person at Anchor Covenant Church.
URL:https://anchorcovenant.org/event/service/2029-03-25/
LOCATION:Anchor Covenant Church\, 1229 Park Row\, Lake Geneva\, WI
ATTACH;FMTTYPE=image/png:https://anchorcovenant.org/wp-content/uploads/2025/12/Anchor.png
END:VEVENT
BEGIN:VEVENT
DTSTART;TZID=UTC:20290328T070000
DTEND;TZID=UTC:20290328T080000
DTSTAMP:20260425T234227
CREATED:20250731T124751Z
LAST-MODIFIED:20251216T215002Z
UID:10000450-1869375600-1869379200@anchorcovenant.org
SUMMARY:Men's Coffee
DESCRIPTION:Join us for Wednesday Men’s Coffee at 7:00am at Anchor Covenant Church. \nContact Pete for details: pjheintzelman@gmail.com
URL:https://anchorcovenant.org/event/mens-coffee-5/2029-03-28/
LOCATION:Anchor Covenant Church\, 1229 Park Row\, Lake Geneva\, WI
ATTACH;FMTTYPE=image/jpeg:https://anchorcovenant.org/wp-content/uploads/2025/07/unnamed-1.jpg
END:VEVENT
BEGIN:VEVENT
DTSTART;TZID=UTC:20290328T190000
DTEND;TZID=UTC:20290328T200000
DTSTAMP:20260425T234228
CREATED:20260114T155752Z
LAST-MODIFIED:20260325T134649Z
UID:10001403-1869418800-1869422400@anchorcovenant.org
SUMMARY:Young Adults Bible Study
DESCRIPTION:Join us Wednesdays at 7:00pm for the Young Adults Bible Study. \nFirst\, Third\, and Fifth Wednesdays we will meet at Anchor in the Buoy Room. \nSecond and Fourth Wednesdays we will be doing outings in the community\, contact Emma at emma.devries@anchorcovenant.org for details.
URL:https://anchorcovenant.org/event/young-adults-bible-study-2/2029-03-28/
LOCATION:Anchor Covenant Church\, 1229 Park Row\, Lake Geneva\, WI
ATTACH;FMTTYPE=image/png:https://anchorcovenant.org/wp-content/uploads/2026/01/unnamed-2026-03-25T084611.930.png
END:VEVENT
BEGIN:VEVENT
DTSTART;TZID=UTC:20290331T080000
DTEND;TZID=UTC:20290331T090000
DTSTAMP:20260425T234228
CREATED:20260115T181119Z
LAST-MODIFIED:20260304T214621Z
UID:10001664-1869638400-1869642000@anchorcovenant.org
SUMMARY:Hour of Prayer
DESCRIPTION:Please join us for an hour of prayer each week at Anchor hosted by El Buen Pastor\, every Saturday at 8:00am
URL:https://anchorcovenant.org/event/hour-of-prayer-2-2/2029-03-31/
LOCATION:Anchor Covenant Church\, 1229 Park Row\, Lake Geneva\, WI
ATTACH;FMTTYPE=image/png:https://anchorcovenant.org/wp-content/uploads/2026/01/unnamed-100.png
END:VEVENT
BEGIN:VEVENT
DTSTART;TZID=UTC:20290401T103000
DTEND;TZID=UTC:20290401T114500
DTSTAMP:20260425T234228
CREATED:20251216T220604Z
LAST-MODIFIED:20251216T220604Z
UID:10002143-1869733800-1869738300@anchorcovenant.org
SUMMARY:Service
DESCRIPTION:Join us every Sunday from 10:30-11:45 for our service online or in person at Anchor Covenant Church.
URL:https://anchorcovenant.org/event/service/2029-04-01/
LOCATION:Anchor Covenant Church\, 1229 Park Row\, Lake Geneva\, WI
ATTACH;FMTTYPE=image/png:https://anchorcovenant.org/wp-content/uploads/2025/12/Anchor.png
END:VEVENT
BEGIN:VEVENT
DTSTART;TZID=UTC:20290404T070000
DTEND;TZID=UTC:20290404T080000
DTSTAMP:20260425T234228
CREATED:20250731T124751Z
LAST-MODIFIED:20251216T215002Z
UID:10000451-1869980400-1869984000@anchorcovenant.org
SUMMARY:Men's Coffee
DESCRIPTION:Join us for Wednesday Men’s Coffee at 7:00am at Anchor Covenant Church. \nContact Pete for details: pjheintzelman@gmail.com
URL:https://anchorcovenant.org/event/mens-coffee-5/2029-04-04/
LOCATION:Anchor Covenant Church\, 1229 Park Row\, Lake Geneva\, WI
ATTACH;FMTTYPE=image/jpeg:https://anchorcovenant.org/wp-content/uploads/2025/07/unnamed-1.jpg
END:VEVENT
BEGIN:VEVENT
DTSTART;TZID=UTC:20290404T190000
DTEND;TZID=UTC:20290404T200000
DTSTAMP:20260425T234228
CREATED:20260114T155752Z
LAST-MODIFIED:20260325T134649Z
UID:10001404-1870023600-1870027200@anchorcovenant.org
SUMMARY:Young Adults Bible Study
DESCRIPTION:Join us Wednesdays at 7:00pm for the Young Adults Bible Study. \nFirst\, Third\, and Fifth Wednesdays we will meet at Anchor in the Buoy Room. \nSecond and Fourth Wednesdays we will be doing outings in the community\, contact Emma at emma.devries@anchorcovenant.org for details.
URL:https://anchorcovenant.org/event/young-adults-bible-study-2/2029-04-04/
LOCATION:Anchor Covenant Church\, 1229 Park Row\, Lake Geneva\, WI
ATTACH;FMTTYPE=image/png:https://anchorcovenant.org/wp-content/uploads/2026/01/unnamed-2026-03-25T084611.930.png
END:VEVENT
BEGIN:VEVENT
DTSTART;TZID=UTC:20290407T080000
DTEND;TZID=UTC:20290407T090000
DTSTAMP:20260425T234228
CREATED:20260115T181119Z
LAST-MODIFIED:20260304T214621Z
UID:10001665-1870243200-1870246800@anchorcovenant.org
SUMMARY:Hour of Prayer
DESCRIPTION:Please join us for an hour of prayer each week at Anchor hosted by El Buen Pastor\, every Saturday at 8:00am
URL:https://anchorcovenant.org/event/hour-of-prayer-2-2/2029-04-07/
LOCATION:Anchor Covenant Church\, 1229 Park Row\, Lake Geneva\, WI
ATTACH;FMTTYPE=image/png:https://anchorcovenant.org/wp-content/uploads/2026/01/unnamed-100.png
END:VEVENT
BEGIN:VEVENT
DTSTART;TZID=UTC:20290408T103000
DTEND;TZID=UTC:20290408T114500
DTSTAMP:20260425T234228
CREATED:20251216T220604Z
LAST-MODIFIED:20251216T220604Z
UID:10002144-1870338600-1870343100@anchorcovenant.org
SUMMARY:Service
DESCRIPTION:Join us every Sunday from 10:30-11:45 for our service online or in person at Anchor Covenant Church.
URL:https://anchorcovenant.org/event/service/2029-04-08/
LOCATION:Anchor Covenant Church\, 1229 Park Row\, Lake Geneva\, WI
ATTACH;FMTTYPE=image/png:https://anchorcovenant.org/wp-content/uploads/2025/12/Anchor.png
END:VEVENT
BEGIN:VEVENT
DTSTART;TZID=UTC:20290411T070000
DTEND;TZID=UTC:20290411T080000
DTSTAMP:20260425T234228
CREATED:20250731T124751Z
LAST-MODIFIED:20251216T215002Z
UID:10000452-1870585200-1870588800@anchorcovenant.org
SUMMARY:Men's Coffee
DESCRIPTION:Join us for Wednesday Men’s Coffee at 7:00am at Anchor Covenant Church. \nContact Pete for details: pjheintzelman@gmail.com
URL:https://anchorcovenant.org/event/mens-coffee-5/2029-04-11/
LOCATION:Anchor Covenant Church\, 1229 Park Row\, Lake Geneva\, WI
ATTACH;FMTTYPE=image/jpeg:https://anchorcovenant.org/wp-content/uploads/2025/07/unnamed-1.jpg
END:VEVENT
BEGIN:VEVENT
DTSTART;TZID=UTC:20290411T190000
DTEND;TZID=UTC:20290411T200000
DTSTAMP:20260425T234228
CREATED:20260114T155752Z
LAST-MODIFIED:20260325T134649Z
UID:10001405-1870628400-1870632000@anchorcovenant.org
SUMMARY:Young Adults Bible Study
DESCRIPTION:Join us Wednesdays at 7:00pm for the Young Adults Bible Study. \nFirst\, Third\, and Fifth Wednesdays we will meet at Anchor in the Buoy Room. \nSecond and Fourth Wednesdays we will be doing outings in the community\, contact Emma at emma.devries@anchorcovenant.org for details.
URL:https://anchorcovenant.org/event/young-adults-bible-study-2/2029-04-11/
LOCATION:Anchor Covenant Church\, 1229 Park Row\, Lake Geneva\, WI
ATTACH;FMTTYPE=image/png:https://anchorcovenant.org/wp-content/uploads/2026/01/unnamed-2026-03-25T084611.930.png
END:VEVENT
BEGIN:VEVENT
DTSTART;TZID=UTC:20290414T080000
DTEND;TZID=UTC:20290414T090000
DTSTAMP:20260425T234228
CREATED:20260115T181119Z
LAST-MODIFIED:20260304T214621Z
UID:10001666-1870848000-1870851600@anchorcovenant.org
SUMMARY:Hour of Prayer
DESCRIPTION:Please join us for an hour of prayer each week at Anchor hosted by El Buen Pastor\, every Saturday at 8:00am
URL:https://anchorcovenant.org/event/hour-of-prayer-2-2/2029-04-14/
LOCATION:Anchor Covenant Church\, 1229 Park Row\, Lake Geneva\, WI
ATTACH;FMTTYPE=image/png:https://anchorcovenant.org/wp-content/uploads/2026/01/unnamed-100.png
END:VEVENT
BEGIN:VEVENT
DTSTART;TZID=UTC:20290415T103000
DTEND;TZID=UTC:20290415T114500
DTSTAMP:20260425T234228
CREATED:20251216T220604Z
LAST-MODIFIED:20251216T220604Z
UID:10002145-1870943400-1870947900@anchorcovenant.org
SUMMARY:Service
DESCRIPTION:Join us every Sunday from 10:30-11:45 for our service online or in person at Anchor Covenant Church.
URL:https://anchorcovenant.org/event/service/2029-04-15/
LOCATION:Anchor Covenant Church\, 1229 Park Row\, Lake Geneva\, WI
ATTACH;FMTTYPE=image/png:https://anchorcovenant.org/wp-content/uploads/2025/12/Anchor.png
END:VEVENT
BEGIN:VEVENT
DTSTART;TZID=UTC:20290418T070000
DTEND;TZID=UTC:20290418T080000
DTSTAMP:20260425T234228
CREATED:20250731T124751Z
LAST-MODIFIED:20251216T215002Z
UID:10000453-1871190000-1871193600@anchorcovenant.org
SUMMARY:Men's Coffee
DESCRIPTION:Join us for Wednesday Men’s Coffee at 7:00am at Anchor Covenant Church. \nContact Pete for details: pjheintzelman@gmail.com
URL:https://anchorcovenant.org/event/mens-coffee-5/2029-04-18/
LOCATION:Anchor Covenant Church\, 1229 Park Row\, Lake Geneva\, WI
ATTACH;FMTTYPE=image/jpeg:https://anchorcovenant.org/wp-content/uploads/2025/07/unnamed-1.jpg
END:VEVENT
BEGIN:VEVENT
DTSTART;TZID=UTC:20290418T190000
DTEND;TZID=UTC:20290418T200000
DTSTAMP:20260425T234228
CREATED:20260114T155752Z
LAST-MODIFIED:20260325T134649Z
UID:10001406-1871233200-1871236800@anchorcovenant.org
SUMMARY:Young Adults Bible Study
DESCRIPTION:Join us Wednesdays at 7:00pm for the Young Adults Bible Study. \nFirst\, Third\, and Fifth Wednesdays we will meet at Anchor in the Buoy Room. \nSecond and Fourth Wednesdays we will be doing outings in the community\, contact Emma at emma.devries@anchorcovenant.org for details.
URL:https://anchorcovenant.org/event/young-adults-bible-study-2/2029-04-18/
LOCATION:Anchor Covenant Church\, 1229 Park Row\, Lake Geneva\, WI
ATTACH;FMTTYPE=image/png:https://anchorcovenant.org/wp-content/uploads/2026/01/unnamed-2026-03-25T084611.930.png
END:VEVENT
BEGIN:VEVENT
DTSTART;TZID=UTC:20290421T080000
DTEND;TZID=UTC:20290421T090000
DTSTAMP:20260425T234228
CREATED:20260115T181119Z
LAST-MODIFIED:20260304T214621Z
UID:10001667-1871452800-1871456400@anchorcovenant.org
SUMMARY:Hour of Prayer
DESCRIPTION:Please join us for an hour of prayer each week at Anchor hosted by El Buen Pastor\, every Saturday at 8:00am
URL:https://anchorcovenant.org/event/hour-of-prayer-2-2/2029-04-21/
LOCATION:Anchor Covenant Church\, 1229 Park Row\, Lake Geneva\, WI
ATTACH;FMTTYPE=image/png:https://anchorcovenant.org/wp-content/uploads/2026/01/unnamed-100.png
END:VEVENT
BEGIN:VEVENT
DTSTART;TZID=UTC:20290422T103000
DTEND;TZID=UTC:20290422T114500
DTSTAMP:20260425T234228
CREATED:20251216T220604Z
LAST-MODIFIED:20251216T220604Z
UID:10002146-1871548200-1871552700@anchorcovenant.org
SUMMARY:Service
DESCRIPTION:Join us every Sunday from 10:30-11:45 for our service online or in person at Anchor Covenant Church.
URL:https://anchorcovenant.org/event/service/2029-04-22/
LOCATION:Anchor Covenant Church\, 1229 Park Row\, Lake Geneva\, WI
ATTACH;FMTTYPE=image/png:https://anchorcovenant.org/wp-content/uploads/2025/12/Anchor.png
END:VEVENT
END:VCALENDAR