BEGIN:VCALENDAR
VERSION:2.0
PRODID:-//Anchor Covenant Church - ECPv6.15.20//NONSGML v1.0//EN
CALSCALE:GREGORIAN
METHOD:PUBLISH
X-WR-CALNAME:Anchor Covenant Church
X-ORIGINAL-URL:https://anchorcovenant.org
X-WR-CALDESC:Events for Anchor Covenant Church
REFRESH-INTERVAL;VALUE=DURATION:PT1H
X-Robots-Tag:noindex
X-PUBLISHED-TTL:PT1H
BEGIN:VTIMEZONE
TZID:UTC
BEGIN:STANDARD
TZOFFSETFROM:+0000
TZOFFSETTO:+0000
TZNAME:UTC
DTSTART:20220101T000000
END:STANDARD
END:VTIMEZONE
BEGIN:VEVENT
DTSTART;TZID=UTC:20230726T080000
DTEND;TZID=UTC:20230726T150000
DTSTAMP:20260425T130800
CREATED:20230720T160951Z
LAST-MODIFIED:20230720T161045Z
UID:10000002-1690358400-1690383600@anchorcovenant.org
SUMMARY:Work Day
DESCRIPTION:Come and go as you are able! We appreciate you!
URL:https://anchorcovenant.org/event/4111/
LOCATION:WI
ORGANIZER;CN="Heidi Nevoso":MAILTO:hnevoso@gmail.com
END:VEVENT
BEGIN:VEVENT
DTSTART;TZID=UTC:20230722T080000
DTEND;TZID=UTC:20230722T170000
DTSTAMP:20260425T130800
CREATED:20230720T160254Z
LAST-MODIFIED:20230720T160740Z
UID:10000001-1690012800-1690045200@anchorcovenant.org
SUMMARY:Work Day
DESCRIPTION:We need as many people as possible on 7/22 as that is our big push before flooring begins! Many of the jobs include painting and prep for flooring. Contact Heidi Nevoso with any questions: hnevoso@gmail.com
URL:https://anchorcovenant.org/event/work-day/
LOCATION:Anchor Covenant Church\, 1229 Park Row\, Lake Geneva\, WI
END:VEVENT
END:VCALENDAR