BEGIN:VCALENDAR
VERSION:2.0
PRODID:-//Anchor Covenant Church - ECPv6.15.20//NONSGML v1.0//EN
CALSCALE:GREGORIAN
METHOD:PUBLISH
X-ORIGINAL-URL:https://anchorcovenant.org
X-WR-CALDESC:Events for Anchor Covenant Church
REFRESH-INTERVAL;VALUE=DURATION:PT1H
X-Robots-Tag:noindex
X-PUBLISHED-TTL:PT1H
BEGIN:VTIMEZONE
TZID:UTC
BEGIN:STANDARD
TZOFFSETFROM:+0000
TZOFFSETTO:+0000
TZNAME:UTC
DTSTART:20250101T000000
END:STANDARD
END:VTIMEZONE
BEGIN:VEVENT
DTSTART;TZID=UTC:20260614T160000
DTEND;TZID=UTC:20260614T180000
DTSTAMP:20260423T233514
CREATED:20250826T180922Z
LAST-MODIFIED:20260325T134226Z
UID:10001919-1781452800-1781460000@anchorcovenant.org
SUMMARY:Buoy 68
DESCRIPTION:All Middle Schoolers welcome. \nJoin us for Buoy at Anchor Covenant Church every Sunday from 4-6pm.
URL:https://anchorcovenant.org/event/buoy-68/2026-06-14/
LOCATION:WI
ATTACH;FMTTYPE=image/png:https://anchorcovenant.org/wp-content/uploads/2025/08/Screenshot-2025-09-18-at-11.47.20-AM.png
END:VEVENT
BEGIN:VEVENT
DTSTART;TZID=UTC:20260614T170000
DTEND;TZID=UTC:20260614T190000
DTSTAMP:20260423T233514
CREATED:20250826T181055Z
LAST-MODIFIED:20260325T134306Z
UID:10001848-1781456400-1781463600@anchorcovenant.org
SUMMARY:Buoy HS
DESCRIPTION:All High Schoolers welcome. \nJoin us for Buoy at Anchor Covenant Church every Sunday from 5-7 pm.
URL:https://anchorcovenant.org/event/buoy-hs/2026-06-14/
LOCATION:WI
ATTACH;FMTTYPE=image/webp:https://anchorcovenant.org/wp-content/uploads/2025/08/Screenshot-2025-09-18-at-11.47.20-AM.webp
END:VEVENT
BEGIN:VEVENT
DTSTART;TZID=UTC:20260617T070000
DTEND;TZID=UTC:20260617T080000
DTSTAMP:20260423T233514
CREATED:20250731T124751Z
LAST-MODIFIED:20251216T215002Z
UID:10000305-1781679600-1781683200@anchorcovenant.org
SUMMARY:Men's Coffee
DESCRIPTION:Join us for Wednesday Men’s Coffee at 7:00am at Anchor Covenant Church. \nContact Pete for details: pjheintzelman@gmail.com
URL:https://anchorcovenant.org/event/mens-coffee-5/2026-06-17/
LOCATION:Anchor Covenant Church\, 1229 Park Row\, Lake Geneva\, WI
ATTACH;FMTTYPE=image/jpeg:https://anchorcovenant.org/wp-content/uploads/2025/07/unnamed-1.jpg
END:VEVENT
BEGIN:VEVENT
DTSTART;TZID=UTC:20260617T190000
DTEND;TZID=UTC:20260617T200000
DTSTAMP:20260423T233514
CREATED:20260114T155752Z
LAST-MODIFIED:20260325T134649Z
UID:10001258-1781722800-1781726400@anchorcovenant.org
SUMMARY:Young Adults Bible Study
DESCRIPTION:Join us Wednesdays at 7:00pm for the Young Adults Bible Study. \nFirst\, Third\, and Fifth Wednesdays we will meet at Anchor in the Buoy Room. \nSecond and Fourth Wednesdays we will be doing outings in the community\, contact Emma at emma.devries@anchorcovenant.org for details.
URL:https://anchorcovenant.org/event/young-adults-bible-study-2/2026-06-17/
LOCATION:Anchor Covenant Church\, 1229 Park Row\, Lake Geneva\, WI
ATTACH;FMTTYPE=image/png:https://anchorcovenant.org/wp-content/uploads/2026/01/unnamed-2026-03-25T084611.930.png
END:VEVENT
BEGIN:VEVENT
DTSTART;TZID=UTC:20260618T130000
DTEND;TZID=UTC:20260618T140000
DTSTAMP:20260423T233514
CREATED:20260408T142610Z
LAST-MODIFIED:20260408T142612Z
UID:10000565-1781787600-1781791200@anchorcovenant.org
SUMMARY:She Reads Truth
DESCRIPTION:Join us for the She Reads Truth Bible Study every Thursday at 1:00pm at Anchor.
URL:https://anchorcovenant.org/event/she-reads-truth-2-2/2026-06-18/
LOCATION:Anchor Covenant Church\, 1229 Park Row\, Lake Geneva\, WI
ATTACH;FMTTYPE=image/png:https://anchorcovenant.org/wp-content/uploads/2026/01/unnamed-2026-04-08T092458.455.png
END:VEVENT
BEGIN:VEVENT
DTSTART;TZID=UTC:20260620T080000
DTEND;TZID=UTC:20260620T090000
DTSTAMP:20260423T233514
CREATED:20260115T181119Z
LAST-MODIFIED:20260304T214621Z
UID:10001519-1781942400-1781946000@anchorcovenant.org
SUMMARY:Hour of Prayer
DESCRIPTION:Please join us for an hour of prayer each week at Anchor hosted by El Buen Pastor\, every Saturday at 8:00am
URL:https://anchorcovenant.org/event/hour-of-prayer-2-2/2026-06-20/
LOCATION:Anchor Covenant Church\, 1229 Park Row\, Lake Geneva\, WI
ATTACH;FMTTYPE=image/png:https://anchorcovenant.org/wp-content/uploads/2026/01/unnamed-100.png
END:VEVENT
BEGIN:VEVENT
DTSTART;TZID=UTC:20260621T093000
DTEND;TZID=UTC:20260621T101500
DTSTAMP:20260423T233514
CREATED:20260325T133604Z
LAST-MODIFIED:20260325T133742Z
UID:10001776-1782034200-1782036900@anchorcovenant.org
SUMMARY:Grow
DESCRIPTION:Join us for Grow every Sunday from 9:30-10:15.
URL:https://anchorcovenant.org/event/grow-2/2026-06-21/
LOCATION:WI
ATTACH;FMTTYPE=image/jpeg:https://anchorcovenant.org/wp-content/uploads/2025/12/unnamed-9.jpg
END:VEVENT
BEGIN:VEVENT
DTSTART;TZID=UTC:20260621T103000
DTEND;TZID=UTC:20260621T114500
DTSTAMP:20260423T233514
CREATED:20251216T220604Z
LAST-MODIFIED:20251216T220604Z
UID:10001998-1782037800-1782042300@anchorcovenant.org
SUMMARY:Service
DESCRIPTION:Join us every Sunday from 10:30-11:45 for our service online or in person at Anchor Covenant Church.
URL:https://anchorcovenant.org/event/service/2026-06-21/
LOCATION:Anchor Covenant Church\, 1229 Park Row\, Lake Geneva\, WI
ATTACH;FMTTYPE=image/png:https://anchorcovenant.org/wp-content/uploads/2025/12/Anchor.png
END:VEVENT
BEGIN:VEVENT
DTSTART;TZID=UTC:20260621T160000
DTEND;TZID=UTC:20260621T180000
DTSTAMP:20260423T233514
CREATED:20250826T180922Z
LAST-MODIFIED:20260325T134226Z
UID:10001920-1782057600-1782064800@anchorcovenant.org
SUMMARY:Buoy 68
DESCRIPTION:All Middle Schoolers welcome. \nJoin us for Buoy at Anchor Covenant Church every Sunday from 4-6pm.
URL:https://anchorcovenant.org/event/buoy-68/2026-06-21/
LOCATION:WI
ATTACH;FMTTYPE=image/png:https://anchorcovenant.org/wp-content/uploads/2025/08/Screenshot-2025-09-18-at-11.47.20-AM.png
END:VEVENT
BEGIN:VEVENT
DTSTART;TZID=UTC:20260621T170000
DTEND;TZID=UTC:20260621T190000
DTSTAMP:20260423T233514
CREATED:20250826T181055Z
LAST-MODIFIED:20260325T134306Z
UID:10001849-1782061200-1782068400@anchorcovenant.org
SUMMARY:Buoy HS
DESCRIPTION:All High Schoolers welcome. \nJoin us for Buoy at Anchor Covenant Church every Sunday from 5-7 pm.
URL:https://anchorcovenant.org/event/buoy-hs/2026-06-21/
LOCATION:WI
ATTACH;FMTTYPE=image/webp:https://anchorcovenant.org/wp-content/uploads/2025/08/Screenshot-2025-09-18-at-11.47.20-AM.webp
END:VEVENT
BEGIN:VEVENT
DTSTART;TZID=UTC:20260624T070000
DTEND;TZID=UTC:20260624T080000
DTSTAMP:20260423T233514
CREATED:20250731T124751Z
LAST-MODIFIED:20251216T215002Z
UID:10000306-1782284400-1782288000@anchorcovenant.org
SUMMARY:Men's Coffee
DESCRIPTION:Join us for Wednesday Men’s Coffee at 7:00am at Anchor Covenant Church. \nContact Pete for details: pjheintzelman@gmail.com
URL:https://anchorcovenant.org/event/mens-coffee-5/2026-06-24/
LOCATION:Anchor Covenant Church\, 1229 Park Row\, Lake Geneva\, WI
ATTACH;FMTTYPE=image/jpeg:https://anchorcovenant.org/wp-content/uploads/2025/07/unnamed-1.jpg
END:VEVENT
BEGIN:VEVENT
DTSTART;TZID=UTC:20260624T190000
DTEND;TZID=UTC:20260624T200000
DTSTAMP:20260423T233514
CREATED:20260114T155752Z
LAST-MODIFIED:20260325T134649Z
UID:10001259-1782327600-1782331200@anchorcovenant.org
SUMMARY:Young Adults Bible Study
DESCRIPTION:Join us Wednesdays at 7:00pm for the Young Adults Bible Study. \nFirst\, Third\, and Fifth Wednesdays we will meet at Anchor in the Buoy Room. \nSecond and Fourth Wednesdays we will be doing outings in the community\, contact Emma at emma.devries@anchorcovenant.org for details.
URL:https://anchorcovenant.org/event/young-adults-bible-study-2/2026-06-24/
LOCATION:Anchor Covenant Church\, 1229 Park Row\, Lake Geneva\, WI
ATTACH;FMTTYPE=image/png:https://anchorcovenant.org/wp-content/uploads/2026/01/unnamed-2026-03-25T084611.930.png
END:VEVENT
BEGIN:VEVENT
DTSTART;TZID=UTC:20260625T130000
DTEND;TZID=UTC:20260625T140000
DTSTAMP:20260423T233514
CREATED:20260408T142610Z
LAST-MODIFIED:20260408T142612Z
UID:10000566-1782392400-1782396000@anchorcovenant.org
SUMMARY:She Reads Truth
DESCRIPTION:Join us for the She Reads Truth Bible Study every Thursday at 1:00pm at Anchor.
URL:https://anchorcovenant.org/event/she-reads-truth-2-2/2026-06-25/
LOCATION:Anchor Covenant Church\, 1229 Park Row\, Lake Geneva\, WI
ATTACH;FMTTYPE=image/png:https://anchorcovenant.org/wp-content/uploads/2026/01/unnamed-2026-04-08T092458.455.png
END:VEVENT
BEGIN:VEVENT
DTSTART;TZID=UTC:20260627T080000
DTEND;TZID=UTC:20260627T090000
DTSTAMP:20260423T233514
CREATED:20260115T181119Z
LAST-MODIFIED:20260304T214621Z
UID:10001520-1782547200-1782550800@anchorcovenant.org
SUMMARY:Hour of Prayer
DESCRIPTION:Please join us for an hour of prayer each week at Anchor hosted by El Buen Pastor\, every Saturday at 8:00am
URL:https://anchorcovenant.org/event/hour-of-prayer-2-2/2026-06-27/
LOCATION:Anchor Covenant Church\, 1229 Park Row\, Lake Geneva\, WI
ATTACH;FMTTYPE=image/png:https://anchorcovenant.org/wp-content/uploads/2026/01/unnamed-100.png
END:VEVENT
BEGIN:VEVENT
DTSTART;TZID=UTC:20260628T093000
DTEND;TZID=UTC:20260628T101500
DTSTAMP:20260423T233514
CREATED:20260325T133604Z
LAST-MODIFIED:20260325T133742Z
UID:10001777-1782639000-1782641700@anchorcovenant.org
SUMMARY:Grow
DESCRIPTION:Join us for Grow every Sunday from 9:30-10:15.
URL:https://anchorcovenant.org/event/grow-2/2026-06-28/
LOCATION:WI
ATTACH;FMTTYPE=image/jpeg:https://anchorcovenant.org/wp-content/uploads/2025/12/unnamed-9.jpg
END:VEVENT
BEGIN:VEVENT
DTSTART;TZID=UTC:20260628T103000
DTEND;TZID=UTC:20260628T114500
DTSTAMP:20260423T233514
CREATED:20251216T220604Z
LAST-MODIFIED:20251216T220604Z
UID:10001999-1782642600-1782647100@anchorcovenant.org
SUMMARY:Service
DESCRIPTION:Join us every Sunday from 10:30-11:45 for our service online or in person at Anchor Covenant Church.
URL:https://anchorcovenant.org/event/service/2026-06-28/
LOCATION:Anchor Covenant Church\, 1229 Park Row\, Lake Geneva\, WI
ATTACH;FMTTYPE=image/png:https://anchorcovenant.org/wp-content/uploads/2025/12/Anchor.png
END:VEVENT
BEGIN:VEVENT
DTSTART;TZID=UTC:20260628T160000
DTEND;TZID=UTC:20260628T180000
DTSTAMP:20260423T233514
CREATED:20250826T180922Z
LAST-MODIFIED:20260325T134226Z
UID:10001921-1782662400-1782669600@anchorcovenant.org
SUMMARY:Buoy 68
DESCRIPTION:All Middle Schoolers welcome. \nJoin us for Buoy at Anchor Covenant Church every Sunday from 4-6pm.
URL:https://anchorcovenant.org/event/buoy-68/2026-06-28/
LOCATION:WI
ATTACH;FMTTYPE=image/png:https://anchorcovenant.org/wp-content/uploads/2025/08/Screenshot-2025-09-18-at-11.47.20-AM.png
END:VEVENT
BEGIN:VEVENT
DTSTART;TZID=UTC:20260628T170000
DTEND;TZID=UTC:20260628T190000
DTSTAMP:20260423T233514
CREATED:20250826T181055Z
LAST-MODIFIED:20260325T134306Z
UID:10001850-1782666000-1782673200@anchorcovenant.org
SUMMARY:Buoy HS
DESCRIPTION:All High Schoolers welcome. \nJoin us for Buoy at Anchor Covenant Church every Sunday from 5-7 pm.
URL:https://anchorcovenant.org/event/buoy-hs/2026-06-28/
LOCATION:WI
ATTACH;FMTTYPE=image/webp:https://anchorcovenant.org/wp-content/uploads/2025/08/Screenshot-2025-09-18-at-11.47.20-AM.webp
END:VEVENT
BEGIN:VEVENT
DTSTART;TZID=UTC:20260701T070000
DTEND;TZID=UTC:20260701T080000
DTSTAMP:20260423T233514
CREATED:20250731T124751Z
LAST-MODIFIED:20251216T215002Z
UID:10000307-1782889200-1782892800@anchorcovenant.org
SUMMARY:Men's Coffee
DESCRIPTION:Join us for Wednesday Men’s Coffee at 7:00am at Anchor Covenant Church. \nContact Pete for details: pjheintzelman@gmail.com
URL:https://anchorcovenant.org/event/mens-coffee-5/2026-07-01/
LOCATION:Anchor Covenant Church\, 1229 Park Row\, Lake Geneva\, WI
ATTACH;FMTTYPE=image/jpeg:https://anchorcovenant.org/wp-content/uploads/2025/07/unnamed-1.jpg
END:VEVENT
BEGIN:VEVENT
DTSTART;TZID=UTC:20260701T190000
DTEND;TZID=UTC:20260701T200000
DTSTAMP:20260423T233514
CREATED:20260114T155752Z
LAST-MODIFIED:20260325T134649Z
UID:10001260-1782932400-1782936000@anchorcovenant.org
SUMMARY:Young Adults Bible Study
DESCRIPTION:Join us Wednesdays at 7:00pm for the Young Adults Bible Study. \nFirst\, Third\, and Fifth Wednesdays we will meet at Anchor in the Buoy Room. \nSecond and Fourth Wednesdays we will be doing outings in the community\, contact Emma at emma.devries@anchorcovenant.org for details.
URL:https://anchorcovenant.org/event/young-adults-bible-study-2/2026-07-01/
LOCATION:Anchor Covenant Church\, 1229 Park Row\, Lake Geneva\, WI
ATTACH;FMTTYPE=image/png:https://anchorcovenant.org/wp-content/uploads/2026/01/unnamed-2026-03-25T084611.930.png
END:VEVENT
BEGIN:VEVENT
DTSTART;TZID=UTC:20260702T130000
DTEND;TZID=UTC:20260702T140000
DTSTAMP:20260423T233514
CREATED:20260408T142610Z
LAST-MODIFIED:20260408T142612Z
UID:10000567-1782997200-1783000800@anchorcovenant.org
SUMMARY:She Reads Truth
DESCRIPTION:Join us for the She Reads Truth Bible Study every Thursday at 1:00pm at Anchor.
URL:https://anchorcovenant.org/event/she-reads-truth-2-2/2026-07-02/
LOCATION:Anchor Covenant Church\, 1229 Park Row\, Lake Geneva\, WI
ATTACH;FMTTYPE=image/png:https://anchorcovenant.org/wp-content/uploads/2026/01/unnamed-2026-04-08T092458.455.png
END:VEVENT
BEGIN:VEVENT
DTSTART;TZID=UTC:20260704T080000
DTEND;TZID=UTC:20260704T090000
DTSTAMP:20260423T233514
CREATED:20260115T181119Z
LAST-MODIFIED:20260304T214621Z
UID:10001521-1783152000-1783155600@anchorcovenant.org
SUMMARY:Hour of Prayer
DESCRIPTION:Please join us for an hour of prayer each week at Anchor hosted by El Buen Pastor\, every Saturday at 8:00am
URL:https://anchorcovenant.org/event/hour-of-prayer-2-2/2026-07-04/
LOCATION:Anchor Covenant Church\, 1229 Park Row\, Lake Geneva\, WI
ATTACH;FMTTYPE=image/png:https://anchorcovenant.org/wp-content/uploads/2026/01/unnamed-100.png
END:VEVENT
BEGIN:VEVENT
DTSTART;TZID=UTC:20260705T093000
DTEND;TZID=UTC:20260705T101500
DTSTAMP:20260423T233514
CREATED:20260325T133604Z
LAST-MODIFIED:20260325T133742Z
UID:10001778-1783243800-1783246500@anchorcovenant.org
SUMMARY:Grow
DESCRIPTION:Join us for Grow every Sunday from 9:30-10:15.
URL:https://anchorcovenant.org/event/grow-2/2026-07-05/
LOCATION:WI
ATTACH;FMTTYPE=image/jpeg:https://anchorcovenant.org/wp-content/uploads/2025/12/unnamed-9.jpg
END:VEVENT
BEGIN:VEVENT
DTSTART;TZID=UTC:20260705T103000
DTEND;TZID=UTC:20260705T114500
DTSTAMP:20260423T233514
CREATED:20251216T220604Z
LAST-MODIFIED:20251216T220604Z
UID:10002000-1783247400-1783251900@anchorcovenant.org
SUMMARY:Service
DESCRIPTION:Join us every Sunday from 10:30-11:45 for our service online or in person at Anchor Covenant Church.
URL:https://anchorcovenant.org/event/service/2026-07-05/
LOCATION:Anchor Covenant Church\, 1229 Park Row\, Lake Geneva\, WI
ATTACH;FMTTYPE=image/png:https://anchorcovenant.org/wp-content/uploads/2025/12/Anchor.png
END:VEVENT
BEGIN:VEVENT
DTSTART;TZID=UTC:20260705T160000
DTEND;TZID=UTC:20260705T180000
DTSTAMP:20260423T233514
CREATED:20250826T180922Z
LAST-MODIFIED:20260325T134226Z
UID:10001922-1783267200-1783274400@anchorcovenant.org
SUMMARY:Buoy 68
DESCRIPTION:All Middle Schoolers welcome. \nJoin us for Buoy at Anchor Covenant Church every Sunday from 4-6pm.
URL:https://anchorcovenant.org/event/buoy-68/2026-07-05/
LOCATION:WI
ATTACH;FMTTYPE=image/png:https://anchorcovenant.org/wp-content/uploads/2025/08/Screenshot-2025-09-18-at-11.47.20-AM.png
END:VEVENT
BEGIN:VEVENT
DTSTART;TZID=UTC:20260705T170000
DTEND;TZID=UTC:20260705T190000
DTSTAMP:20260423T233514
CREATED:20250826T181055Z
LAST-MODIFIED:20260325T134306Z
UID:10001851-1783270800-1783278000@anchorcovenant.org
SUMMARY:Buoy HS
DESCRIPTION:All High Schoolers welcome. \nJoin us for Buoy at Anchor Covenant Church every Sunday from 5-7 pm.
URL:https://anchorcovenant.org/event/buoy-hs/2026-07-05/
LOCATION:WI
ATTACH;FMTTYPE=image/webp:https://anchorcovenant.org/wp-content/uploads/2025/08/Screenshot-2025-09-18-at-11.47.20-AM.webp
END:VEVENT
BEGIN:VEVENT
DTSTART;TZID=UTC:20260708T070000
DTEND;TZID=UTC:20260708T080000
DTSTAMP:20260423T233514
CREATED:20250731T124751Z
LAST-MODIFIED:20251216T215002Z
UID:10000308-1783494000-1783497600@anchorcovenant.org
SUMMARY:Men's Coffee
DESCRIPTION:Join us for Wednesday Men’s Coffee at 7:00am at Anchor Covenant Church. \nContact Pete for details: pjheintzelman@gmail.com
URL:https://anchorcovenant.org/event/mens-coffee-5/2026-07-08/
LOCATION:Anchor Covenant Church\, 1229 Park Row\, Lake Geneva\, WI
ATTACH;FMTTYPE=image/jpeg:https://anchorcovenant.org/wp-content/uploads/2025/07/unnamed-1.jpg
END:VEVENT
BEGIN:VEVENT
DTSTART;TZID=UTC:20260708T190000
DTEND;TZID=UTC:20260708T200000
DTSTAMP:20260423T233514
CREATED:20260114T155752Z
LAST-MODIFIED:20260325T134649Z
UID:10001261-1783537200-1783540800@anchorcovenant.org
SUMMARY:Young Adults Bible Study
DESCRIPTION:Join us Wednesdays at 7:00pm for the Young Adults Bible Study. \nFirst\, Third\, and Fifth Wednesdays we will meet at Anchor in the Buoy Room. \nSecond and Fourth Wednesdays we will be doing outings in the community\, contact Emma at emma.devries@anchorcovenant.org for details.
URL:https://anchorcovenant.org/event/young-adults-bible-study-2/2026-07-08/
LOCATION:Anchor Covenant Church\, 1229 Park Row\, Lake Geneva\, WI
ATTACH;FMTTYPE=image/png:https://anchorcovenant.org/wp-content/uploads/2026/01/unnamed-2026-03-25T084611.930.png
END:VEVENT
BEGIN:VEVENT
DTSTART;TZID=UTC:20260709T130000
DTEND;TZID=UTC:20260709T140000
DTSTAMP:20260423T233514
CREATED:20260408T142610Z
LAST-MODIFIED:20260408T142612Z
UID:10000568-1783602000-1783605600@anchorcovenant.org
SUMMARY:She Reads Truth
DESCRIPTION:Join us for the She Reads Truth Bible Study every Thursday at 1:00pm at Anchor.
URL:https://anchorcovenant.org/event/she-reads-truth-2-2/2026-07-09/
LOCATION:Anchor Covenant Church\, 1229 Park Row\, Lake Geneva\, WI
ATTACH;FMTTYPE=image/png:https://anchorcovenant.org/wp-content/uploads/2026/01/unnamed-2026-04-08T092458.455.png
END:VEVENT
BEGIN:VEVENT
DTSTART;TZID=UTC:20260711T080000
DTEND;TZID=UTC:20260711T090000
DTSTAMP:20260423T233514
CREATED:20260115T181119Z
LAST-MODIFIED:20260304T214621Z
UID:10001522-1783756800-1783760400@anchorcovenant.org
SUMMARY:Hour of Prayer
DESCRIPTION:Please join us for an hour of prayer each week at Anchor hosted by El Buen Pastor\, every Saturday at 8:00am
URL:https://anchorcovenant.org/event/hour-of-prayer-2-2/2026-07-11/
LOCATION:Anchor Covenant Church\, 1229 Park Row\, Lake Geneva\, WI
ATTACH;FMTTYPE=image/png:https://anchorcovenant.org/wp-content/uploads/2026/01/unnamed-100.png
END:VEVENT
END:VCALENDAR