BEGIN:VCALENDAR
VERSION:2.0
PRODID:-//Anchor Covenant Church - ECPv6.15.20//NONSGML v1.0//EN
CALSCALE:GREGORIAN
METHOD:PUBLISH
X-ORIGINAL-URL:https://anchorcovenant.org
X-WR-CALDESC:Events for Anchor Covenant Church
REFRESH-INTERVAL;VALUE=DURATION:PT1H
X-Robots-Tag:noindex
X-PUBLISHED-TTL:PT1H
BEGIN:VTIMEZONE
TZID:UTC
BEGIN:STANDARD
TZOFFSETFROM:+0000
TZOFFSETTO:+0000
TZNAME:UTC
DTSTART:20250101T000000
END:STANDARD
END:VTIMEZONE
BEGIN:VEVENT
DTSTART;TZID=UTC:20260120T133000
DTEND;TZID=UTC:20260120T150000
DTSTAMP:20260423T235237
CREATED:20250813T215409Z
LAST-MODIFIED:20260402T125951Z
UID:10002255-1768915800-1768921200@anchorcovenant.org
SUMMARY:Tuesday Ladies Bible Study
DESCRIPTION:The Sermon on the Mount\, The Beatitudes \nBegins January 13th \n1:30-3:00pm \nContact Brenda Follensbee with questions at bfollensbee8@gmail.com
URL:https://anchorcovenant.org/event/tuesday-ladies-bible-study/2026-01-20/
LOCATION:Anchor Covenant Church\, 1229 Park Row\, Lake Geneva\, WI
ATTACH;FMTTYPE=image/png:https://anchorcovenant.org/wp-content/uploads/2025/08/unnamed-2026-03-25T084456.510.png
END:VEVENT
BEGIN:VEVENT
DTSTART;TZID=UTC:20260120T190000
DTEND;TZID=UTC:20260120T200000
DTSTAMP:20260423T235237
CREATED:20251015T124652Z
LAST-MODIFIED:20260415T122635Z
UID:10001113-1768935600-1768939200@anchorcovenant.org
SUMMARY:Men's Bible Study
DESCRIPTION:Join us every 1st and 3rd Tuesday at Anchor at 7:00pm.
URL:https://anchorcovenant.org/event/mens-bible-study/2026-01-20/
LOCATION:Anchor Covenant Church\, 1229 Park Row\, Lake Geneva\, WI
ATTACH;FMTTYPE=image/png:https://anchorcovenant.org/wp-content/uploads/2025/10/unnamed-92.png
END:VEVENT
BEGIN:VEVENT
DTSTART;TZID=UTC:20260121T070000
DTEND;TZID=UTC:20260121T080000
DTSTAMP:20260423T235237
CREATED:20250731T124751Z
LAST-MODIFIED:20251216T215002Z
UID:10000284-1768978800-1768982400@anchorcovenant.org
SUMMARY:Men's Coffee
DESCRIPTION:Join us for Wednesday Men’s Coffee at 7:00am at Anchor Covenant Church. \nContact Pete for details: pjheintzelman@gmail.com
URL:https://anchorcovenant.org/event/mens-coffee-5/2026-01-21/
LOCATION:Anchor Covenant Church\, 1229 Park Row\, Lake Geneva\, WI
ATTACH;FMTTYPE=image/jpeg:https://anchorcovenant.org/wp-content/uploads/2025/07/unnamed-1.jpg
END:VEVENT
BEGIN:VEVENT
DTSTART;TZID=UTC:20260121T190000
DTEND;TZID=UTC:20260121T200000
DTSTAMP:20260423T235237
CREATED:20260114T155752Z
LAST-MODIFIED:20260325T134649Z
UID:10001237-1769022000-1769025600@anchorcovenant.org
SUMMARY:Young Adults Bible Study
DESCRIPTION:Join us Wednesdays at 7:00pm for the Young Adults Bible Study. \nFirst\, Third\, and Fifth Wednesdays we will meet at Anchor in the Buoy Room. \nSecond and Fourth Wednesdays we will be doing outings in the community\, contact Emma at emma.devries@anchorcovenant.org for details.
URL:https://anchorcovenant.org/event/young-adults-bible-study-2/2026-01-21/
LOCATION:Anchor Covenant Church\, 1229 Park Row\, Lake Geneva\, WI
ATTACH;FMTTYPE=image/png:https://anchorcovenant.org/wp-content/uploads/2026/01/unnamed-2026-03-25T084611.930.png
END:VEVENT
BEGIN:VEVENT
DTSTART;TZID=UTC:20260122T055900
DTEND;TZID=UTC:20260122T070000
DTSTAMP:20260423T235237
CREATED:20260107T122054Z
LAST-MODIFIED:20260406T172921Z
UID:10002589-1769061540-1769065200@anchorcovenant.org
SUMMARY:Buoy Before School Bible Study
DESCRIPTION:All Buoy students are welcome to join us Thursday mornings from 5:59-7:00 for a before school Bible study. Hope to see you there!
URL:https://anchorcovenant.org/event/buoy-before-school-bible-study/2026-01-22/
LOCATION:Buoy Room
ATTACH;FMTTYPE=image/jpeg:https://anchorcovenant.org/wp-content/uploads/2026/01/IMG_7383.jpeg
END:VEVENT
BEGIN:VEVENT
DTSTART;TZID=UTC:20260122T130000
DTEND;TZID=UTC:20260122T140000
DTSTAMP:20260423T235237
CREATED:20260101T204759Z
LAST-MODIFIED:20260304T214458Z
UID:10000544-1769086800-1769090400@anchorcovenant.org
SUMMARY:She Reads Truth
DESCRIPTION:Join us for the She Reads Truth Bible Study every Thursday at 1:00pm at Anchor.
URL:https://anchorcovenant.org/event/she-reads-truth-2/2026-01-22/
LOCATION:Anchor Covenant Church\, 1229 Park Row\, Lake Geneva\, WI
ATTACH;FMTTYPE=image/webp:https://anchorcovenant.org/wp-content/uploads/2026/02/ANCHOR-PRAYER-TEAM.webp
END:VEVENT
BEGIN:VEVENT
DTSTART;TZID=UTC:20260124T080000
DTEND;TZID=UTC:20260124T090000
DTSTAMP:20260423T235237
CREATED:20260115T181119Z
LAST-MODIFIED:20260304T214621Z
UID:10001498-1769241600-1769245200@anchorcovenant.org
SUMMARY:Hour of Prayer
DESCRIPTION:Please join us for an hour of prayer each week at Anchor hosted by El Buen Pastor\, every Saturday at 8:00am
URL:https://anchorcovenant.org/event/hour-of-prayer-2-2/2026-01-24/
LOCATION:Anchor Covenant Church\, 1229 Park Row\, Lake Geneva\, WI
ATTACH;FMTTYPE=image/png:https://anchorcovenant.org/wp-content/uploads/2026/01/unnamed-100.png
END:VEVENT
BEGIN:VEVENT
DTSTART;TZID=UTC:20260125T093000
DTEND;TZID=UTC:20260125T101500
DTSTAMP:20260423T235237
CREATED:20251210T134542Z
LAST-MODIFIED:20251210T134542Z
UID:10001755-1769333400-1769336100@anchorcovenant.org
SUMMARY:Grow
DESCRIPTION:Join us for Grow every Sunday from 9:30-10:15.
URL:https://anchorcovenant.org/event/grow/2026-01-25/
LOCATION:WI
ATTACH;FMTTYPE=image/jpeg:https://anchorcovenant.org/wp-content/uploads/2025/12/unnamed-9.jpg
END:VEVENT
BEGIN:VEVENT
DTSTART;TZID=UTC:20260125T103000
DTEND;TZID=UTC:20260125T114500
DTSTAMP:20260423T235237
CREATED:20251216T220604Z
LAST-MODIFIED:20251216T220604Z
UID:10001977-1769337000-1769341500@anchorcovenant.org
SUMMARY:Service
DESCRIPTION:Join us every Sunday from 10:30-11:45 for our service online or in person at Anchor Covenant Church.
URL:https://anchorcovenant.org/event/service/2026-01-25/
LOCATION:Anchor Covenant Church\, 1229 Park Row\, Lake Geneva\, WI
ATTACH;FMTTYPE=image/png:https://anchorcovenant.org/wp-content/uploads/2025/12/Anchor.png
END:VEVENT
BEGIN:VEVENT
DTSTART;TZID=UTC:20260125T160000
DTEND;TZID=UTC:20260125T180000
DTSTAMP:20260423T235237
CREATED:20250826T180922Z
LAST-MODIFIED:20260325T134226Z
UID:10001899-1769356800-1769364000@anchorcovenant.org
SUMMARY:Buoy 68
DESCRIPTION:All Middle Schoolers welcome. \nJoin us for Buoy at Anchor Covenant Church every Sunday from 4-6pm.
URL:https://anchorcovenant.org/event/buoy-68/2026-01-25/
LOCATION:WI
ATTACH;FMTTYPE=image/png:https://anchorcovenant.org/wp-content/uploads/2025/08/Screenshot-2025-09-18-at-11.47.20-AM.png
END:VEVENT
BEGIN:VEVENT
DTSTART;TZID=UTC:20260125T170000
DTEND;TZID=UTC:20260125T190000
DTSTAMP:20260423T235237
CREATED:20250826T181055Z
LAST-MODIFIED:20260325T134306Z
UID:10001828-1769360400-1769367600@anchorcovenant.org
SUMMARY:Buoy HS
DESCRIPTION:All High Schoolers welcome. \nJoin us for Buoy at Anchor Covenant Church every Sunday from 5-7 pm.
URL:https://anchorcovenant.org/event/buoy-hs/2026-01-25/
LOCATION:WI
ATTACH;FMTTYPE=image/webp:https://anchorcovenant.org/wp-content/uploads/2025/08/Screenshot-2025-09-18-at-11.47.20-AM.webp
END:VEVENT
BEGIN:VEVENT
DTSTART;TZID=UTC:20260127T133000
DTEND;TZID=UTC:20260127T150000
DTSTAMP:20260423T235237
CREATED:20250813T215409Z
LAST-MODIFIED:20260402T125951Z
UID:10002256-1769520600-1769526000@anchorcovenant.org
SUMMARY:Tuesday Ladies Bible Study
DESCRIPTION:The Sermon on the Mount\, The Beatitudes \nBegins January 13th \n1:30-3:00pm \nContact Brenda Follensbee with questions at bfollensbee8@gmail.com
URL:https://anchorcovenant.org/event/tuesday-ladies-bible-study/2026-01-27/
LOCATION:Anchor Covenant Church\, 1229 Park Row\, Lake Geneva\, WI
ATTACH;FMTTYPE=image/png:https://anchorcovenant.org/wp-content/uploads/2025/08/unnamed-2026-03-25T084456.510.png
END:VEVENT
BEGIN:VEVENT
DTSTART;TZID=UTC:20260128T070000
DTEND;TZID=UTC:20260128T080000
DTSTAMP:20260423T235237
CREATED:20250731T124751Z
LAST-MODIFIED:20251216T215002Z
UID:10000285-1769583600-1769587200@anchorcovenant.org
SUMMARY:Men's Coffee
DESCRIPTION:Join us for Wednesday Men’s Coffee at 7:00am at Anchor Covenant Church. \nContact Pete for details: pjheintzelman@gmail.com
URL:https://anchorcovenant.org/event/mens-coffee-5/2026-01-28/
LOCATION:Anchor Covenant Church\, 1229 Park Row\, Lake Geneva\, WI
ATTACH;FMTTYPE=image/jpeg:https://anchorcovenant.org/wp-content/uploads/2025/07/unnamed-1.jpg
END:VEVENT
BEGIN:VEVENT
DTSTART;TZID=UTC:20260128T190000
DTEND;TZID=UTC:20260128T200000
DTSTAMP:20260423T235237
CREATED:20260114T155752Z
LAST-MODIFIED:20260325T134649Z
UID:10001238-1769626800-1769630400@anchorcovenant.org
SUMMARY:Young Adults Bible Study
DESCRIPTION:Join us Wednesdays at 7:00pm for the Young Adults Bible Study. \nFirst\, Third\, and Fifth Wednesdays we will meet at Anchor in the Buoy Room. \nSecond and Fourth Wednesdays we will be doing outings in the community\, contact Emma at emma.devries@anchorcovenant.org for details.
URL:https://anchorcovenant.org/event/young-adults-bible-study-2/2026-01-28/
LOCATION:Anchor Covenant Church\, 1229 Park Row\, Lake Geneva\, WI
ATTACH;FMTTYPE=image/png:https://anchorcovenant.org/wp-content/uploads/2026/01/unnamed-2026-03-25T084611.930.png
END:VEVENT
BEGIN:VEVENT
DTSTART;TZID=UTC:20260129T055900
DTEND;TZID=UTC:20260129T070000
DTSTAMP:20260423T235237
CREATED:20260107T122054Z
LAST-MODIFIED:20260406T172921Z
UID:10002590-1769666340-1769670000@anchorcovenant.org
SUMMARY:Buoy Before School Bible Study
DESCRIPTION:All Buoy students are welcome to join us Thursday mornings from 5:59-7:00 for a before school Bible study. Hope to see you there!
URL:https://anchorcovenant.org/event/buoy-before-school-bible-study/2026-01-29/
LOCATION:Buoy Room
ATTACH;FMTTYPE=image/jpeg:https://anchorcovenant.org/wp-content/uploads/2026/01/IMG_7383.jpeg
END:VEVENT
BEGIN:VEVENT
DTSTART;TZID=UTC:20260129T130000
DTEND;TZID=UTC:20260129T140000
DTSTAMP:20260423T235237
CREATED:20260101T204759Z
LAST-MODIFIED:20260304T214458Z
UID:10000545-1769691600-1769695200@anchorcovenant.org
SUMMARY:She Reads Truth
DESCRIPTION:Join us for the She Reads Truth Bible Study every Thursday at 1:00pm at Anchor.
URL:https://anchorcovenant.org/event/she-reads-truth-2/2026-01-29/
LOCATION:Anchor Covenant Church\, 1229 Park Row\, Lake Geneva\, WI
ATTACH;FMTTYPE=image/webp:https://anchorcovenant.org/wp-content/uploads/2026/02/ANCHOR-PRAYER-TEAM.webp
END:VEVENT
BEGIN:VEVENT
DTSTART;TZID=UTC:20260129T163000
DTEND;TZID=UTC:20260129T190000
DTSTAMP:20260423T235237
CREATED:20260120T172751Z
LAST-MODIFIED:20260120T172751Z
UID:10002862-1769704200-1769713200@anchorcovenant.org
SUMMARY:Anchor Work Day
DESCRIPTION:Join us January 29 from 4:30-7:00pm to help work on our lovely building. We will be doing all kinds of projects so everyone is welcome\, whether you come for 30mins or the whole time every bit of help makes a difference. \nContact Matt or Heidi with any questions.
URL:https://anchorcovenant.org/event/anchor-work-day-2/
LOCATION:Anchor Covenant Church\, 1229 Park Row\, Lake Geneva\, WI
ATTACH;FMTTYPE=image/png:https://anchorcovenant.org/wp-content/uploads/2026/01/unnamed-80.png
END:VEVENT
BEGIN:VEVENT
DTSTART;TZID=UTC:20260131T080000
DTEND;TZID=UTC:20260131T090000
DTSTAMP:20260423T235237
CREATED:20260115T181119Z
LAST-MODIFIED:20260304T214621Z
UID:10001499-1769846400-1769850000@anchorcovenant.org
SUMMARY:Hour of Prayer
DESCRIPTION:Please join us for an hour of prayer each week at Anchor hosted by El Buen Pastor\, every Saturday at 8:00am
URL:https://anchorcovenant.org/event/hour-of-prayer-2-2/2026-01-31/
LOCATION:Anchor Covenant Church\, 1229 Park Row\, Lake Geneva\, WI
ATTACH;FMTTYPE=image/png:https://anchorcovenant.org/wp-content/uploads/2026/01/unnamed-100.png
END:VEVENT
BEGIN:VEVENT
DTSTART;TZID=UTC:20260201T093000
DTEND;TZID=UTC:20260201T101500
DTSTAMP:20260423T235237
CREATED:20251210T134542Z
LAST-MODIFIED:20251210T134542Z
UID:10001756-1769938200-1769940900@anchorcovenant.org
SUMMARY:Grow
DESCRIPTION:Join us for Grow every Sunday from 9:30-10:15.
URL:https://anchorcovenant.org/event/grow/2026-02-01/
LOCATION:WI
ATTACH;FMTTYPE=image/jpeg:https://anchorcovenant.org/wp-content/uploads/2025/12/unnamed-9.jpg
END:VEVENT
BEGIN:VEVENT
DTSTART;TZID=UTC:20260201T103000
DTEND;TZID=UTC:20260201T113000
DTSTAMP:20260423T235237
CREATED:20260120T172947Z
LAST-MODIFIED:20260120T172947Z
UID:10002863-1769941800-1769945400@anchorcovenant.org
SUMMARY:Anchor Covenant Church Annual Meeting
DESCRIPTION:Join us Sunday\, February 1 during our service for our Annual meeting.
URL:https://anchorcovenant.org/event/anchor-covenant-church-annual-meeting/
LOCATION:Anchor Covenant Church\, 1229 Park Row\, Lake Geneva\, WI
ATTACH;FMTTYPE=image/png:https://anchorcovenant.org/wp-content/uploads/2026/01/unnamed-81.png
END:VEVENT
BEGIN:VEVENT
DTSTART;TZID=UTC:20260201T103000
DTEND;TZID=UTC:20260201T114500
DTSTAMP:20260423T235237
CREATED:20251216T220604Z
LAST-MODIFIED:20251216T220604Z
UID:10001978-1769941800-1769946300@anchorcovenant.org
SUMMARY:Service
DESCRIPTION:Join us every Sunday from 10:30-11:45 for our service online or in person at Anchor Covenant Church.
URL:https://anchorcovenant.org/event/service/2026-02-01/
LOCATION:Anchor Covenant Church\, 1229 Park Row\, Lake Geneva\, WI
ATTACH;FMTTYPE=image/png:https://anchorcovenant.org/wp-content/uploads/2025/12/Anchor.png
END:VEVENT
BEGIN:VEVENT
DTSTART;TZID=UTC:20260201T150000
DTEND;TZID=UTC:20260201T160000
DTSTAMP:20260423T235237
CREATED:20250903T115156Z
LAST-MODIFIED:20260408T142155Z
UID:10002325-1769958000-1769961600@anchorcovenant.org
SUMMARY:Confirmation
DESCRIPTION:Join Pastor Melissa for Confirmation every Sunday at 3:00pm.
URL:https://anchorcovenant.org/event/confirmation-9/2026-02-01/
LOCATION:Anchor Covenant Church\, 1229 Park Row\, Lake Geneva\, WI
ATTACH;FMTTYPE=image/webp:https://anchorcovenant.org/wp-content/uploads/2025/04/confirmation-scaled.webp
END:VEVENT
BEGIN:VEVENT
DTSTART;TZID=UTC:20260201T160000
DTEND;TZID=UTC:20260201T170000
DTSTAMP:20260423T235237
CREATED:20260114T155006Z
LAST-MODIFIED:20260127T193648Z
UID:10002848-1769961600-1769965200@anchorcovenant.org
SUMMARY:Compass Winter Camp Parent Meeting
DESCRIPTION:Parents\, please join us for an important parent meeting for winter camp at 4:00pm at Anchor.
URL:https://anchorcovenant.org/event/compass-winter-camp-parent-meeting-time-tbd/
LOCATION:Anchor Covenant Church\, 1229 Park Row\, Lake Geneva\, WI
ATTACH;FMTTYPE=image/png:https://anchorcovenant.org/wp-content/uploads/2026/01/unnamed-86.png
END:VEVENT
BEGIN:VEVENT
DTSTART;TZID=UTC:20260201T160000
DTEND;TZID=UTC:20260201T180000
DTSTAMP:20260423T235237
CREATED:20260101T203559Z
LAST-MODIFIED:20260101T203559Z
UID:10002245-1769961600-1769968800@anchorcovenant.org
SUMMARY:Buoy68 at Covenant Harbor
DESCRIPTION:Join us February 1 from 4-6pm for 9 Square and 8 Base! Hope to see you there! Please make sure to fill out the 2026 Covenant Harbor waiver before the event.
URL:https://anchorcovenant.org/event/buoy68-at-covenant-harbor/
LOCATION:WI
ATTACH;FMTTYPE=image/jpeg:https://anchorcovenant.org/wp-content/uploads/2026/01/Screenshot-2025-12-29-at-10.28.12-PM.jpg
END:VEVENT
BEGIN:VEVENT
DTSTART;TZID=UTC:20260201T180000
DTEND;TZID=UTC:20260201T200000
DTSTAMP:20260423T235237
CREATED:20260101T203656Z
LAST-MODIFIED:20260101T203656Z
UID:10002246-1769968800-1769976000@anchorcovenant.org
SUMMARY:BuoyHS at Covenant Harbor
DESCRIPTION:Join us February 1 from 6-8pm for 9 Square and 8 Base! Hope to see you there! Please make sure to fill out the 2026 Covenant Harbor waiver before the event.
URL:https://anchorcovenant.org/event/buoyhs-at-covenant-harbor/
LOCATION:WI
ATTACH;FMTTYPE=image/webp:https://anchorcovenant.org/wp-content/uploads/2026/01/Screenshot-2025-12-29-at-10.28.12-PM.webp
END:VEVENT
BEGIN:VEVENT
DTSTART;TZID=UTC:20260203T133000
DTEND;TZID=UTC:20260203T150000
DTSTAMP:20260423T235237
CREATED:20250813T215409Z
LAST-MODIFIED:20260402T125951Z
UID:10002257-1770125400-1770130800@anchorcovenant.org
SUMMARY:Tuesday Ladies Bible Study
DESCRIPTION:The Sermon on the Mount\, The Beatitudes \nBegins January 13th \n1:30-3:00pm \nContact Brenda Follensbee with questions at bfollensbee8@gmail.com
URL:https://anchorcovenant.org/event/tuesday-ladies-bible-study/2026-02-03/
LOCATION:Anchor Covenant Church\, 1229 Park Row\, Lake Geneva\, WI
ATTACH;FMTTYPE=image/png:https://anchorcovenant.org/wp-content/uploads/2025/08/unnamed-2026-03-25T084456.510.png
END:VEVENT
BEGIN:VEVENT
DTSTART;TZID=UTC:20260203T190000
DTEND;TZID=UTC:20260203T200000
DTSTAMP:20260423T235237
CREATED:20251208T222007Z
LAST-MODIFIED:20260415T122550Z
UID:10001173-1770145200-1770148800@anchorcovenant.org
SUMMARY:Men's Bible Study
DESCRIPTION:Join us every 1st and 3rd Tuesday at Anchor at 7:00pm.
URL:https://anchorcovenant.org/event/mens-bible-study-2/2026-02-03/
LOCATION:Anchor Covenant Church\, 1229 Park Row\, Lake Geneva\, WI
ATTACH;FMTTYPE=image/webp:https://anchorcovenant.org/wp-content/uploads/2025/10/unnamed-92.webp
END:VEVENT
BEGIN:VEVENT
DTSTART;TZID=UTC:20260203T190000
DTEND;TZID=UTC:20260203T200000
DTSTAMP:20260423T235237
CREATED:20260203T173251Z
LAST-MODIFIED:20260203T173251Z
UID:10002866-1770145200-1770148800@anchorcovenant.org
SUMMARY:Monthly Intentions
DESCRIPTION:Join us February 3rd at 7:00pm at Anchor.
URL:https://anchorcovenant.org/event/monthly-intentions-8/
LOCATION:Anchor Covenant Church\, 1229 Park Row\, Lake Geneva\, WI
ATTACH;FMTTYPE=image/png:https://anchorcovenant.org/wp-content/uploads/2026/02/unnamed-88.png
END:VEVENT
BEGIN:VEVENT
DTSTART;TZID=UTC:20260204T070000
DTEND;TZID=UTC:20260204T080000
DTSTAMP:20260423T235237
CREATED:20250731T124751Z
LAST-MODIFIED:20251216T215002Z
UID:10000286-1770188400-1770192000@anchorcovenant.org
SUMMARY:Men's Coffee
DESCRIPTION:Join us for Wednesday Men’s Coffee at 7:00am at Anchor Covenant Church. \nContact Pete for details: pjheintzelman@gmail.com
URL:https://anchorcovenant.org/event/mens-coffee-5/2026-02-04/
LOCATION:Anchor Covenant Church\, 1229 Park Row\, Lake Geneva\, WI
ATTACH;FMTTYPE=image/jpeg:https://anchorcovenant.org/wp-content/uploads/2025/07/unnamed-1.jpg
END:VEVENT
BEGIN:VEVENT
DTSTART;TZID=UTC:20260204T190000
DTEND;TZID=UTC:20260204T200000
DTSTAMP:20260423T235237
CREATED:20260114T155752Z
LAST-MODIFIED:20260325T134649Z
UID:10001239-1770231600-1770235200@anchorcovenant.org
SUMMARY:Young Adults Bible Study
DESCRIPTION:Join us Wednesdays at 7:00pm for the Young Adults Bible Study. \nFirst\, Third\, and Fifth Wednesdays we will meet at Anchor in the Buoy Room. \nSecond and Fourth Wednesdays we will be doing outings in the community\, contact Emma at emma.devries@anchorcovenant.org for details.
URL:https://anchorcovenant.org/event/young-adults-bible-study-2/2026-02-04/
LOCATION:Anchor Covenant Church\, 1229 Park Row\, Lake Geneva\, WI
ATTACH;FMTTYPE=image/png:https://anchorcovenant.org/wp-content/uploads/2026/01/unnamed-2026-03-25T084611.930.png
END:VEVENT
END:VCALENDAR