BEGIN:VCALENDAR
VERSION:2.0
PRODID:-//Anchor Covenant Church - ECPv6.15.20//NONSGML v1.0//EN
CALSCALE:GREGORIAN
METHOD:PUBLISH
X-ORIGINAL-URL:https://anchorcovenant.org
X-WR-CALDESC:Events for Anchor Covenant Church
REFRESH-INTERVAL;VALUE=DURATION:PT1H
X-Robots-Tag:noindex
X-PUBLISHED-TTL:PT1H
BEGIN:VTIMEZONE
TZID:UTC
BEGIN:STANDARD
TZOFFSETFROM:+0000
TZOFFSETTO:+0000
TZNAME:UTC
DTSTART:20220101T000000
END:STANDARD
END:VTIMEZONE
BEGIN:VEVENT
DTSTART;TZID=UTC:20231106T180000
DTEND;TZID=UTC:20231106T200000
DTSTAMP:20260425T162809
CREATED:20231026T184624Z
LAST-MODIFIED:20231026T184624Z
UID:10000068-1699293600-1699300800@anchorcovenant.org
SUMMARY:Child Protection Training
DESCRIPTION:  \n \nRegister and request child care here
URL:https://anchorcovenant.org/event/child-protection-training/
LOCATION:Anchor Covenant Church\, 1229 Park Row\, Lake Geneva\, WI
ORGANIZER;CN="Jaclynne Fohr":MAILTO:childrensministry@anchorcovenant.org
END:VEVENT
BEGIN:VEVENT
DTSTART;TZID=UTC:20231112T160000
DTEND;TZID=UTC:20231112T173000
DTSTAMP:20260425T162809
CREATED:20230818T193441Z
LAST-MODIFIED:20230818T193441Z
UID:10000034-1699804800-1699810200@anchorcovenant.org
SUMMARY:Buoy68
DESCRIPTION:
URL:https://anchorcovenant.org/event/buoy68-5/
LOCATION:Anchor Covenant Church\, 1229 Park Row\, Lake Geneva\, WI
ORGANIZER;CN="Laura Gowan":MAILTO:laura.gowan@anchorcovenant.org
END:VEVENT
BEGIN:VEVENT
DTSTART;TZID=UTC:20231112T173000
DTEND;TZID=UTC:20231112T181500
DTSTAMP:20260425T162809
CREATED:20230818T200033Z
LAST-MODIFIED:20230818T200033Z
UID:10000053-1699810200-1699812900@anchorcovenant.org
SUMMARY:Confirmation
DESCRIPTION:
URL:https://anchorcovenant.org/event/confirmation-5/
LOCATION:Anchor Covenant Church\, 1229 Park Row\, Lake Geneva\, WI
END:VEVENT
BEGIN:VEVENT
DTSTART;TZID=UTC:20231112T180000
DTEND;TZID=UTC:20231112T193000
DTSTAMP:20260425T162809
CREATED:20230818T194524Z
LAST-MODIFIED:20230818T194524Z
UID:10000042-1699812000-1699817400@anchorcovenant.org
SUMMARY:BuoyHS
DESCRIPTION:
URL:https://anchorcovenant.org/event/buoyhs-5/
LOCATION:Anchor Covenant Church\, 1229 Park Row\, Lake Geneva\, WI
ORGANIZER;CN="Laura Gowan":MAILTO:laura.gowan@anchorcovenant.org
END:VEVENT
BEGIN:VEVENT
DTSTART;TZID=UTC:20231112T180000
DTEND;TZID=UTC:20231112T193000
DTSTAMP:20260425T162809
CREATED:20230818T194700Z
LAST-MODIFIED:20230818T194700Z
UID:10000043-1699812000-1699817400@anchorcovenant.org
SUMMARY:BuoyHS
DESCRIPTION:
URL:https://anchorcovenant.org/event/buoyhs-6/
LOCATION:Anchor Covenant Church\, 1229 Park Row\, Lake Geneva\, WI
ORGANIZER;CN="Laura Gowan":MAILTO:laura.gowan@anchorcovenant.org
END:VEVENT
BEGIN:VEVENT
DTSTART;TZID=UTC:20231119T113000
DTEND;TZID=UTC:20231119T123000
DTSTAMP:20260425T162809
CREATED:20230818T201003Z
LAST-MODIFIED:20231102T164550Z
UID:10000059-1700393400-1700397000@anchorcovenant.org
SUMMARY:Buoy Bake & Buy Fundraiser
DESCRIPTION:
URL:https://anchorcovenant.org/event/buoy-bake-buy-fundraiser/
LOCATION:Anchor Covenant Church\, 1229 Park Row\, Lake Geneva\, WI
ORGANIZER;CN="Laura Gowan":MAILTO:laura.gowan@anchorcovenant.org
END:VEVENT
BEGIN:VEVENT
DTSTART;TZID=UTC:20231119T160000
DTEND;TZID=UTC:20231119T173000
DTSTAMP:20260425T162809
CREATED:20230818T193528Z
LAST-MODIFIED:20231102T165044Z
UID:10000035-1700409600-1700415000@anchorcovenant.org
SUMMARY:Buoy68 Box Maze
DESCRIPTION:
URL:https://anchorcovenant.org/event/buoy68-6/
LOCATION:Anchor Covenant Church\, 1229 Park Row\, Lake Geneva\, WI
ORGANIZER;CN="Laura Gowan":MAILTO:laura.gowan@anchorcovenant.org
END:VEVENT
BEGIN:VEVENT
DTSTART;TZID=UTC:20231119T173000
DTEND;TZID=UTC:20231119T181500
DTSTAMP:20260425T162809
CREATED:20230818T200125Z
LAST-MODIFIED:20230818T200125Z
UID:10000054-1700415000-1700417700@anchorcovenant.org
SUMMARY:Confirmation
DESCRIPTION:
URL:https://anchorcovenant.org/event/confirmation-6/
LOCATION:Anchor Covenant Church\, 1229 Park Row\, Lake Geneva\, WI
END:VEVENT
BEGIN:VEVENT
DTSTART;TZID=UTC:20231119T180000
DTEND;TZID=UTC:20231119T193000
DTSTAMP:20260425T162809
CREATED:20230818T194742Z
LAST-MODIFIED:20231102T172555Z
UID:10000044-1700416800-1700422200@anchorcovenant.org
SUMMARY:BuoyHS
DESCRIPTION:
URL:https://anchorcovenant.org/event/buoyhs-7/
LOCATION:Anchor Covenant Church\, 1229 Park Row\, Lake Geneva\, WI
ORGANIZER;CN="Laura Gowan":MAILTO:laura.gowan@anchorcovenant.org
END:VEVENT
BEGIN:VEVENT
DTSTART;TZID=UTC:20231122T170000
DTEND;TZID=UTC:20231122T190000
DTSTAMP:20260425T162809
CREATED:20231102T174801Z
LAST-MODIFIED:20231102T174801Z
UID:10000069-1700672400-1700679600@anchorcovenant.org
SUMMARY:Compass Box Maze
DESCRIPTION:
URL:https://anchorcovenant.org/event/compass-box-maze/
LOCATION:Anchor Covenant Church\, 1229 Park Row\, Lake Geneva\, WI
END:VEVENT
BEGIN:VEVENT
DTSTART;TZID=UTC:20231130T080000
DTEND;TZID=UTC:20231130T170000
DTSTAMP:20260425T162809
CREATED:20231130T175608Z
LAST-MODIFIED:20231130T175716Z
UID:10000071-1701331200-1701363600@anchorcovenant.org
SUMMARY:Kids' Lantern Processional
DESCRIPTION:
URL:https://anchorcovenant.org/event/kids-lantern-processional/
LOCATION:WI
END:VEVENT
BEGIN:VEVENT
DTSTART;TZID=UTC:20231202T180000
DTEND;TZID=UTC:20231202T210000
DTSTAMP:20260425T162809
CREATED:20230818T193648Z
LAST-MODIFIED:20231102T174841Z
UID:10000036-1701540000-1701550800@anchorcovenant.org
SUMMARY:Buoy68 Christmas Party
DESCRIPTION:
URL:https://anchorcovenant.org/event/buoy68-christmas-party/
LOCATION:Anchor Covenant Church\, 1229 Park Row\, Lake Geneva\, WI
ORGANIZER;CN="Laura Gowan":MAILTO:laura.gowan@anchorcovenant.org
END:VEVENT
BEGIN:VEVENT
DTSTART;TZID=UTC:20231203T170000
DTEND;TZID=UTC:20231203T200000
DTSTAMP:20260425T162809
CREATED:20230818T194851Z
LAST-MODIFIED:20231102T175238Z
UID:10000045-1701622800-1701633600@anchorcovenant.org
SUMMARY:BuoyHS Christmas Party
DESCRIPTION:
URL:https://anchorcovenant.org/event/buoyhs-christmas-party/
LOCATION:Anchor Covenant Church\, 1229 Park Row\, Lake Geneva\, WI
ORGANIZER;CN="Laura Gowan":MAILTO:laura.gowan@anchorcovenant.org
END:VEVENT
BEGIN:VEVENT
DTSTART;VALUE=DATE:20231210
DTEND;VALUE=DATE:20240101
DTSTAMP:20260425T162809
CREATED:20230818T193827Z
LAST-MODIFIED:20230818T193827Z
UID:10000037-1702166400-1704067199@anchorcovenant.org
SUMMARY:No Buoy68 or BuoyHS
DESCRIPTION:
URL:https://anchorcovenant.org/event/no-buoy68-or-buoyhs/
LOCATION:WI
END:VEVENT
BEGIN:VEVENT
DTSTART;TZID=UTC:20231224T103000
DTEND;TZID=UTC:20231224T113000
DTSTAMP:20260425T162809
CREATED:20231214T154230Z
LAST-MODIFIED:20231214T154230Z
UID:10000073-1703413800-1703417400@anchorcovenant.org
SUMMARY:Christmas Eve Service
DESCRIPTION:
URL:https://anchorcovenant.org/event/christmas-eve-service/
LOCATION:Anchor Covenant Church\, 1229 Park Row\, Lake Geneva\, WI
END:VEVENT
BEGIN:VEVENT
DTSTART;TZID=UTC:20231224T190000
DTEND;TZID=UTC:20231224T200000
DTSTAMP:20260425T162809
CREATED:20231214T154319Z
LAST-MODIFIED:20231214T154319Z
UID:10000074-1703444400-1703448000@anchorcovenant.org
SUMMARY:Candlelight Service
DESCRIPTION:
URL:https://anchorcovenant.org/event/candlelight-service/
LOCATION:Anchor Covenant Church\, 1229 Park Row\, Lake Geneva\, WI
END:VEVENT
BEGIN:VEVENT
DTSTART;TZID=UTC:20231229T180000
DTEND;TZID=UTC:20231229T200000
DTSTAMP:20260425T162809
CREATED:20231214T154003Z
LAST-MODIFIED:20231214T154003Z
UID:10000072-1703872800-1703880000@anchorcovenant.org
SUMMARY:Compass Christmas Party
DESCRIPTION:What to Bring:  A gift valued $10 or under and Cookies to share \nWhat to expect:  A Hot chocolate bar\, games\, and white elephant gift exchange
URL:https://anchorcovenant.org/event/compass-christmas-party/
LOCATION:Anchor Covenant Church\, 1229 Park Row\, Lake Geneva\, WI
END:VEVENT
BEGIN:VEVENT
DTSTART;TZID=UTC:20240107T160000
DTEND;TZID=UTC:20240107T173000
DTSTAMP:20260425T162809
CREATED:20230818T200233Z
LAST-MODIFIED:20230818T200233Z
UID:10000055-1704643200-1704648600@anchorcovenant.org
SUMMARY:Buoy68
DESCRIPTION:
URL:https://anchorcovenant.org/event/buoy68-7/
LOCATION:Anchor Covenant Church\, 1229 Park Row\, Lake Geneva\, WI
ORGANIZER;CN="Laura Gowan":MAILTO:laura.gowan@anchorcovenant.org
END:VEVENT
BEGIN:VEVENT
DTSTART;TZID=UTC:20240107T173000
DTEND;TZID=UTC:20240107T181500
DTSTAMP:20260425T162809
CREATED:20230818T200529Z
LAST-MODIFIED:20230818T200529Z
UID:10000057-1704648600-1704651300@anchorcovenant.org
SUMMARY:Confirmation
DESCRIPTION:
URL:https://anchorcovenant.org/event/confirmation-7/
LOCATION:Anchor Covenant Church\, 1229 Park Row\, Lake Geneva\, WI
ORGANIZER;CN="Laura Gowan":MAILTO:laura.gowan@anchorcovenant.org
END:VEVENT
BEGIN:VEVENT
DTSTART;TZID=UTC:20240107T180000
DTEND;TZID=UTC:20240107T193000
DTSTAMP:20260425T162809
CREATED:20230818T200431Z
LAST-MODIFIED:20230818T200431Z
UID:10000056-1704650400-1704655800@anchorcovenant.org
SUMMARY:BuoyHS
DESCRIPTION:
URL:https://anchorcovenant.org/event/buoyhs-8/
LOCATION:Anchor Covenant Church\, 1229 Park Row\, Lake Geneva\, WI
ORGANIZER;CN="Laura Gowan":MAILTO:laura.gowan@anchorcovenant.org
END:VEVENT
BEGIN:VEVENT
DTSTART;VALUE=DATE:20240112
DTEND;VALUE=DATE:20240115
DTSTAMP:20260425T162809
CREATED:20230818T195139Z
LAST-MODIFIED:20230928T163610Z
UID:10000047-1705017600-1705276799@anchorcovenant.org
SUMMARY:BuoyHS Winter Camp
DESCRIPTION:
URL:https://anchorcovenant.org/event/buoyhs-winter-camp/
LOCATION:Covenant Point\, 358 Hagerman Lake Rd\, Iron River\, MI\, 49935\, United States
ORGANIZER;CN="Laura Gowan":MAILTO:laura.gowan@anchorcovenant.org
END:VEVENT
BEGIN:VEVENT
DTSTART;TZID=UTC:20240115T190000
DTEND;TZID=UTC:20240115T210000
DTSTAMP:20260425T162809
CREATED:20231102T180440Z
LAST-MODIFIED:20231102T180440Z
UID:10000070-1705345200-1705352400@anchorcovenant.org
SUMMARY:Women's Blanket Tying
DESCRIPTION:Come help make blankets for children of Walworth County and connect with other Anchor women \n 
URL:https://anchorcovenant.org/event/womens-blanket-tying/
LOCATION:Anchor Covenant Church\, 1229 Park Row\, Lake Geneva\, WI
END:VEVENT
BEGIN:VEVENT
DTSTART;TZID=UTC:20240117T183000
DTEND;TZID=UTC:20240117T184500
DTSTAMP:20260425T162809
CREATED:20240117T193815Z
LAST-MODIFIED:20240117T193905Z
UID:10000082-1705516200-1705517100@anchorcovenant.org
SUMMARY:Drive By Prayer Vigil
DESCRIPTION:
URL:https://anchorcovenant.org/event/drive-by-prayer-vigil/
LOCATION:Anchor Covenant Church\, 1229 Park Row\, Lake Geneva\, WI
END:VEVENT
BEGIN:VEVENT
DTSTART;VALUE=DATE:20240119
DTEND;VALUE=DATE:20240122
DTSTAMP:20260425T162809
CREATED:20230818T195038Z
LAST-MODIFIED:20230818T195038Z
UID:10000046-1705622400-1705881599@anchorcovenant.org
SUMMARY:Buoy68 Winter Camp
DESCRIPTION:
URL:https://anchorcovenant.org/event/buoy68-winter-camp/
LOCATION:Covenant Harbor\, 1724 W Main Street\, Lake Geneva\, WI\, 53147
ORGANIZER;CN="Laura Gowan":MAILTO:laura.gowan@anchorcovenant.org
END:VEVENT
BEGIN:VEVENT
DTSTART;TZID=UTC:20240121T103000
DTEND;TZID=UTC:20240121T113000
DTSTAMP:20260425T162809
CREATED:20240111T154050Z
LAST-MODIFIED:20240118T172012Z
UID:10000077-1705833000-1705836600@anchorcovenant.org
SUMMARY:Annual Meeting (Postponed)
DESCRIPTION:Due to the fire at church we will be rescheduling the Annual Meeting.  Date will be posted as soon as possible.
URL:https://anchorcovenant.org/event/annual-meeting/
LOCATION:WI
END:VEVENT
BEGIN:VEVENT
DTSTART;TZID=UTC:20240121T103000
DTEND;TZID=UTC:20240121T113000
DTSTAMP:20260425T162809
CREATED:20240118T172513Z
LAST-MODIFIED:20240118T194726Z
UID:10000083-1705833000-1705836600@anchorcovenant.org
SUMMARY:Emergency Crew Thank You Collection (1/21 Only)
DESCRIPTION:Donate items to say thank you to the emergency crews who put out the fire on Monday Night.  Bring to Badger during Worship.  This Sunday only.
URL:https://anchorcovenant.org/event/emergency-crew-thank-you-collection/
LOCATION:Badger Highschool
END:VEVENT
BEGIN:VEVENT
DTSTART;TZID=UTC:20240121T113000
DTEND;TZID=UTC:20240121T123000
DTSTAMP:20260425T162809
CREATED:20240111T154307Z
LAST-MODIFIED:20240118T171650Z
UID:10000078-1705836600-1705840200@anchorcovenant.org
SUMMARY:Taco Fundraiser for Alaska Mission Trip (Postponed)
DESCRIPTION:
URL:https://anchorcovenant.org/event/taco-fundraiser-for-alaska-mission-trip-2/
LOCATION:Anchor Covenant Church\, 1229 Park Row\, Lake Geneva\, WI
ORGANIZER;CN="Julie Augustine":MAILTO:0321jules@gmail.com
END:VEVENT
BEGIN:VEVENT
DTSTART;TZID=UTC:20240121T160000
DTEND;TZID=UTC:20240121T180000
DTSTAMP:20260425T162809
CREATED:20240111T174053Z
LAST-MODIFIED:20240111T174053Z
UID:10000081-1705852800-1705860000@anchorcovenant.org
SUMMARY:Compass Family Dodgeball Event
DESCRIPTION:
URL:https://anchorcovenant.org/event/compass-family-dodgeball-event/
LOCATION:Covenant Harbor\, 1724 W Main Street\, Lake Geneva\, WI\, 53147
END:VEVENT
BEGIN:VEVENT
DTSTART;TZID=UTC:20240201T190000
DTEND;TZID=UTC:20240201T190000
DTSTAMP:20260425T162809
CREATED:20240111T173001Z
LAST-MODIFIED:20240118T171828Z
UID:10000079-1706814000-1706814000@anchorcovenant.org
SUMMARY:Worship Night (Cancelled)
DESCRIPTION:
URL:https://anchorcovenant.org/event/worship-night-2/
LOCATION:Anchor Covenant Church\, 1229 Park Row\, Lake Geneva\, WI
END:VEVENT
BEGIN:VEVENT
DTSTART;TZID=UTC:20240204T094500
DTEND;TZID=UTC:20240204T103000
DTSTAMP:20260425T162809
CREATED:20240127T010256Z
LAST-MODIFIED:20240127T010256Z
UID:10000084-1707039900-1707042600@anchorcovenant.org
SUMMARY:Compass Winter Camp Donuts & Details
DESCRIPTION:
URL:https://anchorcovenant.org/event/compass-winter-camp-donuts-details/
LOCATION:Badger Highschool
END:VEVENT
END:VCALENDAR