BEGIN:VCALENDAR
VERSION:2.0
PRODID:-//Anchor Covenant Church - ECPv6.15.20//NONSGML v1.0//EN
CALSCALE:GREGORIAN
METHOD:PUBLISH
X-ORIGINAL-URL:https://anchorcovenant.org
X-WR-CALDESC:Events for Anchor Covenant Church
REFRESH-INTERVAL;VALUE=DURATION:PT1H
X-Robots-Tag:noindex
X-PUBLISHED-TTL:PT1H
BEGIN:VTIMEZONE
TZID:UTC
BEGIN:STANDARD
TZOFFSETFROM:+0000
TZOFFSETTO:+0000
TZNAME:UTC
DTSTART:20250101T000000
END:STANDARD
END:VTIMEZONE
BEGIN:VEVENT
DTSTART;TZID=UTC:20260309T173000
DTEND;TZID=UTC:20260309T190000
DTSTAMP:20260423T193403
CREATED:20260219T161703Z
LAST-MODIFIED:20260219T161703Z
UID:10002875-1773077400-1773082800@anchorcovenant.org
SUMMARY:Pop-in Dinner Party at Turf Kitchen and Tap
DESCRIPTION:We look forward to sharing laughter\, stories\, and a fantastic meal together.
URL:https://anchorcovenant.org/event/pop-in-dinner-party-at-turf-kitchen-and-tap/
LOCATION:Turf Kitchen
ATTACH;FMTTYPE=image/png:https://anchorcovenant.org/wp-content/uploads/2026/02/unnamed-94.png
END:VEVENT
BEGIN:VEVENT
DTSTART;TZID=UTC:20260310T133000
DTEND;TZID=UTC:20260310T150000
DTSTAMP:20260423T193403
CREATED:20250813T215409Z
LAST-MODIFIED:20260402T125951Z
UID:10002262-1773149400-1773154800@anchorcovenant.org
SUMMARY:Tuesday Ladies Bible Study
DESCRIPTION:The Sermon on the Mount\, The Beatitudes \nBegins January 13th \n1:30-3:00pm \nContact Brenda Follensbee with questions at bfollensbee8@gmail.com
URL:https://anchorcovenant.org/event/tuesday-ladies-bible-study/2026-03-10/
LOCATION:Anchor Covenant Church\, 1229 Park Row\, Lake Geneva\, WI
ATTACH;FMTTYPE=image/png:https://anchorcovenant.org/wp-content/uploads/2025/08/unnamed-2026-03-25T084456.510.png
END:VEVENT
BEGIN:VEVENT
DTSTART;TZID=UTC:20260311T070000
DTEND;TZID=UTC:20260311T080000
DTSTAMP:20260423T193403
CREATED:20250731T124751Z
LAST-MODIFIED:20251216T215002Z
UID:10000291-1773212400-1773216000@anchorcovenant.org
SUMMARY:Men's Coffee
DESCRIPTION:Join us for Wednesday Men’s Coffee at 7:00am at Anchor Covenant Church. \nContact Pete for details: pjheintzelman@gmail.com
URL:https://anchorcovenant.org/event/mens-coffee-5/2026-03-11/
LOCATION:Anchor Covenant Church\, 1229 Park Row\, Lake Geneva\, WI
ATTACH;FMTTYPE=image/jpeg:https://anchorcovenant.org/wp-content/uploads/2025/07/unnamed-1.jpg
END:VEVENT
BEGIN:VEVENT
DTSTART;TZID=UTC:20260311T190000
DTEND;TZID=UTC:20260311T200000
DTSTAMP:20260423T193403
CREATED:20260114T155752Z
LAST-MODIFIED:20260325T134649Z
UID:10001244-1773255600-1773259200@anchorcovenant.org
SUMMARY:Young Adults Bible Study
DESCRIPTION:Join us Wednesdays at 7:00pm for the Young Adults Bible Study. \nFirst\, Third\, and Fifth Wednesdays we will meet at Anchor in the Buoy Room. \nSecond and Fourth Wednesdays we will be doing outings in the community\, contact Emma at emma.devries@anchorcovenant.org for details.
URL:https://anchorcovenant.org/event/young-adults-bible-study-2/2026-03-11/
LOCATION:Anchor Covenant Church\, 1229 Park Row\, Lake Geneva\, WI
ATTACH;FMTTYPE=image/png:https://anchorcovenant.org/wp-content/uploads/2026/01/unnamed-2026-03-25T084611.930.png
END:VEVENT
BEGIN:VEVENT
DTSTART;TZID=UTC:20260312T055900
DTEND;TZID=UTC:20260312T070000
DTSTAMP:20260423T193403
CREATED:20260107T122054Z
LAST-MODIFIED:20260406T172921Z
UID:10002596-1773295140-1773298800@anchorcovenant.org
SUMMARY:Buoy Before School Bible Study
DESCRIPTION:All Buoy students are welcome to join us Thursday mornings from 5:59-7:00 for a before school Bible study. Hope to see you there!
URL:https://anchorcovenant.org/event/buoy-before-school-bible-study/2026-03-12/
LOCATION:Buoy Room
ATTACH;FMTTYPE=image/jpeg:https://anchorcovenant.org/wp-content/uploads/2026/01/IMG_7383.jpeg
END:VEVENT
BEGIN:VEVENT
DTSTART;TZID=UTC:20260312T130000
DTEND;TZID=UTC:20260312T140000
DTSTAMP:20260423T193403
CREATED:20260101T204759Z
LAST-MODIFIED:20260304T214458Z
UID:10000551-1773320400-1773324000@anchorcovenant.org
SUMMARY:She Reads Truth
DESCRIPTION:Join us for the She Reads Truth Bible Study every Thursday at 1:00pm at Anchor.
URL:https://anchorcovenant.org/event/she-reads-truth-2/2026-03-12/
LOCATION:Anchor Covenant Church\, 1229 Park Row\, Lake Geneva\, WI
ATTACH;FMTTYPE=image/webp:https://anchorcovenant.org/wp-content/uploads/2026/02/ANCHOR-PRAYER-TEAM.webp
END:VEVENT
BEGIN:VEVENT
DTSTART;TZID=UTC:20260314T080000
DTEND;TZID=UTC:20260314T090000
DTSTAMP:20260423T193403
CREATED:20260115T181119Z
LAST-MODIFIED:20260304T214621Z
UID:10001505-1773475200-1773478800@anchorcovenant.org
SUMMARY:Hour of Prayer
DESCRIPTION:Please join us for an hour of prayer each week at Anchor hosted by El Buen Pastor\, every Saturday at 8:00am
URL:https://anchorcovenant.org/event/hour-of-prayer-2-2/2026-03-14/
LOCATION:Anchor Covenant Church\, 1229 Park Row\, Lake Geneva\, WI
ATTACH;FMTTYPE=image/png:https://anchorcovenant.org/wp-content/uploads/2026/01/unnamed-100.png
END:VEVENT
BEGIN:VEVENT
DTSTART;TZID=UTC:20260315T073000
DTEND;TZID=UTC:20260315T150000
DTSTAMP:20260423T193403
CREATED:20260211T144928Z
LAST-MODIFIED:20260211T145408Z
UID:10002868-1773559800-1773586800@anchorcovenant.org
SUMMARY:Maple Fest 2026
DESCRIPTION:Join Covenant Harbor on Sunday\, March 15 for its annual Maple Fest.
URL:https://anchorcovenant.org/event/maple-fest-2026/
LOCATION:Covenant Harbor\, 1724 W Main Street\, Lake Geneva\, WI\, 53147
ATTACH;FMTTYPE=image/jpeg:https://anchorcovenant.org/wp-content/uploads/2026/02/unnamed-19.jpg
END:VEVENT
BEGIN:VEVENT
DTSTART;TZID=UTC:20260315T093000
DTEND;TZID=UTC:20260315T101500
DTSTAMP:20260423T193403
CREATED:20251210T134542Z
LAST-MODIFIED:20251210T134542Z
UID:10001762-1773567000-1773569700@anchorcovenant.org
SUMMARY:Grow
DESCRIPTION:Join us for Grow every Sunday from 9:30-10:15.
URL:https://anchorcovenant.org/event/grow/2026-03-15/
LOCATION:WI
ATTACH;FMTTYPE=image/jpeg:https://anchorcovenant.org/wp-content/uploads/2025/12/unnamed-9.jpg
END:VEVENT
BEGIN:VEVENT
DTSTART;TZID=UTC:20260315T093000
DTEND;TZID=UTC:20260315T120000
DTSTAMP:20260423T193403
CREATED:20260304T213506Z
LAST-MODIFIED:20260304T213506Z
UID:10002879-1773567000-1773576000@anchorcovenant.org
SUMMARY:Anchor Covenant Food Drive
DESCRIPTION:The serve team would like to announce the third annual Easter Food Drive. The food collection will benefit both the Lake Geneva Food Pantry and Anchor’s Little Food Pantries.
URL:https://anchorcovenant.org/event/anchor-covenant-food-drive/2026-03-15/
LOCATION:Anchor Covenant Church\, 1229 Park Row\, Lake Geneva\, WI
ATTACH;FMTTYPE=image/png:https://anchorcovenant.org/wp-content/uploads/2026/03/unnamed-95.png
END:VEVENT
BEGIN:VEVENT
DTSTART;TZID=UTC:20260315T103000
DTEND;TZID=UTC:20260315T114500
DTSTAMP:20260423T193403
CREATED:20251216T220604Z
LAST-MODIFIED:20251216T220604Z
UID:10001984-1773570600-1773575100@anchorcovenant.org
SUMMARY:Service
DESCRIPTION:Join us every Sunday from 10:30-11:45 for our service online or in person at Anchor Covenant Church.
URL:https://anchorcovenant.org/event/service/2026-03-15/
LOCATION:Anchor Covenant Church\, 1229 Park Row\, Lake Geneva\, WI
ATTACH;FMTTYPE=image/png:https://anchorcovenant.org/wp-content/uploads/2025/12/Anchor.png
END:VEVENT
BEGIN:VEVENT
DTSTART;TZID=UTC:20260315T150000
DTEND;TZID=UTC:20260315T160000
DTSTAMP:20260423T193403
CREATED:20250903T115156Z
LAST-MODIFIED:20260408T142155Z
UID:10002330-1773586800-1773590400@anchorcovenant.org
SUMMARY:Confirmation
DESCRIPTION:Join Pastor Melissa for Confirmation every Sunday at 3:00pm.
URL:https://anchorcovenant.org/event/confirmation-9/2026-03-15/
LOCATION:Anchor Covenant Church\, 1229 Park Row\, Lake Geneva\, WI
ATTACH;FMTTYPE=image/webp:https://anchorcovenant.org/wp-content/uploads/2025/04/confirmation-scaled.webp
END:VEVENT
BEGIN:VEVENT
DTSTART;TZID=UTC:20260315T160000
DTEND;TZID=UTC:20260315T180000
DTSTAMP:20260423T193403
CREATED:20250826T180922Z
LAST-MODIFIED:20260325T134226Z
UID:10001906-1773590400-1773597600@anchorcovenant.org
SUMMARY:Buoy 68
DESCRIPTION:All Middle Schoolers welcome. \nJoin us for Buoy at Anchor Covenant Church every Sunday from 4-6pm.
URL:https://anchorcovenant.org/event/buoy-68/2026-03-15/
LOCATION:WI
ATTACH;FMTTYPE=image/png:https://anchorcovenant.org/wp-content/uploads/2025/08/Screenshot-2025-09-18-at-11.47.20-AM.png
END:VEVENT
BEGIN:VEVENT
DTSTART;TZID=UTC:20260315T160000
DTEND;TZID=UTC:20260315T180000
DTSTAMP:20260423T193403
CREATED:20260304T213812Z
LAST-MODIFIED:20260304T213812Z
UID:10002882-1773590400-1773597600@anchorcovenant.org
SUMMARY:Compass Event
DESCRIPTION:Join us for a devotional\, activities\, and snacks!
URL:https://anchorcovenant.org/event/compass-event-2/
LOCATION:Anchor Covenant Church\, 1229 Park Row\, Lake Geneva\, WI
ATTACH;FMTTYPE=image/png:https://anchorcovenant.org/wp-content/uploads/2026/03/unnamed-96.png
END:VEVENT
BEGIN:VEVENT
DTSTART;TZID=UTC:20260315T170000
DTEND;TZID=UTC:20260315T190000
DTSTAMP:20260423T193403
CREATED:20250826T181055Z
LAST-MODIFIED:20260325T134306Z
UID:10001835-1773594000-1773601200@anchorcovenant.org
SUMMARY:Buoy HS
DESCRIPTION:All High Schoolers welcome. \nJoin us for Buoy at Anchor Covenant Church every Sunday from 5-7 pm.
URL:https://anchorcovenant.org/event/buoy-hs/2026-03-15/
LOCATION:WI
ATTACH;FMTTYPE=image/webp:https://anchorcovenant.org/wp-content/uploads/2025/08/Screenshot-2025-09-18-at-11.47.20-AM.webp
END:VEVENT
BEGIN:VEVENT
DTSTART;TZID=UTC:20260317T133000
DTEND;TZID=UTC:20260317T150000
DTSTAMP:20260423T193403
CREATED:20250813T215409Z
LAST-MODIFIED:20260402T125951Z
UID:10002263-1773754200-1773759600@anchorcovenant.org
SUMMARY:Tuesday Ladies Bible Study
DESCRIPTION:The Sermon on the Mount\, The Beatitudes \nBegins January 13th \n1:30-3:00pm \nContact Brenda Follensbee with questions at bfollensbee8@gmail.com
URL:https://anchorcovenant.org/event/tuesday-ladies-bible-study/2026-03-17/
LOCATION:Anchor Covenant Church\, 1229 Park Row\, Lake Geneva\, WI
ATTACH;FMTTYPE=image/png:https://anchorcovenant.org/wp-content/uploads/2025/08/unnamed-2026-03-25T084456.510.png
END:VEVENT
BEGIN:VEVENT
DTSTART;TZID=UTC:20260317T190000
DTEND;TZID=UTC:20260317T200000
DTSTAMP:20260423T193403
CREATED:20251015T124652Z
LAST-MODIFIED:20260415T122635Z
UID:10001115-1773774000-1773777600@anchorcovenant.org
SUMMARY:Men's Bible Study
DESCRIPTION:Join us every 1st and 3rd Tuesday at Anchor at 7:00pm.
URL:https://anchorcovenant.org/event/mens-bible-study/2026-03-17/
LOCATION:Anchor Covenant Church\, 1229 Park Row\, Lake Geneva\, WI
ATTACH;FMTTYPE=image/png:https://anchorcovenant.org/wp-content/uploads/2025/10/unnamed-92.png
END:VEVENT
BEGIN:VEVENT
DTSTART;TZID=UTC:20260318T070000
DTEND;TZID=UTC:20260318T080000
DTSTAMP:20260423T193403
CREATED:20250731T124751Z
LAST-MODIFIED:20251216T215002Z
UID:10000292-1773817200-1773820800@anchorcovenant.org
SUMMARY:Men's Coffee
DESCRIPTION:Join us for Wednesday Men’s Coffee at 7:00am at Anchor Covenant Church. \nContact Pete for details: pjheintzelman@gmail.com
URL:https://anchorcovenant.org/event/mens-coffee-5/2026-03-18/
LOCATION:Anchor Covenant Church\, 1229 Park Row\, Lake Geneva\, WI
ATTACH;FMTTYPE=image/jpeg:https://anchorcovenant.org/wp-content/uploads/2025/07/unnamed-1.jpg
END:VEVENT
BEGIN:VEVENT
DTSTART;TZID=UTC:20260318T190000
DTEND;TZID=UTC:20260318T200000
DTSTAMP:20260423T193403
CREATED:20260114T155752Z
LAST-MODIFIED:20260325T134649Z
UID:10001245-1773860400-1773864000@anchorcovenant.org
SUMMARY:Young Adults Bible Study
DESCRIPTION:Join us Wednesdays at 7:00pm for the Young Adults Bible Study. \nFirst\, Third\, and Fifth Wednesdays we will meet at Anchor in the Buoy Room. \nSecond and Fourth Wednesdays we will be doing outings in the community\, contact Emma at emma.devries@anchorcovenant.org for details.
URL:https://anchorcovenant.org/event/young-adults-bible-study-2/2026-03-18/
LOCATION:Anchor Covenant Church\, 1229 Park Row\, Lake Geneva\, WI
ATTACH;FMTTYPE=image/png:https://anchorcovenant.org/wp-content/uploads/2026/01/unnamed-2026-03-25T084611.930.png
END:VEVENT
BEGIN:VEVENT
DTSTART;TZID=UTC:20260319T055900
DTEND;TZID=UTC:20260319T070000
DTSTAMP:20260423T193403
CREATED:20260107T122054Z
LAST-MODIFIED:20260406T172921Z
UID:10002597-1773899940-1773903600@anchorcovenant.org
SUMMARY:Buoy Before School Bible Study
DESCRIPTION:All Buoy students are welcome to join us Thursday mornings from 5:59-7:00 for a before school Bible study. Hope to see you there!
URL:https://anchorcovenant.org/event/buoy-before-school-bible-study/2026-03-19/
LOCATION:Buoy Room
ATTACH;FMTTYPE=image/jpeg:https://anchorcovenant.org/wp-content/uploads/2026/01/IMG_7383.jpeg
END:VEVENT
BEGIN:VEVENT
DTSTART;TZID=UTC:20260319T130000
DTEND;TZID=UTC:20260319T140000
DTSTAMP:20260423T193403
CREATED:20260101T204759Z
LAST-MODIFIED:20260304T214458Z
UID:10000552-1773925200-1773928800@anchorcovenant.org
SUMMARY:She Reads Truth
DESCRIPTION:Join us for the She Reads Truth Bible Study every Thursday at 1:00pm at Anchor.
URL:https://anchorcovenant.org/event/she-reads-truth-2/2026-03-19/
LOCATION:Anchor Covenant Church\, 1229 Park Row\, Lake Geneva\, WI
ATTACH;FMTTYPE=image/webp:https://anchorcovenant.org/wp-content/uploads/2026/02/ANCHOR-PRAYER-TEAM.webp
END:VEVENT
BEGIN:VEVENT
DTSTART;TZID=UTC:20260321T080000
DTEND;TZID=UTC:20260321T090000
DTSTAMP:20260423T193403
CREATED:20260115T181119Z
LAST-MODIFIED:20260304T214621Z
UID:10001506-1774080000-1774083600@anchorcovenant.org
SUMMARY:Hour of Prayer
DESCRIPTION:Please join us for an hour of prayer each week at Anchor hosted by El Buen Pastor\, every Saturday at 8:00am
URL:https://anchorcovenant.org/event/hour-of-prayer-2-2/2026-03-21/
LOCATION:Anchor Covenant Church\, 1229 Park Row\, Lake Geneva\, WI
ATTACH;FMTTYPE=image/png:https://anchorcovenant.org/wp-content/uploads/2026/01/unnamed-100.png
END:VEVENT
BEGIN:VEVENT
DTSTART;TZID=UTC:20260322T093000
DTEND;TZID=UTC:20260322T101500
DTSTAMP:20260423T193403
CREATED:20251210T134542Z
LAST-MODIFIED:20251210T134542Z
UID:10001763-1774171800-1774174500@anchorcovenant.org
SUMMARY:Grow
DESCRIPTION:Join us for Grow every Sunday from 9:30-10:15.
URL:https://anchorcovenant.org/event/grow/2026-03-22/
LOCATION:WI
ATTACH;FMTTYPE=image/jpeg:https://anchorcovenant.org/wp-content/uploads/2025/12/unnamed-9.jpg
END:VEVENT
BEGIN:VEVENT
DTSTART;TZID=UTC:20260322T093000
DTEND;TZID=UTC:20260322T120000
DTSTAMP:20260423T193403
CREATED:20260304T213506Z
LAST-MODIFIED:20260304T213506Z
UID:10002880-1774171800-1774180800@anchorcovenant.org
SUMMARY:Anchor Covenant Food Drive
DESCRIPTION:The serve team would like to announce the third annual Easter Food Drive. The food collection will benefit both the Lake Geneva Food Pantry and Anchor’s Little Food Pantries.
URL:https://anchorcovenant.org/event/anchor-covenant-food-drive/2026-03-22/
LOCATION:Anchor Covenant Church\, 1229 Park Row\, Lake Geneva\, WI
ATTACH;FMTTYPE=image/png:https://anchorcovenant.org/wp-content/uploads/2026/03/unnamed-95.png
END:VEVENT
BEGIN:VEVENT
DTSTART;TZID=UTC:20260322T103000
DTEND;TZID=UTC:20260322T114500
DTSTAMP:20260423T193403
CREATED:20251216T220604Z
LAST-MODIFIED:20251216T220604Z
UID:10001985-1774175400-1774179900@anchorcovenant.org
SUMMARY:Service
DESCRIPTION:Join us every Sunday from 10:30-11:45 for our service online or in person at Anchor Covenant Church.
URL:https://anchorcovenant.org/event/service/2026-03-22/
LOCATION:Anchor Covenant Church\, 1229 Park Row\, Lake Geneva\, WI
ATTACH;FMTTYPE=image/png:https://anchorcovenant.org/wp-content/uploads/2025/12/Anchor.png
END:VEVENT
BEGIN:VEVENT
DTSTART;TZID=UTC:20260324T133000
DTEND;TZID=UTC:20260324T150000
DTSTAMP:20260423T193403
CREATED:20250813T215409Z
LAST-MODIFIED:20260402T125951Z
UID:10002264-1774359000-1774364400@anchorcovenant.org
SUMMARY:Tuesday Ladies Bible Study
DESCRIPTION:The Sermon on the Mount\, The Beatitudes \nBegins January 13th \n1:30-3:00pm \nContact Brenda Follensbee with questions at bfollensbee8@gmail.com
URL:https://anchorcovenant.org/event/tuesday-ladies-bible-study/2026-03-24/
LOCATION:Anchor Covenant Church\, 1229 Park Row\, Lake Geneva\, WI
ATTACH;FMTTYPE=image/png:https://anchorcovenant.org/wp-content/uploads/2025/08/unnamed-2026-03-25T084456.510.png
END:VEVENT
BEGIN:VEVENT
DTSTART;TZID=UTC:20260325T070000
DTEND;TZID=UTC:20260325T080000
DTSTAMP:20260423T193403
CREATED:20250731T124751Z
LAST-MODIFIED:20251216T215002Z
UID:10000293-1774422000-1774425600@anchorcovenant.org
SUMMARY:Men's Coffee
DESCRIPTION:Join us for Wednesday Men’s Coffee at 7:00am at Anchor Covenant Church. \nContact Pete for details: pjheintzelman@gmail.com
URL:https://anchorcovenant.org/event/mens-coffee-5/2026-03-25/
LOCATION:Anchor Covenant Church\, 1229 Park Row\, Lake Geneva\, WI
ATTACH;FMTTYPE=image/jpeg:https://anchorcovenant.org/wp-content/uploads/2025/07/unnamed-1.jpg
END:VEVENT
BEGIN:VEVENT
DTSTART;TZID=UTC:20260325T190000
DTEND;TZID=UTC:20260325T200000
DTSTAMP:20260423T193403
CREATED:20260114T155752Z
LAST-MODIFIED:20260325T134649Z
UID:10001246-1774465200-1774468800@anchorcovenant.org
SUMMARY:Young Adults Bible Study
DESCRIPTION:Join us Wednesdays at 7:00pm for the Young Adults Bible Study. \nFirst\, Third\, and Fifth Wednesdays we will meet at Anchor in the Buoy Room. \nSecond and Fourth Wednesdays we will be doing outings in the community\, contact Emma at emma.devries@anchorcovenant.org for details.
URL:https://anchorcovenant.org/event/young-adults-bible-study-2/2026-03-25/
LOCATION:Anchor Covenant Church\, 1229 Park Row\, Lake Geneva\, WI
ATTACH;FMTTYPE=image/png:https://anchorcovenant.org/wp-content/uploads/2026/01/unnamed-2026-03-25T084611.930.png
END:VEVENT
BEGIN:VEVENT
DTSTART;TZID=UTC:20260326T055900
DTEND;TZID=UTC:20260326T070000
DTSTAMP:20260423T193403
CREATED:20260107T122054Z
LAST-MODIFIED:20260406T172921Z
UID:10002598-1774504740-1774508400@anchorcovenant.org
SUMMARY:Buoy Before School Bible Study
DESCRIPTION:All Buoy students are welcome to join us Thursday mornings from 5:59-7:00 for a before school Bible study. Hope to see you there!
URL:https://anchorcovenant.org/event/buoy-before-school-bible-study/2026-03-26/
LOCATION:Buoy Room
ATTACH;FMTTYPE=image/jpeg:https://anchorcovenant.org/wp-content/uploads/2026/01/IMG_7383.jpeg
END:VEVENT
BEGIN:VEVENT
DTSTART;TZID=UTC:20260326T130000
DTEND;TZID=UTC:20260326T140000
DTSTAMP:20260423T193403
CREATED:20260101T204759Z
LAST-MODIFIED:20260304T214458Z
UID:10000553-1774530000-1774533600@anchorcovenant.org
SUMMARY:She Reads Truth
DESCRIPTION:Join us for the She Reads Truth Bible Study every Thursday at 1:00pm at Anchor.
URL:https://anchorcovenant.org/event/she-reads-truth-2/2026-03-26/
LOCATION:Anchor Covenant Church\, 1229 Park Row\, Lake Geneva\, WI
ATTACH;FMTTYPE=image/webp:https://anchorcovenant.org/wp-content/uploads/2026/02/ANCHOR-PRAYER-TEAM.webp
END:VEVENT
END:VCALENDAR