BEGIN:VCALENDAR
VERSION:2.0
PRODID:-//Anchor Covenant Church - ECPv6.15.20//NONSGML v1.0//EN
CALSCALE:GREGORIAN
METHOD:PUBLISH
X-ORIGINAL-URL:https://anchorcovenant.org
X-WR-CALDESC:Events for Anchor Covenant Church
REFRESH-INTERVAL;VALUE=DURATION:PT1H
X-Robots-Tag:noindex
X-PUBLISHED-TTL:PT1H
BEGIN:VTIMEZONE
TZID:UTC
BEGIN:STANDARD
TZOFFSETFROM:+0000
TZOFFSETTO:+0000
TZNAME:UTC
DTSTART:20250101T000000
END:STANDARD
END:VTIMEZONE
BEGIN:VEVENT
DTSTART;TZID=UTC:20260224T133000
DTEND;TZID=UTC:20260224T150000
DTSTAMP:20260423T222538
CREATED:20250813T215409Z
LAST-MODIFIED:20260402T125951Z
UID:10002260-1771939800-1771945200@anchorcovenant.org
SUMMARY:Tuesday Ladies Bible Study
DESCRIPTION:The Sermon on the Mount\, The Beatitudes \nBegins January 13th \n1:30-3:00pm \nContact Brenda Follensbee with questions at bfollensbee8@gmail.com
URL:https://anchorcovenant.org/event/tuesday-ladies-bible-study/2026-02-24/
LOCATION:Anchor Covenant Church\, 1229 Park Row\, Lake Geneva\, WI
ATTACH;FMTTYPE=image/png:https://anchorcovenant.org/wp-content/uploads/2025/08/unnamed-2026-03-25T084456.510.png
END:VEVENT
BEGIN:VEVENT
DTSTART;TZID=UTC:20260225T070000
DTEND;TZID=UTC:20260225T080000
DTSTAMP:20260423T222538
CREATED:20250731T124751Z
LAST-MODIFIED:20251216T215002Z
UID:10000289-1772002800-1772006400@anchorcovenant.org
SUMMARY:Men's Coffee
DESCRIPTION:Join us for Wednesday Men’s Coffee at 7:00am at Anchor Covenant Church. \nContact Pete for details: pjheintzelman@gmail.com
URL:https://anchorcovenant.org/event/mens-coffee-5/2026-02-25/
LOCATION:Anchor Covenant Church\, 1229 Park Row\, Lake Geneva\, WI
ATTACH;FMTTYPE=image/jpeg:https://anchorcovenant.org/wp-content/uploads/2025/07/unnamed-1.jpg
END:VEVENT
BEGIN:VEVENT
DTSTART;TZID=UTC:20260225T173000
DTEND;TZID=UTC:20260225T203000
DTSTAMP:20260423T222538
CREATED:20260211T145221Z
LAST-MODIFIED:20260211T145221Z
UID:10002869-1772040600-1772051400@anchorcovenant.org
SUMMARY:UNITE Worship Night
DESCRIPTION:Calling all students\, 6th-12th grade. Join teens from across Walworth County for a night of fun and worship at Lakeland Church.
URL:https://anchorcovenant.org/event/unite-worship-night/
LOCATION:Lakeland Church
ATTACH;FMTTYPE=image/jpeg:https://anchorcovenant.org/wp-content/uploads/2026/02/unnamed-20.jpg
END:VEVENT
BEGIN:VEVENT
DTSTART;TZID=UTC:20260225T190000
DTEND;TZID=UTC:20260225T200000
DTSTAMP:20260423T222538
CREATED:20260114T155752Z
LAST-MODIFIED:20260325T134649Z
UID:10001242-1772046000-1772049600@anchorcovenant.org
SUMMARY:Young Adults Bible Study
DESCRIPTION:Join us Wednesdays at 7:00pm for the Young Adults Bible Study. \nFirst\, Third\, and Fifth Wednesdays we will meet at Anchor in the Buoy Room. \nSecond and Fourth Wednesdays we will be doing outings in the community\, contact Emma at emma.devries@anchorcovenant.org for details.
URL:https://anchorcovenant.org/event/young-adults-bible-study-2/2026-02-25/
LOCATION:Anchor Covenant Church\, 1229 Park Row\, Lake Geneva\, WI
ATTACH;FMTTYPE=image/png:https://anchorcovenant.org/wp-content/uploads/2026/01/unnamed-2026-03-25T084611.930.png
END:VEVENT
BEGIN:VEVENT
DTSTART;TZID=UTC:20260226T055900
DTEND;TZID=UTC:20260226T070000
DTSTAMP:20260423T222538
CREATED:20260107T122054Z
LAST-MODIFIED:20260406T172921Z
UID:10002594-1772085540-1772089200@anchorcovenant.org
SUMMARY:Buoy Before School Bible Study
DESCRIPTION:All Buoy students are welcome to join us Thursday mornings from 5:59-7:00 for a before school Bible study. Hope to see you there!
URL:https://anchorcovenant.org/event/buoy-before-school-bible-study/2026-02-26/
LOCATION:Buoy Room
ATTACH;FMTTYPE=image/jpeg:https://anchorcovenant.org/wp-content/uploads/2026/01/IMG_7383.jpeg
END:VEVENT
BEGIN:VEVENT
DTSTART;TZID=UTC:20260226T130000
DTEND;TZID=UTC:20260226T140000
DTSTAMP:20260423T222538
CREATED:20260101T204759Z
LAST-MODIFIED:20260304T214458Z
UID:10000549-1772110800-1772114400@anchorcovenant.org
SUMMARY:She Reads Truth
DESCRIPTION:Join us for the She Reads Truth Bible Study every Thursday at 1:00pm at Anchor.
URL:https://anchorcovenant.org/event/she-reads-truth-2/2026-02-26/
LOCATION:Anchor Covenant Church\, 1229 Park Row\, Lake Geneva\, WI
ATTACH;FMTTYPE=image/webp:https://anchorcovenant.org/wp-content/uploads/2026/02/ANCHOR-PRAYER-TEAM.webp
END:VEVENT
BEGIN:VEVENT
DTSTART;TZID=UTC:20260228T080000
DTEND;TZID=UTC:20260228T090000
DTSTAMP:20260423T222538
CREATED:20260115T181119Z
LAST-MODIFIED:20260304T214621Z
UID:10001503-1772265600-1772269200@anchorcovenant.org
SUMMARY:Hour of Prayer
DESCRIPTION:Please join us for an hour of prayer each week at Anchor hosted by El Buen Pastor\, every Saturday at 8:00am
URL:https://anchorcovenant.org/event/hour-of-prayer-2-2/2026-02-28/
LOCATION:Anchor Covenant Church\, 1229 Park Row\, Lake Geneva\, WI
ATTACH;FMTTYPE=image/png:https://anchorcovenant.org/wp-content/uploads/2026/01/unnamed-100.png
END:VEVENT
BEGIN:VEVENT
DTSTART;TZID=UTC:20260301T093000
DTEND;TZID=UTC:20260301T101500
DTSTAMP:20260423T222538
CREATED:20251210T134542Z
LAST-MODIFIED:20251210T134542Z
UID:10001760-1772357400-1772360100@anchorcovenant.org
SUMMARY:Grow
DESCRIPTION:Join us for Grow every Sunday from 9:30-10:15.
URL:https://anchorcovenant.org/event/grow/2026-03-01/
LOCATION:WI
ATTACH;FMTTYPE=image/jpeg:https://anchorcovenant.org/wp-content/uploads/2025/12/unnamed-9.jpg
END:VEVENT
BEGIN:VEVENT
DTSTART;TZID=UTC:20260301T103000
DTEND;TZID=UTC:20260301T114500
DTSTAMP:20260423T222538
CREATED:20251216T220604Z
LAST-MODIFIED:20251216T220604Z
UID:10001982-1772361000-1772365500@anchorcovenant.org
SUMMARY:Service
DESCRIPTION:Join us every Sunday from 10:30-11:45 for our service online or in person at Anchor Covenant Church.
URL:https://anchorcovenant.org/event/service/2026-03-01/
LOCATION:Anchor Covenant Church\, 1229 Park Row\, Lake Geneva\, WI
ATTACH;FMTTYPE=image/png:https://anchorcovenant.org/wp-content/uploads/2025/12/Anchor.png
END:VEVENT
BEGIN:VEVENT
DTSTART;TZID=UTC:20260301T150000
DTEND;TZID=UTC:20260301T160000
DTSTAMP:20260423T222538
CREATED:20250903T115156Z
LAST-MODIFIED:20260408T142155Z
UID:10002328-1772377200-1772380800@anchorcovenant.org
SUMMARY:Confirmation
DESCRIPTION:Join Pastor Melissa for Confirmation every Sunday at 3:00pm.
URL:https://anchorcovenant.org/event/confirmation-9/2026-03-01/
LOCATION:Anchor Covenant Church\, 1229 Park Row\, Lake Geneva\, WI
ATTACH;FMTTYPE=image/webp:https://anchorcovenant.org/wp-content/uploads/2025/04/confirmation-scaled.webp
END:VEVENT
BEGIN:VEVENT
DTSTART;TZID=UTC:20260301T160000
DTEND;TZID=UTC:20260301T180000
DTSTAMP:20260423T222538
CREATED:20250826T180922Z
LAST-MODIFIED:20260325T134226Z
UID:10001904-1772380800-1772388000@anchorcovenant.org
SUMMARY:Buoy 68
DESCRIPTION:All Middle Schoolers welcome. \nJoin us for Buoy at Anchor Covenant Church every Sunday from 4-6pm.
URL:https://anchorcovenant.org/event/buoy-68/2026-03-01/
LOCATION:WI
ATTACH;FMTTYPE=image/png:https://anchorcovenant.org/wp-content/uploads/2025/08/Screenshot-2025-09-18-at-11.47.20-AM.png
END:VEVENT
BEGIN:VEVENT
DTSTART;TZID=UTC:20260301T170000
DTEND;TZID=UTC:20260301T190000
DTSTAMP:20260423T222538
CREATED:20250826T181055Z
LAST-MODIFIED:20260325T134306Z
UID:10001833-1772384400-1772391600@anchorcovenant.org
SUMMARY:Buoy HS
DESCRIPTION:All High Schoolers welcome. \nJoin us for Buoy at Anchor Covenant Church every Sunday from 5-7 pm.
URL:https://anchorcovenant.org/event/buoy-hs/2026-03-01/
LOCATION:WI
ATTACH;FMTTYPE=image/webp:https://anchorcovenant.org/wp-content/uploads/2025/08/Screenshot-2025-09-18-at-11.47.20-AM.webp
END:VEVENT
BEGIN:VEVENT
DTSTART;TZID=UTC:20260303T133000
DTEND;TZID=UTC:20260303T150000
DTSTAMP:20260423T222538
CREATED:20250813T215409Z
LAST-MODIFIED:20260402T125951Z
UID:10002261-1772544600-1772550000@anchorcovenant.org
SUMMARY:Tuesday Ladies Bible Study
DESCRIPTION:The Sermon on the Mount\, The Beatitudes \nBegins January 13th \n1:30-3:00pm \nContact Brenda Follensbee with questions at bfollensbee8@gmail.com
URL:https://anchorcovenant.org/event/tuesday-ladies-bible-study/2026-03-03/
LOCATION:Anchor Covenant Church\, 1229 Park Row\, Lake Geneva\, WI
ATTACH;FMTTYPE=image/png:https://anchorcovenant.org/wp-content/uploads/2025/08/unnamed-2026-03-25T084456.510.png
END:VEVENT
BEGIN:VEVENT
DTSTART;TZID=UTC:20260303T190000
DTEND;TZID=UTC:20260303T200000
DTSTAMP:20260423T222538
CREATED:20251208T222007Z
LAST-MODIFIED:20260415T122550Z
UID:10001174-1772564400-1772568000@anchorcovenant.org
SUMMARY:Men's Bible Study
DESCRIPTION:Join us every 1st and 3rd Tuesday at Anchor at 7:00pm.
URL:https://anchorcovenant.org/event/mens-bible-study-2/2026-03-03/
LOCATION:Anchor Covenant Church\, 1229 Park Row\, Lake Geneva\, WI
ATTACH;FMTTYPE=image/webp:https://anchorcovenant.org/wp-content/uploads/2025/10/unnamed-92.webp
END:VEVENT
BEGIN:VEVENT
DTSTART;TZID=UTC:20260304T070000
DTEND;TZID=UTC:20260304T080000
DTSTAMP:20260423T222538
CREATED:20250731T124751Z
LAST-MODIFIED:20251216T215002Z
UID:10000290-1772607600-1772611200@anchorcovenant.org
SUMMARY:Men's Coffee
DESCRIPTION:Join us for Wednesday Men’s Coffee at 7:00am at Anchor Covenant Church. \nContact Pete for details: pjheintzelman@gmail.com
URL:https://anchorcovenant.org/event/mens-coffee-5/2026-03-04/
LOCATION:Anchor Covenant Church\, 1229 Park Row\, Lake Geneva\, WI
ATTACH;FMTTYPE=image/jpeg:https://anchorcovenant.org/wp-content/uploads/2025/07/unnamed-1.jpg
END:VEVENT
BEGIN:VEVENT
DTSTART;TZID=UTC:20260304T190000
DTEND;TZID=UTC:20260304T200000
DTSTAMP:20260423T222538
CREATED:20260114T155752Z
LAST-MODIFIED:20260325T134649Z
UID:10001243-1772650800-1772654400@anchorcovenant.org
SUMMARY:Young Adults Bible Study
DESCRIPTION:Join us Wednesdays at 7:00pm for the Young Adults Bible Study. \nFirst\, Third\, and Fifth Wednesdays we will meet at Anchor in the Buoy Room. \nSecond and Fourth Wednesdays we will be doing outings in the community\, contact Emma at emma.devries@anchorcovenant.org for details.
URL:https://anchorcovenant.org/event/young-adults-bible-study-2/2026-03-04/
LOCATION:Anchor Covenant Church\, 1229 Park Row\, Lake Geneva\, WI
ATTACH;FMTTYPE=image/png:https://anchorcovenant.org/wp-content/uploads/2026/01/unnamed-2026-03-25T084611.930.png
END:VEVENT
BEGIN:VEVENT
DTSTART;TZID=UTC:20260305T055900
DTEND;TZID=UTC:20260305T070000
DTSTAMP:20260423T222538
CREATED:20260107T122054Z
LAST-MODIFIED:20260406T172921Z
UID:10002595-1772690340-1772694000@anchorcovenant.org
SUMMARY:Buoy Before School Bible Study
DESCRIPTION:All Buoy students are welcome to join us Thursday mornings from 5:59-7:00 for a before school Bible study. Hope to see you there!
URL:https://anchorcovenant.org/event/buoy-before-school-bible-study/2026-03-05/
LOCATION:Buoy Room
ATTACH;FMTTYPE=image/jpeg:https://anchorcovenant.org/wp-content/uploads/2026/01/IMG_7383.jpeg
END:VEVENT
BEGIN:VEVENT
DTSTART;TZID=UTC:20260305T130000
DTEND;TZID=UTC:20260305T140000
DTSTAMP:20260423T222538
CREATED:20260101T204759Z
LAST-MODIFIED:20260304T214458Z
UID:10000550-1772715600-1772719200@anchorcovenant.org
SUMMARY:She Reads Truth
DESCRIPTION:Join us for the She Reads Truth Bible Study every Thursday at 1:00pm at Anchor.
URL:https://anchorcovenant.org/event/she-reads-truth-2/2026-03-05/
LOCATION:Anchor Covenant Church\, 1229 Park Row\, Lake Geneva\, WI
ATTACH;FMTTYPE=image/webp:https://anchorcovenant.org/wp-content/uploads/2026/02/ANCHOR-PRAYER-TEAM.webp
END:VEVENT
BEGIN:VEVENT
DTSTART;TZID=UTC:20260307T080000
DTEND;TZID=UTC:20260307T090000
DTSTAMP:20260423T222538
CREATED:20260115T181119Z
LAST-MODIFIED:20260304T214621Z
UID:10001504-1772870400-1772874000@anchorcovenant.org
SUMMARY:Hour of Prayer
DESCRIPTION:Please join us for an hour of prayer each week at Anchor hosted by El Buen Pastor\, every Saturday at 8:00am
URL:https://anchorcovenant.org/event/hour-of-prayer-2-2/2026-03-07/
LOCATION:Anchor Covenant Church\, 1229 Park Row\, Lake Geneva\, WI
ATTACH;FMTTYPE=image/png:https://anchorcovenant.org/wp-content/uploads/2026/01/unnamed-100.png
END:VEVENT
BEGIN:VEVENT
DTSTART;TZID=UTC:20260308T093000
DTEND;TZID=UTC:20260308T101500
DTSTAMP:20260423T222538
CREATED:20251210T134542Z
LAST-MODIFIED:20251210T134542Z
UID:10001761-1772962200-1772964900@anchorcovenant.org
SUMMARY:Grow
DESCRIPTION:Join us for Grow every Sunday from 9:30-10:15.
URL:https://anchorcovenant.org/event/grow/2026-03-08/
LOCATION:WI
ATTACH;FMTTYPE=image/jpeg:https://anchorcovenant.org/wp-content/uploads/2025/12/unnamed-9.jpg
END:VEVENT
BEGIN:VEVENT
DTSTART;TZID=UTC:20260308T093000
DTEND;TZID=UTC:20260308T120000
DTSTAMP:20260423T222538
CREATED:20260304T213506Z
LAST-MODIFIED:20260304T213506Z
UID:10002878-1772962200-1772971200@anchorcovenant.org
SUMMARY:Anchor Covenant Food Drive
DESCRIPTION:The serve team would like to announce the third annual Easter Food Drive. The food collection will benefit both the Lake Geneva Food Pantry and Anchor’s Little Food Pantries.
URL:https://anchorcovenant.org/event/anchor-covenant-food-drive/2026-03-08/
LOCATION:Anchor Covenant Church\, 1229 Park Row\, Lake Geneva\, WI
ATTACH;FMTTYPE=image/png:https://anchorcovenant.org/wp-content/uploads/2026/03/unnamed-95.png
END:VEVENT
BEGIN:VEVENT
DTSTART;TZID=UTC:20260308T103000
DTEND;TZID=UTC:20260308T114500
DTSTAMP:20260423T222538
CREATED:20251216T220604Z
LAST-MODIFIED:20251216T220604Z
UID:10001983-1772965800-1772970300@anchorcovenant.org
SUMMARY:Service
DESCRIPTION:Join us every Sunday from 10:30-11:45 for our service online or in person at Anchor Covenant Church.
URL:https://anchorcovenant.org/event/service/2026-03-08/
LOCATION:Anchor Covenant Church\, 1229 Park Row\, Lake Geneva\, WI
ATTACH;FMTTYPE=image/png:https://anchorcovenant.org/wp-content/uploads/2025/12/Anchor.png
END:VEVENT
BEGIN:VEVENT
DTSTART;TZID=UTC:20260308T114500
DTEND;TZID=UTC:20260308T123000
DTSTAMP:20260423T222538
CREATED:20260211T145653Z
LAST-MODIFIED:20260211T145653Z
UID:10002870-1772970300-1772973000@anchorcovenant.org
SUMMARY:Come On\, Soups On
DESCRIPTION:Join us Sunday\, March 8 after church for a Buoy mission trip fundraiser. We will provide soup\, bread\, and veggies and will also share about what the mission trip has instore for us.
URL:https://anchorcovenant.org/event/come-on-soups-on/
LOCATION:Anchor Covenant Church\, 1229 Park Row\, Lake Geneva\, WI
ATTACH;FMTTYPE=image/webp:https://anchorcovenant.org/wp-content/uploads/2026/02/unnamed-91.webp
END:VEVENT
BEGIN:VEVENT
DTSTART;TZID=UTC:20260308T150000
DTEND;TZID=UTC:20260308T160000
DTSTAMP:20260423T222538
CREATED:20250903T115156Z
LAST-MODIFIED:20260408T142155Z
UID:10002329-1772982000-1772985600@anchorcovenant.org
SUMMARY:Confirmation
DESCRIPTION:Join Pastor Melissa for Confirmation every Sunday at 3:00pm.
URL:https://anchorcovenant.org/event/confirmation-9/2026-03-08/
LOCATION:Anchor Covenant Church\, 1229 Park Row\, Lake Geneva\, WI
ATTACH;FMTTYPE=image/webp:https://anchorcovenant.org/wp-content/uploads/2025/04/confirmation-scaled.webp
END:VEVENT
BEGIN:VEVENT
DTSTART;TZID=UTC:20260308T160000
DTEND;TZID=UTC:20260308T180000
DTSTAMP:20260423T222538
CREATED:20250826T180922Z
LAST-MODIFIED:20260325T134226Z
UID:10001905-1772985600-1772992800@anchorcovenant.org
SUMMARY:Buoy 68
DESCRIPTION:All Middle Schoolers welcome. \nJoin us for Buoy at Anchor Covenant Church every Sunday from 4-6pm.
URL:https://anchorcovenant.org/event/buoy-68/2026-03-08/
LOCATION:WI
ATTACH;FMTTYPE=image/png:https://anchorcovenant.org/wp-content/uploads/2025/08/Screenshot-2025-09-18-at-11.47.20-AM.png
END:VEVENT
BEGIN:VEVENT
DTSTART;TZID=UTC:20260308T170000
DTEND;TZID=UTC:20260308T190000
DTSTAMP:20260423T222538
CREATED:20250826T181055Z
LAST-MODIFIED:20260325T134306Z
UID:10001834-1772989200-1772996400@anchorcovenant.org
SUMMARY:Buoy HS
DESCRIPTION:All High Schoolers welcome. \nJoin us for Buoy at Anchor Covenant Church every Sunday from 5-7 pm.
URL:https://anchorcovenant.org/event/buoy-hs/2026-03-08/
LOCATION:WI
ATTACH;FMTTYPE=image/webp:https://anchorcovenant.org/wp-content/uploads/2025/08/Screenshot-2025-09-18-at-11.47.20-AM.webp
END:VEVENT
BEGIN:VEVENT
DTSTART;TZID=UTC:20260309T173000
DTEND;TZID=UTC:20260309T190000
DTSTAMP:20260423T222538
CREATED:20260219T161703Z
LAST-MODIFIED:20260219T161703Z
UID:10002875-1773077400-1773082800@anchorcovenant.org
SUMMARY:Pop-in Dinner Party at Turf Kitchen and Tap
DESCRIPTION:We look forward to sharing laughter\, stories\, and a fantastic meal together.
URL:https://anchorcovenant.org/event/pop-in-dinner-party-at-turf-kitchen-and-tap/
LOCATION:Turf Kitchen
ATTACH;FMTTYPE=image/png:https://anchorcovenant.org/wp-content/uploads/2026/02/unnamed-94.png
END:VEVENT
BEGIN:VEVENT
DTSTART;TZID=UTC:20260310T133000
DTEND;TZID=UTC:20260310T150000
DTSTAMP:20260423T222538
CREATED:20250813T215409Z
LAST-MODIFIED:20260402T125951Z
UID:10002262-1773149400-1773154800@anchorcovenant.org
SUMMARY:Tuesday Ladies Bible Study
DESCRIPTION:The Sermon on the Mount\, The Beatitudes \nBegins January 13th \n1:30-3:00pm \nContact Brenda Follensbee with questions at bfollensbee8@gmail.com
URL:https://anchorcovenant.org/event/tuesday-ladies-bible-study/2026-03-10/
LOCATION:Anchor Covenant Church\, 1229 Park Row\, Lake Geneva\, WI
ATTACH;FMTTYPE=image/png:https://anchorcovenant.org/wp-content/uploads/2025/08/unnamed-2026-03-25T084456.510.png
END:VEVENT
BEGIN:VEVENT
DTSTART;TZID=UTC:20260311T070000
DTEND;TZID=UTC:20260311T080000
DTSTAMP:20260423T222538
CREATED:20250731T124751Z
LAST-MODIFIED:20251216T215002Z
UID:10000291-1773212400-1773216000@anchorcovenant.org
SUMMARY:Men's Coffee
DESCRIPTION:Join us for Wednesday Men’s Coffee at 7:00am at Anchor Covenant Church. \nContact Pete for details: pjheintzelman@gmail.com
URL:https://anchorcovenant.org/event/mens-coffee-5/2026-03-11/
LOCATION:Anchor Covenant Church\, 1229 Park Row\, Lake Geneva\, WI
ATTACH;FMTTYPE=image/jpeg:https://anchorcovenant.org/wp-content/uploads/2025/07/unnamed-1.jpg
END:VEVENT
BEGIN:VEVENT
DTSTART;TZID=UTC:20260311T190000
DTEND;TZID=UTC:20260311T200000
DTSTAMP:20260423T222538
CREATED:20260114T155752Z
LAST-MODIFIED:20260325T134649Z
UID:10001244-1773255600-1773259200@anchorcovenant.org
SUMMARY:Young Adults Bible Study
DESCRIPTION:Join us Wednesdays at 7:00pm for the Young Adults Bible Study. \nFirst\, Third\, and Fifth Wednesdays we will meet at Anchor in the Buoy Room. \nSecond and Fourth Wednesdays we will be doing outings in the community\, contact Emma at emma.devries@anchorcovenant.org for details.
URL:https://anchorcovenant.org/event/young-adults-bible-study-2/2026-03-11/
LOCATION:Anchor Covenant Church\, 1229 Park Row\, Lake Geneva\, WI
ATTACH;FMTTYPE=image/png:https://anchorcovenant.org/wp-content/uploads/2026/01/unnamed-2026-03-25T084611.930.png
END:VEVENT
END:VCALENDAR