BEGIN:VCALENDAR
VERSION:2.0
PRODID:-//Anchor Covenant Church - ECPv6.15.20//NONSGML v1.0//EN
CALSCALE:GREGORIAN
METHOD:PUBLISH
X-WR-CALNAME:Anchor Covenant Church
X-ORIGINAL-URL:https://anchorcovenant.org
X-WR-CALDESC:Events for Anchor Covenant Church
REFRESH-INTERVAL;VALUE=DURATION:PT1H
X-Robots-Tag:noindex
X-PUBLISHED-TTL:PT1H
BEGIN:VTIMEZONE
TZID:UTC
BEGIN:STANDARD
TZOFFSETFROM:+0000
TZOFFSETTO:+0000
TZNAME:UTC
DTSTART:20250101T000000
END:STANDARD
END:VTIMEZONE
BEGIN:VEVENT
DTSTART;TZID=UTC:20260210T133000
DTEND;TZID=UTC:20260210T150000
DTSTAMP:20260423T222358
CREATED:20250813T215409Z
LAST-MODIFIED:20260402T125951Z
UID:10002258-1770730200-1770735600@anchorcovenant.org
SUMMARY:Tuesday Ladies Bible Study
DESCRIPTION:The Sermon on the Mount\, The Beatitudes \nBegins January 13th \n1:30-3:00pm \nContact Brenda Follensbee with questions at bfollensbee8@gmail.com
URL:https://anchorcovenant.org/event/tuesday-ladies-bible-study/2026-02-10/
LOCATION:Anchor Covenant Church\, 1229 Park Row\, Lake Geneva\, WI
ATTACH;FMTTYPE=image/png:https://anchorcovenant.org/wp-content/uploads/2025/08/unnamed-2026-03-25T084456.510.png
END:VEVENT
BEGIN:VEVENT
DTSTART;TZID=UTC:20260210T173000
DTEND;TZID=UTC:20260210T193000
DTSTAMP:20260423T222358
CREATED:20260127T194234Z
LAST-MODIFIED:20260203T173511Z
UID:10002865-1770744600-1770751800@anchorcovenant.org
SUMMARY:Pop-In Dinner Party at Turf Kitchen
DESCRIPTION:Join us Tuesday\, February 10th at 5:30pm for a pop-in dinner. Please RSVP to Sarah Hill at 312-810-0845.
URL:https://anchorcovenant.org/event/pop-in-dinner-party-at-turf-kitchen/
LOCATION:Turf Kitchen
ATTACH;FMTTYPE=image/png:https://anchorcovenant.org/wp-content/uploads/2026/01/unnamed-90.png
END:VEVENT
BEGIN:VEVENT
DTSTART;TZID=UTC:20260211T070000
DTEND;TZID=UTC:20260211T080000
DTSTAMP:20260423T222358
CREATED:20250731T124751Z
LAST-MODIFIED:20251216T215002Z
UID:10000287-1770793200-1770796800@anchorcovenant.org
SUMMARY:Men's Coffee
DESCRIPTION:Join us for Wednesday Men’s Coffee at 7:00am at Anchor Covenant Church. \nContact Pete for details: pjheintzelman@gmail.com
URL:https://anchorcovenant.org/event/mens-coffee-5/2026-02-11/
LOCATION:Anchor Covenant Church\, 1229 Park Row\, Lake Geneva\, WI
ATTACH;FMTTYPE=image/jpeg:https://anchorcovenant.org/wp-content/uploads/2025/07/unnamed-1.jpg
END:VEVENT
BEGIN:VEVENT
DTSTART;TZID=UTC:20260211T190000
DTEND;TZID=UTC:20260211T200000
DTSTAMP:20260423T222358
CREATED:20260114T155752Z
LAST-MODIFIED:20260325T134649Z
UID:10001240-1770836400-1770840000@anchorcovenant.org
SUMMARY:Young Adults Bible Study
DESCRIPTION:Join us Wednesdays at 7:00pm for the Young Adults Bible Study. \nFirst\, Third\, and Fifth Wednesdays we will meet at Anchor in the Buoy Room. \nSecond and Fourth Wednesdays we will be doing outings in the community\, contact Emma at emma.devries@anchorcovenant.org for details.
URL:https://anchorcovenant.org/event/young-adults-bible-study-2/2026-02-11/
LOCATION:Anchor Covenant Church\, 1229 Park Row\, Lake Geneva\, WI
ATTACH;FMTTYPE=image/png:https://anchorcovenant.org/wp-content/uploads/2026/01/unnamed-2026-03-25T084611.930.png
END:VEVENT
BEGIN:VEVENT
DTSTART;TZID=UTC:20260212T055900
DTEND;TZID=UTC:20260212T070000
DTSTAMP:20260423T222358
CREATED:20260107T122054Z
LAST-MODIFIED:20260406T172921Z
UID:10002592-1770875940-1770879600@anchorcovenant.org
SUMMARY:Buoy Before School Bible Study
DESCRIPTION:All Buoy students are welcome to join us Thursday mornings from 5:59-7:00 for a before school Bible study. Hope to see you there!
URL:https://anchorcovenant.org/event/buoy-before-school-bible-study/2026-02-12/
LOCATION:Buoy Room
ATTACH;FMTTYPE=image/jpeg:https://anchorcovenant.org/wp-content/uploads/2026/01/IMG_7383.jpeg
END:VEVENT
BEGIN:VEVENT
DTSTART;TZID=UTC:20260212T130000
DTEND;TZID=UTC:20260212T140000
DTSTAMP:20260423T222358
CREATED:20260101T204759Z
LAST-MODIFIED:20260304T214458Z
UID:10000547-1770901200-1770904800@anchorcovenant.org
SUMMARY:She Reads Truth
DESCRIPTION:Join us for the She Reads Truth Bible Study every Thursday at 1:00pm at Anchor.
URL:https://anchorcovenant.org/event/she-reads-truth-2/2026-02-12/
LOCATION:Anchor Covenant Church\, 1229 Park Row\, Lake Geneva\, WI
ATTACH;FMTTYPE=image/webp:https://anchorcovenant.org/wp-content/uploads/2026/02/ANCHOR-PRAYER-TEAM.webp
END:VEVENT
BEGIN:VEVENT
DTSTART;TZID=UTC:20260213T170000
DTEND;TZID=UTC:20260214T170000
DTSTAMP:20260423T222358
CREATED:20251119T131010Z
LAST-MODIFIED:20251119T131123Z
UID:10000271-1771002000-1771088400@anchorcovenant.org
SUMMARY:Compass Winter Camp
DESCRIPTION:Calling all Compass Students! Save the date: Friday\, February 13 – Saturday\, February 14.
URL:https://anchorcovenant.org/event/compass-winter-camp-3/
LOCATION:Covenant Harbor\, 1724 W Main Street\, Lake Geneva\, WI\, 53147
END:VEVENT
BEGIN:VEVENT
DTSTART;TZID=UTC:20260214T080000
DTEND;TZID=UTC:20260214T090000
DTSTAMP:20260423T222358
CREATED:20260115T181119Z
LAST-MODIFIED:20260304T214621Z
UID:10001501-1771056000-1771059600@anchorcovenant.org
SUMMARY:Hour of Prayer
DESCRIPTION:Please join us for an hour of prayer each week at Anchor hosted by El Buen Pastor\, every Saturday at 8:00am
URL:https://anchorcovenant.org/event/hour-of-prayer-2-2/2026-02-14/
LOCATION:Anchor Covenant Church\, 1229 Park Row\, Lake Geneva\, WI
ATTACH;FMTTYPE=image/png:https://anchorcovenant.org/wp-content/uploads/2026/01/unnamed-100.png
END:VEVENT
BEGIN:VEVENT
DTSTART;TZID=UTC:20260215T093000
DTEND;TZID=UTC:20260215T101500
DTSTAMP:20260423T222358
CREATED:20251210T134542Z
LAST-MODIFIED:20251210T134542Z
UID:10001758-1771147800-1771150500@anchorcovenant.org
SUMMARY:Grow
DESCRIPTION:Join us for Grow every Sunday from 9:30-10:15.
URL:https://anchorcovenant.org/event/grow/2026-02-15/
LOCATION:WI
ATTACH;FMTTYPE=image/jpeg:https://anchorcovenant.org/wp-content/uploads/2025/12/unnamed-9.jpg
END:VEVENT
BEGIN:VEVENT
DTSTART;TZID=UTC:20260215T103000
DTEND;TZID=UTC:20260215T114500
DTSTAMP:20260423T222358
CREATED:20251216T220604Z
LAST-MODIFIED:20251216T220604Z
UID:10001980-1771151400-1771155900@anchorcovenant.org
SUMMARY:Service
DESCRIPTION:Join us every Sunday from 10:30-11:45 for our service online or in person at Anchor Covenant Church.
URL:https://anchorcovenant.org/event/service/2026-02-15/
LOCATION:Anchor Covenant Church\, 1229 Park Row\, Lake Geneva\, WI
ATTACH;FMTTYPE=image/png:https://anchorcovenant.org/wp-content/uploads/2025/12/Anchor.png
END:VEVENT
BEGIN:VEVENT
DTSTART;TZID=UTC:20260215T150000
DTEND;TZID=UTC:20260215T160000
DTSTAMP:20260423T222358
CREATED:20250903T115156Z
LAST-MODIFIED:20260408T142155Z
UID:10002326-1771167600-1771171200@anchorcovenant.org
SUMMARY:Confirmation
DESCRIPTION:Join Pastor Melissa for Confirmation every Sunday at 3:00pm.
URL:https://anchorcovenant.org/event/confirmation-9/2026-02-15/
LOCATION:Anchor Covenant Church\, 1229 Park Row\, Lake Geneva\, WI
ATTACH;FMTTYPE=image/webp:https://anchorcovenant.org/wp-content/uploads/2025/04/confirmation-scaled.webp
END:VEVENT
BEGIN:VEVENT
DTSTART;TZID=UTC:20260215T160000
DTEND;TZID=UTC:20260215T180000
DTSTAMP:20260423T222358
CREATED:20250826T180922Z
LAST-MODIFIED:20260325T134226Z
UID:10001902-1771171200-1771178400@anchorcovenant.org
SUMMARY:Buoy 68
DESCRIPTION:All Middle Schoolers welcome. \nJoin us for Buoy at Anchor Covenant Church every Sunday from 4-6pm.
URL:https://anchorcovenant.org/event/buoy-68/2026-02-15/
LOCATION:WI
ATTACH;FMTTYPE=image/png:https://anchorcovenant.org/wp-content/uploads/2025/08/Screenshot-2025-09-18-at-11.47.20-AM.png
END:VEVENT
BEGIN:VEVENT
DTSTART;TZID=UTC:20260215T170000
DTEND;TZID=UTC:20260215T190000
DTSTAMP:20260423T222358
CREATED:20250826T181055Z
LAST-MODIFIED:20260325T134306Z
UID:10001831-1771174800-1771182000@anchorcovenant.org
SUMMARY:Buoy HS
DESCRIPTION:All High Schoolers welcome. \nJoin us for Buoy at Anchor Covenant Church every Sunday from 5-7 pm.
URL:https://anchorcovenant.org/event/buoy-hs/2026-02-15/
LOCATION:WI
ATTACH;FMTTYPE=image/webp:https://anchorcovenant.org/wp-content/uploads/2025/08/Screenshot-2025-09-18-at-11.47.20-AM.webp
END:VEVENT
BEGIN:VEVENT
DTSTART;TZID=UTC:20260216T180000
DTEND;TZID=UTC:20260216T200000
DTSTAMP:20260423T222358
CREATED:20260114T155248Z
LAST-MODIFIED:20260114T155248Z
UID:10002849-1771264800-1771272000@anchorcovenant.org
SUMMARY:Anchor Kids Birthday Card Writing
DESCRIPTION:Share God’s love by celebrating each of our Anchor Kids by helping to write personal birthday cards.
URL:https://anchorcovenant.org/event/anchor-kids-birthday-card-writing/
LOCATION:Anchor Covenant Church\, 1229 Park Row\, Lake Geneva\, WI
ATTACH;FMTTYPE=image/png:https://anchorcovenant.org/wp-content/uploads/2026/01/unnamed-79.png
END:VEVENT
BEGIN:VEVENT
DTSTART;TZID=UTC:20260217T133000
DTEND;TZID=UTC:20260217T150000
DTSTAMP:20260423T222358
CREATED:20250813T215409Z
LAST-MODIFIED:20260402T125951Z
UID:10002259-1771335000-1771340400@anchorcovenant.org
SUMMARY:Tuesday Ladies Bible Study
DESCRIPTION:The Sermon on the Mount\, The Beatitudes \nBegins January 13th \n1:30-3:00pm \nContact Brenda Follensbee with questions at bfollensbee8@gmail.com
URL:https://anchorcovenant.org/event/tuesday-ladies-bible-study/2026-02-17/
LOCATION:Anchor Covenant Church\, 1229 Park Row\, Lake Geneva\, WI
ATTACH;FMTTYPE=image/png:https://anchorcovenant.org/wp-content/uploads/2025/08/unnamed-2026-03-25T084456.510.png
END:VEVENT
BEGIN:VEVENT
DTSTART;TZID=UTC:20260217T190000
DTEND;TZID=UTC:20260217T200000
DTSTAMP:20260423T222358
CREATED:20251015T124652Z
LAST-MODIFIED:20260415T122635Z
UID:10001114-1771354800-1771358400@anchorcovenant.org
SUMMARY:Men's Bible Study
DESCRIPTION:Join us every 1st and 3rd Tuesday at Anchor at 7:00pm.
URL:https://anchorcovenant.org/event/mens-bible-study/2026-02-17/
LOCATION:Anchor Covenant Church\, 1229 Park Row\, Lake Geneva\, WI
ATTACH;FMTTYPE=image/png:https://anchorcovenant.org/wp-content/uploads/2025/10/unnamed-92.png
END:VEVENT
BEGIN:VEVENT
DTSTART;TZID=UTC:20260218T070000
DTEND;TZID=UTC:20260218T080000
DTSTAMP:20260423T222358
CREATED:20250731T124751Z
LAST-MODIFIED:20251216T215002Z
UID:10000288-1771398000-1771401600@anchorcovenant.org
SUMMARY:Men's Coffee
DESCRIPTION:Join us for Wednesday Men’s Coffee at 7:00am at Anchor Covenant Church. \nContact Pete for details: pjheintzelman@gmail.com
URL:https://anchorcovenant.org/event/mens-coffee-5/2026-02-18/
LOCATION:Anchor Covenant Church\, 1229 Park Row\, Lake Geneva\, WI
ATTACH;FMTTYPE=image/jpeg:https://anchorcovenant.org/wp-content/uploads/2025/07/unnamed-1.jpg
END:VEVENT
BEGIN:VEVENT
DTSTART;TZID=UTC:20260218T180000
DTEND;TZID=UTC:20260218T190000
DTSTAMP:20260423T222358
CREATED:20260203T173725Z
LAST-MODIFIED:20260203T173725Z
UID:10002867-1771437600-1771441200@anchorcovenant.org
SUMMARY:Ash Wednesday
DESCRIPTION:Join us Wednesday\, February 18th at 6:00pm for our Ash Wednesday service.
URL:https://anchorcovenant.org/event/ash-wednesday-2/
LOCATION:Anchor Covenant Church\, 1229 Park Row\, Lake Geneva\, WI
ATTACH;FMTTYPE=image/jpeg:https://anchorcovenant.org/wp-content/uploads/2026/02/unnamed-18.jpg
END:VEVENT
BEGIN:VEVENT
DTSTART;TZID=UTC:20260218T190000
DTEND;TZID=UTC:20260218T200000
DTSTAMP:20260423T222358
CREATED:20260114T155752Z
LAST-MODIFIED:20260325T134649Z
UID:10001241-1771441200-1771444800@anchorcovenant.org
SUMMARY:Young Adults Bible Study
DESCRIPTION:Join us Wednesdays at 7:00pm for the Young Adults Bible Study. \nFirst\, Third\, and Fifth Wednesdays we will meet at Anchor in the Buoy Room. \nSecond and Fourth Wednesdays we will be doing outings in the community\, contact Emma at emma.devries@anchorcovenant.org for details.
URL:https://anchorcovenant.org/event/young-adults-bible-study-2/2026-02-18/
LOCATION:Anchor Covenant Church\, 1229 Park Row\, Lake Geneva\, WI
ATTACH;FMTTYPE=image/png:https://anchorcovenant.org/wp-content/uploads/2026/01/unnamed-2026-03-25T084611.930.png
END:VEVENT
BEGIN:VEVENT
DTSTART;TZID=UTC:20260219T055900
DTEND;TZID=UTC:20260219T070000
DTSTAMP:20260423T222358
CREATED:20260107T122054Z
LAST-MODIFIED:20260406T172921Z
UID:10002593-1771480740-1771484400@anchorcovenant.org
SUMMARY:Buoy Before School Bible Study
DESCRIPTION:All Buoy students are welcome to join us Thursday mornings from 5:59-7:00 for a before school Bible study. Hope to see you there!
URL:https://anchorcovenant.org/event/buoy-before-school-bible-study/2026-02-19/
LOCATION:Buoy Room
ATTACH;FMTTYPE=image/jpeg:https://anchorcovenant.org/wp-content/uploads/2026/01/IMG_7383.jpeg
END:VEVENT
BEGIN:VEVENT
DTSTART;TZID=UTC:20260219T130000
DTEND;TZID=UTC:20260219T140000
DTSTAMP:20260423T222358
CREATED:20260101T204759Z
LAST-MODIFIED:20260304T214458Z
UID:10000548-1771506000-1771509600@anchorcovenant.org
SUMMARY:She Reads Truth
DESCRIPTION:Join us for the She Reads Truth Bible Study every Thursday at 1:00pm at Anchor.
URL:https://anchorcovenant.org/event/she-reads-truth-2/2026-02-19/
LOCATION:Anchor Covenant Church\, 1229 Park Row\, Lake Geneva\, WI
ATTACH;FMTTYPE=image/webp:https://anchorcovenant.org/wp-content/uploads/2026/02/ANCHOR-PRAYER-TEAM.webp
END:VEVENT
BEGIN:VEVENT
DTSTART;TZID=UTC:20260221T080000
DTEND;TZID=UTC:20260221T090000
DTSTAMP:20260423T222358
CREATED:20260115T181119Z
LAST-MODIFIED:20260304T214621Z
UID:10001502-1771660800-1771664400@anchorcovenant.org
SUMMARY:Hour of Prayer
DESCRIPTION:Please join us for an hour of prayer each week at Anchor hosted by El Buen Pastor\, every Saturday at 8:00am
URL:https://anchorcovenant.org/event/hour-of-prayer-2-2/2026-02-21/
LOCATION:Anchor Covenant Church\, 1229 Park Row\, Lake Geneva\, WI
ATTACH;FMTTYPE=image/png:https://anchorcovenant.org/wp-content/uploads/2026/01/unnamed-100.png
END:VEVENT
BEGIN:VEVENT
DTSTART;TZID=UTC:20260222T093000
DTEND;TZID=UTC:20260222T101500
DTSTAMP:20260423T222358
CREATED:20251210T134542Z
LAST-MODIFIED:20251210T134542Z
UID:10001759-1771752600-1771755300@anchorcovenant.org
SUMMARY:Grow
DESCRIPTION:Join us for Grow every Sunday from 9:30-10:15.
URL:https://anchorcovenant.org/event/grow/2026-02-22/
LOCATION:WI
ATTACH;FMTTYPE=image/jpeg:https://anchorcovenant.org/wp-content/uploads/2025/12/unnamed-9.jpg
END:VEVENT
BEGIN:VEVENT
DTSTART;TZID=UTC:20260222T103000
DTEND;TZID=UTC:20260222T114500
DTSTAMP:20260423T222358
CREATED:20251216T220604Z
LAST-MODIFIED:20251216T220604Z
UID:10001981-1771756200-1771760700@anchorcovenant.org
SUMMARY:Service
DESCRIPTION:Join us every Sunday from 10:30-11:45 for our service online or in person at Anchor Covenant Church.
URL:https://anchorcovenant.org/event/service/2026-02-22/
LOCATION:Anchor Covenant Church\, 1229 Park Row\, Lake Geneva\, WI
ATTACH;FMTTYPE=image/png:https://anchorcovenant.org/wp-content/uploads/2025/12/Anchor.png
END:VEVENT
BEGIN:VEVENT
DTSTART;TZID=UTC:20260222T150000
DTEND;TZID=UTC:20260222T160000
DTSTAMP:20260423T222358
CREATED:20250903T115156Z
LAST-MODIFIED:20260408T142155Z
UID:10002327-1771772400-1771776000@anchorcovenant.org
SUMMARY:Confirmation
DESCRIPTION:Join Pastor Melissa for Confirmation every Sunday at 3:00pm.
URL:https://anchorcovenant.org/event/confirmation-9/2026-02-22/
LOCATION:Anchor Covenant Church\, 1229 Park Row\, Lake Geneva\, WI
ATTACH;FMTTYPE=image/webp:https://anchorcovenant.org/wp-content/uploads/2025/04/confirmation-scaled.webp
END:VEVENT
BEGIN:VEVENT
DTSTART;TZID=UTC:20260222T160000
DTEND;TZID=UTC:20260222T180000
DTSTAMP:20260423T222358
CREATED:20250826T180922Z
LAST-MODIFIED:20260325T134226Z
UID:10001903-1771776000-1771783200@anchorcovenant.org
SUMMARY:Buoy 68
DESCRIPTION:All Middle Schoolers welcome. \nJoin us for Buoy at Anchor Covenant Church every Sunday from 4-6pm.
URL:https://anchorcovenant.org/event/buoy-68/2026-02-22/
LOCATION:WI
ATTACH;FMTTYPE=image/png:https://anchorcovenant.org/wp-content/uploads/2025/08/Screenshot-2025-09-18-at-11.47.20-AM.png
END:VEVENT
BEGIN:VEVENT
DTSTART;TZID=UTC:20260222T170000
DTEND;TZID=UTC:20260222T190000
DTSTAMP:20260423T222358
CREATED:20250826T181055Z
LAST-MODIFIED:20260325T134306Z
UID:10001832-1771779600-1771786800@anchorcovenant.org
SUMMARY:Buoy HS
DESCRIPTION:All High Schoolers welcome. \nJoin us for Buoy at Anchor Covenant Church every Sunday from 5-7 pm.
URL:https://anchorcovenant.org/event/buoy-hs/2026-02-22/
LOCATION:WI
ATTACH;FMTTYPE=image/webp:https://anchorcovenant.org/wp-content/uploads/2025/08/Screenshot-2025-09-18-at-11.47.20-AM.webp
END:VEVENT
BEGIN:VEVENT
DTSTART;TZID=UTC:20260224T133000
DTEND;TZID=UTC:20260224T150000
DTSTAMP:20260423T222358
CREATED:20250813T215409Z
LAST-MODIFIED:20260402T125951Z
UID:10002260-1771939800-1771945200@anchorcovenant.org
SUMMARY:Tuesday Ladies Bible Study
DESCRIPTION:The Sermon on the Mount\, The Beatitudes \nBegins January 13th \n1:30-3:00pm \nContact Brenda Follensbee with questions at bfollensbee8@gmail.com
URL:https://anchorcovenant.org/event/tuesday-ladies-bible-study/2026-02-24/
LOCATION:Anchor Covenant Church\, 1229 Park Row\, Lake Geneva\, WI
ATTACH;FMTTYPE=image/png:https://anchorcovenant.org/wp-content/uploads/2025/08/unnamed-2026-03-25T084456.510.png
END:VEVENT
BEGIN:VEVENT
DTSTART;TZID=UTC:20260225T070000
DTEND;TZID=UTC:20260225T080000
DTSTAMP:20260423T222358
CREATED:20250731T124751Z
LAST-MODIFIED:20251216T215002Z
UID:10000289-1772002800-1772006400@anchorcovenant.org
SUMMARY:Men's Coffee
DESCRIPTION:Join us for Wednesday Men’s Coffee at 7:00am at Anchor Covenant Church. \nContact Pete for details: pjheintzelman@gmail.com
URL:https://anchorcovenant.org/event/mens-coffee-5/2026-02-25/
LOCATION:Anchor Covenant Church\, 1229 Park Row\, Lake Geneva\, WI
ATTACH;FMTTYPE=image/jpeg:https://anchorcovenant.org/wp-content/uploads/2025/07/unnamed-1.jpg
END:VEVENT
BEGIN:VEVENT
DTSTART;TZID=UTC:20260225T173000
DTEND;TZID=UTC:20260225T203000
DTSTAMP:20260423T222358
CREATED:20260211T145221Z
LAST-MODIFIED:20260211T145221Z
UID:10002869-1772040600-1772051400@anchorcovenant.org
SUMMARY:UNITE Worship Night
DESCRIPTION:Calling all students\, 6th-12th grade. Join teens from across Walworth County for a night of fun and worship at Lakeland Church.
URL:https://anchorcovenant.org/event/unite-worship-night/
LOCATION:Lakeland Church
ATTACH;FMTTYPE=image/jpeg:https://anchorcovenant.org/wp-content/uploads/2026/02/unnamed-20.jpg
END:VEVENT
END:VCALENDAR