BEGIN:VCALENDAR
VERSION:2.0
PRODID:-//Anchor Covenant Church - ECPv6.15.20//NONSGML v1.0//EN
CALSCALE:GREGORIAN
METHOD:PUBLISH
X-WR-CALNAME:Anchor Covenant Church
X-ORIGINAL-URL:https://anchorcovenant.org
X-WR-CALDESC:Events for Anchor Covenant Church
REFRESH-INTERVAL;VALUE=DURATION:PT1H
X-Robots-Tag:noindex
X-PUBLISHED-TTL:PT1H
BEGIN:VTIMEZONE
TZID:UTC
BEGIN:STANDARD
TZOFFSETFROM:+0000
TZOFFSETTO:+0000
TZNAME:UTC
DTSTART:20240101T000000
END:STANDARD
END:VTIMEZONE
BEGIN:VEVENT
DTSTART;TZID=UTC:20251224T170000
DTEND;TZID=UTC:20251224T180000
DTSTAMP:20260423T234930
CREATED:20251112T132602Z
LAST-MODIFIED:20251112T132602Z
UID:10000264-1766595600-1766599200@anchorcovenant.org
SUMMARY:Christmas Eve Candlelight Service
DESCRIPTION:Join us for our Christmas Eve Service on Wednesday\, December 24 at 5:00pm.
URL:https://anchorcovenant.org/event/christmas-eve-candlelight-service/
LOCATION:Anchor Covenant Church\, 1229 Park Row\, Lake Geneva\, WI
ATTACH;FMTTYPE=image/webp:https://anchorcovenant.org/wp-content/uploads/2025/11/IMG_4905-scaled.webp
END:VEVENT
BEGIN:VEVENT
DTSTART;TZID=UTC:20251227T080000
DTEND;TZID=UTC:20251227T090000
DTSTAMP:20260423T234930
CREATED:20250813T080007Z
LAST-MODIFIED:20251208T222214Z
UID:10001494-1766822400-1766826000@anchorcovenant.org
SUMMARY:Hour of Prayer
DESCRIPTION:Please join us for an hour of prayer each week at Anchor hosted by El Buen Pastor\, every Saturday at 8:00am
URL:https://anchorcovenant.org/event/hour-of-prayer/2025-12-27/
LOCATION:Anchor Covenant Church\, 1229 Park Row\, Lake Geneva\, WI
ATTACH;FMTTYPE=image/jpeg:https://anchorcovenant.org/wp-content/uploads/2025/07/unnamed.jpg
END:VEVENT
BEGIN:VEVENT
DTSTART;TZID=UTC:20251228T080000
DTEND;TZID=UTC:20251228T170000
DTSTAMP:20260423T234930
CREATED:20251210T134955Z
LAST-MODIFIED:20251210T134955Z
UID:10001969-1766908800-1766941200@anchorcovenant.org
SUMMARY:Both Buoys on Break
DESCRIPTION:Peace on earth. Merry Christmas Buoy families! Buoy is on break until January 4.
URL:https://anchorcovenant.org/event/both-buoys-on-break/2025-12-28/
LOCATION:WI
ATTACH;FMTTYPE=image/png:https://anchorcovenant.org/wp-content/uploads/2025/12/unnamed-69.png
END:VEVENT
BEGIN:VEVENT
DTSTART;TZID=UTC:20251228T093000
DTEND;TZID=UTC:20251228T101500
DTSTAMP:20260423T234930
CREATED:20251217T145835Z
LAST-MODIFIED:20251223T151439Z
UID:10002239-1766914200-1766916900@anchorcovenant.org
SUMMARY:Grow On Break
DESCRIPTION:
URL:https://anchorcovenant.org/event/grow-on-break/2025-12-28/
LOCATION:WI
ATTACH;FMTTYPE=image/webp:https://anchorcovenant.org/wp-content/uploads/2025/12/hape.webp
END:VEVENT
BEGIN:VEVENT
DTSTART;TZID=UTC:20251228T103000
DTEND;TZID=UTC:20251228T114500
DTSTAMP:20260423T234930
CREATED:20251216T220604Z
LAST-MODIFIED:20251216T220604Z
UID:10001973-1766917800-1766922300@anchorcovenant.org
SUMMARY:Service
DESCRIPTION:Join us every Sunday from 10:30-11:45 for our service online or in person at Anchor Covenant Church.
URL:https://anchorcovenant.org/event/service/2025-12-28/
LOCATION:Anchor Covenant Church\, 1229 Park Row\, Lake Geneva\, WI
ATTACH;FMTTYPE=image/png:https://anchorcovenant.org/wp-content/uploads/2025/12/Anchor.png
END:VEVENT
BEGIN:VEVENT
DTSTART;TZID=UTC:20251228T103000
DTEND;TZID=UTC:20251228T120000
DTSTAMP:20260423T234930
CREATED:20251112T132934Z
LAST-MODIFIED:20251210T134153Z
UID:10000266-1766917800-1766923200@anchorcovenant.org
SUMMARY:Cozy Up and Enjoy
DESCRIPTION:Cozy up and enjoy the service online or in person Sunday\, December 28.
URL:https://anchorcovenant.org/event/home-for-the-holiday/
LOCATION:Anchor Covenant Church\, 1229 Park Row\, Lake Geneva\, WI
ATTACH;FMTTYPE=image/png:https://anchorcovenant.org/wp-content/uploads/2025/11/unnamed-67.png
END:VEVENT
BEGIN:VEVENT
DTSTART;TZID=UTC:20251231T070000
DTEND;TZID=UTC:20251231T080000
DTSTAMP:20260423T234930
CREATED:20250731T124751Z
LAST-MODIFIED:20251216T215002Z
UID:10000281-1767164400-1767168000@anchorcovenant.org
SUMMARY:Men's Coffee
DESCRIPTION:Join us for Wednesday Men’s Coffee at 7:00am at Anchor Covenant Church. \nContact Pete for details: pjheintzelman@gmail.com
URL:https://anchorcovenant.org/event/mens-coffee-5/2025-12-31/
LOCATION:Anchor Covenant Church\, 1229 Park Row\, Lake Geneva\, WI
ATTACH;FMTTYPE=image/jpeg:https://anchorcovenant.org/wp-content/uploads/2025/07/unnamed-1.jpg
END:VEVENT
BEGIN:VEVENT
DTSTART;TZID=UTC:20260101T130000
DTEND;TZID=UTC:20260101T140000
DTSTAMP:20260423T234930
CREATED:20250925T133918Z
LAST-MODIFIED:20251210T140003Z
UID:10000541-1767272400-1767276000@anchorcovenant.org
SUMMARY:She Reads Truth
DESCRIPTION:Join us for the She Reads Truth Bible Study every Thursday at 1:00pm at Anchor.
URL:https://anchorcovenant.org/event/she-reads-truth/2026-01-01/
LOCATION:Anchor Covenant Church\, 1229 Park Row\, Lake Geneva\, WI
ATTACH;FMTTYPE=image/png:https://anchorcovenant.org/wp-content/uploads/2025/09/unnamed-5.png
END:VEVENT
BEGIN:VEVENT
DTSTART;TZID=UTC:20260103T080000
DTEND;TZID=UTC:20260103T090000
DTSTAMP:20260423T234930
CREATED:20260101T204415Z
LAST-MODIFIED:20260101T204416Z
UID:10001495-1767427200-1767430800@anchorcovenant.org
SUMMARY:Hour of Prayer
DESCRIPTION:Please join us for an hour of prayer each week at Anchor hosted by El Buen Pastor\, every Saturday at 8:00am
URL:https://anchorcovenant.org/event/hour-of-prayer-2/2026-01-03/
LOCATION:Anchor Covenant Church\, 1229 Park Row\, Lake Geneva\, WI
ATTACH;FMTTYPE=image/jpeg:https://anchorcovenant.org/wp-content/uploads/2025/08/Brown-Natural-Bible-Verses-Instagram-Post-1920-x-1080-px.jpeg
END:VEVENT
BEGIN:VEVENT
DTSTART;TZID=UTC:20260104T093000
DTEND;TZID=UTC:20260104T101500
DTSTAMP:20260423T234930
CREATED:20251217T145835Z
LAST-MODIFIED:20251223T151439Z
UID:10002240-1767519000-1767521700@anchorcovenant.org
SUMMARY:Grow On Break
DESCRIPTION:
URL:https://anchorcovenant.org/event/grow-on-break/2026-01-04/
LOCATION:WI
ATTACH;FMTTYPE=image/webp:https://anchorcovenant.org/wp-content/uploads/2025/12/hape.webp
END:VEVENT
BEGIN:VEVENT
DTSTART;TZID=UTC:20260104T103000
DTEND;TZID=UTC:20260104T114500
DTSTAMP:20260423T234930
CREATED:20251216T220604Z
LAST-MODIFIED:20251216T220604Z
UID:10001974-1767522600-1767527100@anchorcovenant.org
SUMMARY:Service
DESCRIPTION:Join us every Sunday from 10:30-11:45 for our service online or in person at Anchor Covenant Church.
URL:https://anchorcovenant.org/event/service/2026-01-04/
LOCATION:Anchor Covenant Church\, 1229 Park Row\, Lake Geneva\, WI
ATTACH;FMTTYPE=image/png:https://anchorcovenant.org/wp-content/uploads/2025/12/Anchor.png
END:VEVENT
BEGIN:VEVENT
DTSTART;TZID=UTC:20260104T160000
DTEND;TZID=UTC:20260104T173000
DTSTAMP:20260423T234930
CREATED:20251228T202012Z
LAST-MODIFIED:20251228T202026Z
UID:10002241-1767542400-1767547800@anchorcovenant.org
SUMMARY:Buoy68 Board Game and Cereal Night
DESCRIPTION:Bring your favorite cereal to share.
URL:https://anchorcovenant.org/event/buoy-board-game-and-cereal-night/
LOCATION:Anchor Covenant Church\, 1229 Park Row\, Lake Geneva\, WI
ATTACH;FMTTYPE=image/png:https://anchorcovenant.org/wp-content/uploads/2025/12/Screenshot-2025-12-26-at-9.57.30-PM.png
END:VEVENT
BEGIN:VEVENT
DTSTART;TZID=UTC:20260104T160000
DTEND;TZID=UTC:20260104T180000
DTSTAMP:20260423T234930
CREATED:20250826T180922Z
LAST-MODIFIED:20260325T134226Z
UID:10002585-1767542400-1767549600@anchorcovenant.org
SUMMARY:Buoy 68
DESCRIPTION:All Middle Schoolers welcome. \nJoin us for Buoy at Anchor Covenant Church every Sunday from 4-6pm.
URL:https://anchorcovenant.org/event/buoy-68/2026-01-04/
LOCATION:WI
ATTACH;FMTTYPE=image/png:https://anchorcovenant.org/wp-content/uploads/2025/08/Screenshot-2025-09-18-at-11.47.20-AM.png
END:VEVENT
BEGIN:VEVENT
DTSTART;TZID=UTC:20260104T173000
DTEND;TZID=UTC:20260104T190000
DTSTAMP:20260423T234930
CREATED:20251228T202125Z
LAST-MODIFIED:20251228T202553Z
UID:10002242-1767547800-1767553200@anchorcovenant.org
SUMMARY:BuoyHS Board Game and Cereal Night
DESCRIPTION:Bring your favorite cereal to share.
URL:https://anchorcovenant.org/event/buoyhs-board-game-and-cereal-night/
LOCATION:Anchor Covenant Church\, 1229 Park Row\, Lake Geneva\, WI
ATTACH;FMTTYPE=image/webp:https://anchorcovenant.org/wp-content/uploads/2025/12/Screenshot-2025-12-26-at-9.57.30-PM.webp
END:VEVENT
BEGIN:VEVENT
DTSTART;TZID=UTC:20260106T160000
DTEND;TZID=UTC:20260106T180000
DTSTAMP:20260423T234930
CREATED:20251216T221305Z
LAST-MODIFIED:20251216T221449Z
UID:10002233-1767715200-1767722400@anchorcovenant.org
SUMMARY:55+ BINGO Night
DESCRIPTION:Calling anyone aged 55+! Join us January 6th from 4-6pm for BINGO night. Bring a dish for the soup and salad potluck. Also if you would like to contribute\, you can bring a wrapped BINGO prize.
URL:https://anchorcovenant.org/event/55-bingo-night/
LOCATION:WI
ATTACH;FMTTYPE=image/png:https://anchorcovenant.org/wp-content/uploads/2025/12/unnamed-70.png
END:VEVENT
BEGIN:VEVENT
DTSTART;TZID=UTC:20260106T190000
DTEND;TZID=UTC:20260106T200000
DTSTAMP:20260423T234930
CREATED:20251208T222007Z
LAST-MODIFIED:20260415T122550Z
UID:10001172-1767726000-1767729600@anchorcovenant.org
SUMMARY:Men's Bible Study
DESCRIPTION:Join us every 1st and 3rd Tuesday at Anchor at 7:00pm.
URL:https://anchorcovenant.org/event/mens-bible-study-2/2026-01-06/
LOCATION:Anchor Covenant Church\, 1229 Park Row\, Lake Geneva\, WI
ATTACH;FMTTYPE=image/webp:https://anchorcovenant.org/wp-content/uploads/2025/10/unnamed-92.webp
END:VEVENT
BEGIN:VEVENT
DTSTART;TZID=UTC:20260107T070000
DTEND;TZID=UTC:20260107T080000
DTSTAMP:20260423T234930
CREATED:20250731T124751Z
LAST-MODIFIED:20251216T215002Z
UID:10000282-1767769200-1767772800@anchorcovenant.org
SUMMARY:Men's Coffee
DESCRIPTION:Join us for Wednesday Men’s Coffee at 7:00am at Anchor Covenant Church. \nContact Pete for details: pjheintzelman@gmail.com
URL:https://anchorcovenant.org/event/mens-coffee-5/2026-01-07/
LOCATION:Anchor Covenant Church\, 1229 Park Row\, Lake Geneva\, WI
ATTACH;FMTTYPE=image/jpeg:https://anchorcovenant.org/wp-content/uploads/2025/07/unnamed-1.jpg
END:VEVENT
BEGIN:VEVENT
DTSTART;TZID=UTC:20260107T190000
DTEND;TZID=UTC:20260107T200000
DTSTAMP:20260423T234930
CREATED:20250826T180335Z
LAST-MODIFIED:20251210T135423Z
UID:10001235-1767812400-1767816000@anchorcovenant.org
SUMMARY:Young Adults Bible Study
DESCRIPTION:Join us at 7:00pm at Anchor lower level for the Young Adults Bible Study.
URL:https://anchorcovenant.org/event/young-adults-bible-study/2026-01-07/
LOCATION:Anchor Covenant Church\, 1229 Park Row\, Lake Geneva\, WI
ATTACH;FMTTYPE=image/png:https://anchorcovenant.org/wp-content/uploads/2025/08/unnamed-43.png
END:VEVENT
BEGIN:VEVENT
DTSTART;TZID=UTC:20260108T055900
DTEND;TZID=UTC:20260108T070000
DTSTAMP:20260423T234930
CREATED:20260107T122054Z
LAST-MODIFIED:20260406T172921Z
UID:10002587-1767851940-1767855600@anchorcovenant.org
SUMMARY:Buoy Before School Bible Study
DESCRIPTION:All Buoy students are welcome to join us Thursday mornings from 5:59-7:00 for a before school Bible study. Hope to see you there!
URL:https://anchorcovenant.org/event/buoy-before-school-bible-study/2026-01-08/
LOCATION:Buoy Room
ATTACH;FMTTYPE=image/jpeg:https://anchorcovenant.org/wp-content/uploads/2026/01/IMG_7383.jpeg
END:VEVENT
BEGIN:VEVENT
DTSTART;TZID=UTC:20260108T130000
DTEND;TZID=UTC:20260108T140000
DTSTAMP:20260423T234930
CREATED:20260101T204759Z
LAST-MODIFIED:20260304T214458Z
UID:10000542-1767877200-1767880800@anchorcovenant.org
SUMMARY:She Reads Truth
DESCRIPTION:Join us for the She Reads Truth Bible Study every Thursday at 1:00pm at Anchor.
URL:https://anchorcovenant.org/event/she-reads-truth-2/2026-01-08/
LOCATION:Anchor Covenant Church\, 1229 Park Row\, Lake Geneva\, WI
ATTACH;FMTTYPE=image/webp:https://anchorcovenant.org/wp-content/uploads/2026/02/ANCHOR-PRAYER-TEAM.webp
END:VEVENT
BEGIN:VEVENT
DTSTART;TZID=UTC:20260110T080000
DTEND;TZID=UTC:20260110T090000
DTSTAMP:20260423T234930
CREATED:20260101T204415Z
LAST-MODIFIED:20260101T204416Z
UID:10001496-1768032000-1768035600@anchorcovenant.org
SUMMARY:Hour of Prayer
DESCRIPTION:Please join us for an hour of prayer each week at Anchor hosted by El Buen Pastor\, every Saturday at 8:00am
URL:https://anchorcovenant.org/event/hour-of-prayer-2/2026-01-10/
LOCATION:Anchor Covenant Church\, 1229 Park Row\, Lake Geneva\, WI
ATTACH;FMTTYPE=image/jpeg:https://anchorcovenant.org/wp-content/uploads/2025/08/Brown-Natural-Bible-Verses-Instagram-Post-1920-x-1080-px.jpeg
END:VEVENT
BEGIN:VEVENT
DTSTART;TZID=UTC:20260110T090000
DTEND;TZID=UTC:20260110T103000
DTSTAMP:20260423T234930
CREATED:20260106T200023Z
LAST-MODIFIED:20260106T200023Z
UID:10002323-1768035600-1768041000@anchorcovenant.org
SUMMARY:Baby Shower for Grace Oliver
DESCRIPTION:Calling all Anchor ladies! Come join us Saturday\, January 10 at 9:00am for a baby shower for Grace Oliver. Grace is registered on Amazon. Please RSVP to Laura Gowan at 479-330-0908.
URL:https://anchorcovenant.org/event/baby-shower-for-grace-oliver/
LOCATION:Anchor Covenant Church\, 1229 Park Row\, Lake Geneva\, WI
ATTACH;FMTTYPE=image/png:https://anchorcovenant.org/wp-content/uploads/2026/01/unnamed-74.png
END:VEVENT
BEGIN:VEVENT
DTSTART;TZID=UTC:20260111T093000
DTEND;TZID=UTC:20260111T101500
DTSTAMP:20260423T234930
CREATED:20251210T134542Z
LAST-MODIFIED:20251210T134542Z
UID:10001753-1768123800-1768126500@anchorcovenant.org
SUMMARY:Grow
DESCRIPTION:Join us for Grow every Sunday from 9:30-10:15.
URL:https://anchorcovenant.org/event/grow/2026-01-11/
LOCATION:WI
ATTACH;FMTTYPE=image/jpeg:https://anchorcovenant.org/wp-content/uploads/2025/12/unnamed-9.jpg
END:VEVENT
BEGIN:VEVENT
DTSTART;TZID=UTC:20260111T103000
DTEND;TZID=UTC:20260111T114500
DTSTAMP:20260423T234930
CREATED:20251216T220604Z
LAST-MODIFIED:20251216T220604Z
UID:10001975-1768127400-1768131900@anchorcovenant.org
SUMMARY:Service
DESCRIPTION:Join us every Sunday from 10:30-11:45 for our service online or in person at Anchor Covenant Church.
URL:https://anchorcovenant.org/event/service/2026-01-11/
LOCATION:Anchor Covenant Church\, 1229 Park Row\, Lake Geneva\, WI
ATTACH;FMTTYPE=image/png:https://anchorcovenant.org/wp-content/uploads/2025/12/Anchor.png
END:VEVENT
BEGIN:VEVENT
DTSTART;TZID=UTC:20260111T120000
DTEND;TZID=UTC:20260111T130000
DTSTAMP:20260423T234930
CREATED:20260106T200917Z
LAST-MODIFIED:20260106T200943Z
UID:10002583-1768132800-1768136400@anchorcovenant.org
SUMMARY:Buoy HS Mission Trip Parent/Student Meeting
DESCRIPTION:All students 8th Grade to High School\, Please join us Sunday\, January 11 from 12:00-1:00pm for an informational meeting about the Covenant Mountain Missions Bible Camp mission trip this summer.
URL:https://anchorcovenant.org/event/buoy-hs-parent-student-meeting/
LOCATION:Buoy Room
ATTACH;FMTTYPE=image/jpeg:https://anchorcovenant.org/wp-content/uploads/2026/01/unnamed-17.jpg
END:VEVENT
BEGIN:VEVENT
DTSTART;TZID=UTC:20260111T150000
DTEND;TZID=UTC:20260111T160000
DTSTAMP:20260423T234930
CREATED:20250903T115156Z
LAST-MODIFIED:20260408T142155Z
UID:10002324-1768143600-1768147200@anchorcovenant.org
SUMMARY:Confirmation
DESCRIPTION:Join Pastor Melissa for Confirmation every Sunday at 3:00pm.
URL:https://anchorcovenant.org/event/confirmation-9/2026-01-11/
LOCATION:Anchor Covenant Church\, 1229 Park Row\, Lake Geneva\, WI
ATTACH;FMTTYPE=image/webp:https://anchorcovenant.org/wp-content/uploads/2025/04/confirmation-scaled.webp
END:VEVENT
BEGIN:VEVENT
DTSTART;TZID=UTC:20260111T160000
DTEND;TZID=UTC:20260111T180000
DTSTAMP:20260423T234930
CREATED:20250826T180922Z
LAST-MODIFIED:20260325T134226Z
UID:10002586-1768147200-1768154400@anchorcovenant.org
SUMMARY:Buoy 68
DESCRIPTION:All Middle Schoolers welcome. \nJoin us for Buoy at Anchor Covenant Church every Sunday from 4-6pm.
URL:https://anchorcovenant.org/event/buoy-68/2026-01-11/
LOCATION:WI
ATTACH;FMTTYPE=image/png:https://anchorcovenant.org/wp-content/uploads/2025/08/Screenshot-2025-09-18-at-11.47.20-AM.png
END:VEVENT
BEGIN:VEVENT
DTSTART;TZID=UTC:20260111T160000
DTEND;TZID=UTC:20260111T180000
DTSTAMP:20260423T234930
CREATED:20260106T201531Z
LAST-MODIFIED:20260106T201531Z
UID:10002584-1768147200-1768154400@anchorcovenant.org
SUMMARY:Compass Event
DESCRIPTION:Calling all Compass students! Join us Sunday\, January 11 from 4:00-6:00pm for out first event of the year.
URL:https://anchorcovenant.org/event/compass-event/
LOCATION:Anchor Covenant Church\, 1229 Park Row\, Lake Geneva\, WI
ATTACH;FMTTYPE=image/jpeg:https://anchorcovenant.org/wp-content/uploads/2026/01/January-Compass-Event-scaled.jpg
END:VEVENT
BEGIN:VEVENT
DTSTART;TZID=UTC:20260111T170000
DTEND;TZID=UTC:20260111T190000
DTSTAMP:20260423T234930
CREATED:20250826T181055Z
LAST-MODIFIED:20260325T134306Z
UID:10001826-1768150800-1768158000@anchorcovenant.org
SUMMARY:Buoy HS
DESCRIPTION:All High Schoolers welcome. \nJoin us for Buoy at Anchor Covenant Church every Sunday from 5-7 pm.
URL:https://anchorcovenant.org/event/buoy-hs/2026-01-11/
LOCATION:WI
ATTACH;FMTTYPE=image/webp:https://anchorcovenant.org/wp-content/uploads/2025/08/Screenshot-2025-09-18-at-11.47.20-AM.webp
END:VEVENT
BEGIN:VEVENT
DTSTART;TZID=UTC:20260113T133000
DTEND;TZID=UTC:20260113T150000
DTSTAMP:20260423T234930
CREATED:20250813T215409Z
LAST-MODIFIED:20260402T125951Z
UID:10002254-1768311000-1768316400@anchorcovenant.org
SUMMARY:Tuesday Ladies Bible Study
DESCRIPTION:The Sermon on the Mount\, The Beatitudes \nBegins January 13th \n1:30-3:00pm \nContact Brenda Follensbee with questions at bfollensbee8@gmail.com
URL:https://anchorcovenant.org/event/tuesday-ladies-bible-study/2026-01-13/
LOCATION:Anchor Covenant Church\, 1229 Park Row\, Lake Geneva\, WI
ATTACH;FMTTYPE=image/png:https://anchorcovenant.org/wp-content/uploads/2025/08/unnamed-2026-03-25T084456.510.png
END:VEVENT
END:VCALENDAR