BEGIN:VCALENDAR
VERSION:2.0
PRODID:-//Anchor Covenant Church - ECPv6.15.20//NONSGML v1.0//EN
CALSCALE:GREGORIAN
METHOD:PUBLISH
X-WR-CALNAME:Anchor Covenant Church
X-ORIGINAL-URL:https://anchorcovenant.org
X-WR-CALDESC:Events for Anchor Covenant Church
REFRESH-INTERVAL;VALUE=DURATION:PT1H
X-Robots-Tag:noindex
X-PUBLISHED-TTL:PT1H
BEGIN:VTIMEZONE
TZID:UTC
BEGIN:STANDARD
TZOFFSETFROM:+0000
TZOFFSETTO:+0000
TZNAME:UTC
DTSTART:20250101T000000
END:STANDARD
END:VTIMEZONE
BEGIN:VEVENT
DTSTART;TZID=UTC:20261011T093000
DTEND;TZID=UTC:20261011T101500
DTSTAMP:20260424T005755
CREATED:20260325T133604Z
LAST-MODIFIED:20260325T133742Z
UID:10001792-1791711000-1791713700@anchorcovenant.org
SUMMARY:Grow
DESCRIPTION:Join us for Grow every Sunday from 9:30-10:15.
URL:https://anchorcovenant.org/event/grow-2/2026-10-11/
LOCATION:WI
ATTACH;FMTTYPE=image/jpeg:https://anchorcovenant.org/wp-content/uploads/2025/12/unnamed-9.jpg
END:VEVENT
BEGIN:VEVENT
DTSTART;TZID=UTC:20261011T103000
DTEND;TZID=UTC:20261011T114500
DTSTAMP:20260424T005755
CREATED:20251216T220604Z
LAST-MODIFIED:20251216T220604Z
UID:10002014-1791714600-1791719100@anchorcovenant.org
SUMMARY:Service
DESCRIPTION:Join us every Sunday from 10:30-11:45 for our service online or in person at Anchor Covenant Church.
URL:https://anchorcovenant.org/event/service/2026-10-11/
LOCATION:Anchor Covenant Church\, 1229 Park Row\, Lake Geneva\, WI
ATTACH;FMTTYPE=image/png:https://anchorcovenant.org/wp-content/uploads/2025/12/Anchor.png
END:VEVENT
BEGIN:VEVENT
DTSTART;TZID=UTC:20261011T160000
DTEND;TZID=UTC:20261011T180000
DTSTAMP:20260424T005755
CREATED:20250826T180922Z
LAST-MODIFIED:20260325T134226Z
UID:10001936-1791734400-1791741600@anchorcovenant.org
SUMMARY:Buoy 68
DESCRIPTION:All Middle Schoolers welcome. \nJoin us for Buoy at Anchor Covenant Church every Sunday from 4-6pm.
URL:https://anchorcovenant.org/event/buoy-68/2026-10-11/
LOCATION:WI
ATTACH;FMTTYPE=image/png:https://anchorcovenant.org/wp-content/uploads/2025/08/Screenshot-2025-09-18-at-11.47.20-AM.png
END:VEVENT
BEGIN:VEVENT
DTSTART;TZID=UTC:20261011T170000
DTEND;TZID=UTC:20261011T190000
DTSTAMP:20260424T005755
CREATED:20250826T181055Z
LAST-MODIFIED:20260325T134306Z
UID:10001865-1791738000-1791745200@anchorcovenant.org
SUMMARY:Buoy HS
DESCRIPTION:All High Schoolers welcome. \nJoin us for Buoy at Anchor Covenant Church every Sunday from 5-7 pm.
URL:https://anchorcovenant.org/event/buoy-hs/2026-10-11/
LOCATION:WI
ATTACH;FMTTYPE=image/webp:https://anchorcovenant.org/wp-content/uploads/2025/08/Screenshot-2025-09-18-at-11.47.20-AM.webp
END:VEVENT
END:VCALENDAR