BEGIN:VCALENDAR
VERSION:2.0
PRODID:-//Anchor Covenant Church - ECPv6.15.20//NONSGML v1.0//EN
CALSCALE:GREGORIAN
METHOD:PUBLISH
X-ORIGINAL-URL:https://anchorcovenant.org
X-WR-CALDESC:Events for Anchor Covenant Church
REFRESH-INTERVAL;VALUE=DURATION:PT1H
X-Robots-Tag:noindex
X-PUBLISHED-TTL:PT1H
BEGIN:VTIMEZONE
TZID:UTC
BEGIN:STANDARD
TZOFFSETFROM:+0000
TZOFFSETTO:+0000
TZNAME:UTC
DTSTART:20250101T000000
END:STANDARD
END:VTIMEZONE
BEGIN:VEVENT
DTSTART;TZID=UTC:20260405T103000
DTEND;TZID=UTC:20260405T113000
DTSTAMP:20260423T162947
CREATED:20260304T214223Z
LAST-MODIFIED:20260304T214223Z
UID:10002884-1775385000-1775388600@anchorcovenant.org
SUMMARY:Lantern Processional
DESCRIPTION:Join us for a lantern processional. All kids who are interested in being part of the processional please join us in the prayer room at 10:15am.
URL:https://anchorcovenant.org/event/lantern-processional/
LOCATION:Anchor Covenant Church\, 1229 Park Row\, Lake Geneva\, WI
ATTACH;FMTTYPE=image/png:https://anchorcovenant.org/wp-content/uploads/2026/03/unnamed-98.png
END:VEVENT
BEGIN:VEVENT
DTSTART;TZID=UTC:20260405T103000
DTEND;TZID=UTC:20260405T114500
DTSTAMP:20260423T162947
CREATED:20251216T220604Z
LAST-MODIFIED:20251216T220604Z
UID:10001987-1775385000-1775389500@anchorcovenant.org
SUMMARY:Service
DESCRIPTION:Join us every Sunday from 10:30-11:45 for our service online or in person at Anchor Covenant Church.
URL:https://anchorcovenant.org/event/service/2026-04-05/
LOCATION:Anchor Covenant Church\, 1229 Park Row\, Lake Geneva\, WI
ATTACH;FMTTYPE=image/png:https://anchorcovenant.org/wp-content/uploads/2025/12/Anchor.png
END:VEVENT
BEGIN:VEVENT
DTSTART;TZID=UTC:20260405T150000
DTEND;TZID=UTC:20260405T160000
DTSTAMP:20260423T162947
CREATED:20250903T115156Z
LAST-MODIFIED:20260408T142155Z
UID:10002333-1775401200-1775404800@anchorcovenant.org
SUMMARY:Confirmation
DESCRIPTION:Join Pastor Melissa for Confirmation every Sunday at 3:00pm.
URL:https://anchorcovenant.org/event/confirmation-9/2026-04-05/
LOCATION:Anchor Covenant Church\, 1229 Park Row\, Lake Geneva\, WI
ATTACH;FMTTYPE=image/webp:https://anchorcovenant.org/wp-content/uploads/2025/04/confirmation-scaled.webp
END:VEVENT
BEGIN:VEVENT
DTSTART;TZID=UTC:20260405T160000
DTEND;TZID=UTC:20260405T190000
DTSTAMP:20260423T162947
CREATED:20260325T134428Z
LAST-MODIFIED:20260325T134428Z
UID:10002906-1775404800-1775415600@anchorcovenant.org
SUMMARY:No Buoy
DESCRIPTION:No Buoy today because of Easter. He has Risen!
URL:https://anchorcovenant.org/event/no-buoy-4/
LOCATION:Anchor Covenant Church\, 1229 Park Row\, Lake Geneva\, WI
ATTACH;FMTTYPE=image/png:https://anchorcovenant.org/wp-content/uploads/2026/03/unnamed-2026-03-25T084417.454.png
END:VEVENT
END:VCALENDAR