BEGIN:VCALENDAR
VERSION:2.0
PRODID:-//Anchor Covenant Church - ECPv6.15.20//NONSGML v1.0//EN
CALSCALE:GREGORIAN
METHOD:PUBLISH
X-WR-CALNAME:Anchor Covenant Church
X-ORIGINAL-URL:https://anchorcovenant.org
X-WR-CALDESC:Events for Anchor Covenant Church
REFRESH-INTERVAL;VALUE=DURATION:PT1H
X-Robots-Tag:noindex
X-PUBLISHED-TTL:PT1H
BEGIN:VTIMEZONE
TZID:UTC
BEGIN:STANDARD
TZOFFSETFROM:+0000
TZOFFSETTO:+0000
TZNAME:UTC
DTSTART:20250101T000000
END:STANDARD
END:VTIMEZONE
BEGIN:VEVENT
DTSTART;TZID=UTC:20260330T170000
DTEND;TZID=UTC:20260330T210000
DTSTAMP:20260423T162651
CREATED:20260311T122912Z
LAST-MODIFIED:20260311T122912Z
UID:10002892-1774890000-1774904400@anchorcovenant.org
SUMMARY:Clothing Exchange Spring 2026
DESCRIPTION:Calling all Ladies! Need a girl’s night out and clothes for your family? Join us for the 2026 Spring Clothing Exchange at Lake Lawn Resort.
URL:https://anchorcovenant.org/event/clothing-exchange-spring-2026/
LOCATION:Lake Lake Resort\, 2400 E Geneva St\, Delavan\, WI\, 53115\, United States
ATTACH;FMTTYPE=image/png:https://anchorcovenant.org/wp-content/uploads/2026/03/unnamed-2026-03-11T072618.711.png
END:VEVENT
END:VCALENDAR