BEGIN:VCALENDAR
VERSION:2.0
PRODID:-//Anchor Covenant Church - ECPv6.15.20//NONSGML v1.0//EN
CALSCALE:GREGORIAN
METHOD:PUBLISH
X-ORIGINAL-URL:https://anchorcovenant.org
X-WR-CALDESC:Events for Anchor Covenant Church
REFRESH-INTERVAL;VALUE=DURATION:PT1H
X-Robots-Tag:noindex
X-PUBLISHED-TTL:PT1H
BEGIN:VTIMEZONE
TZID:UTC
BEGIN:STANDARD
TZOFFSETFROM:+0000
TZOFFSETTO:+0000
TZNAME:UTC
DTSTART:20250101T000000
END:STANDARD
END:VTIMEZONE
BEGIN:VEVENT
DTSTART;TZID=UTC:20260329T093000
DTEND;TZID=UTC:20260329T120000
DTSTAMP:20260423T162944
CREATED:20260304T213506Z
LAST-MODIFIED:20260304T213506Z
UID:10002881-1774776600-1774785600@anchorcovenant.org
SUMMARY:Anchor Covenant Food Drive
DESCRIPTION:The serve team would like to announce the third annual Easter Food Drive. The food collection will benefit both the Lake Geneva Food Pantry and Anchor’s Little Food Pantries.
URL:https://anchorcovenant.org/event/anchor-covenant-food-drive/2026-03-29/
LOCATION:Anchor Covenant Church\, 1229 Park Row\, Lake Geneva\, WI
ATTACH;FMTTYPE=image/png:https://anchorcovenant.org/wp-content/uploads/2026/03/unnamed-95.png
END:VEVENT
BEGIN:VEVENT
DTSTART;TZID=UTC:20260329T103000
DTEND;TZID=UTC:20260329T113000
DTSTAMP:20260423T162944
CREATED:20260304T214051Z
LAST-MODIFIED:20260304T214051Z
UID:10002883-1774780200-1774783800@anchorcovenant.org
SUMMARY:Palm Processional
DESCRIPTION:Join us for a Palm Sunday processional. All kids who are interested in being part of the processional please join us in the prayer room at 10:15am.
URL:https://anchorcovenant.org/event/palm-processional/
LOCATION:Anchor Covenant Church\, 1229 Park Row\, Lake Geneva\, WI
ATTACH;FMTTYPE=image/png:https://anchorcovenant.org/wp-content/uploads/2026/03/unnamed-97.png
END:VEVENT
BEGIN:VEVENT
DTSTART;TZID=UTC:20260329T103000
DTEND;TZID=UTC:20260329T114500
DTSTAMP:20260423T162944
CREATED:20251216T220604Z
LAST-MODIFIED:20251216T220604Z
UID:10001986-1774780200-1774784700@anchorcovenant.org
SUMMARY:Service
DESCRIPTION:Join us every Sunday from 10:30-11:45 for our service online or in person at Anchor Covenant Church.
URL:https://anchorcovenant.org/event/service/2026-03-29/
LOCATION:Anchor Covenant Church\, 1229 Park Row\, Lake Geneva\, WI
ATTACH;FMTTYPE=image/png:https://anchorcovenant.org/wp-content/uploads/2025/12/Anchor.png
END:VEVENT
BEGIN:VEVENT
DTSTART;TZID=UTC:20260329T150000
DTEND;TZID=UTC:20260329T160000
DTSTAMP:20260423T162944
CREATED:20250903T115156Z
LAST-MODIFIED:20260408T142155Z
UID:10002332-1774796400-1774800000@anchorcovenant.org
SUMMARY:Confirmation
DESCRIPTION:Join Pastor Melissa for Confirmation every Sunday at 3:00pm.
URL:https://anchorcovenant.org/event/confirmation-9/2026-03-29/
LOCATION:Anchor Covenant Church\, 1229 Park Row\, Lake Geneva\, WI
ATTACH;FMTTYPE=image/webp:https://anchorcovenant.org/wp-content/uploads/2025/04/confirmation-scaled.webp
END:VEVENT
BEGIN:VEVENT
DTSTART;TZID=UTC:20260329T160000
DTEND;TZID=UTC:20260329T180000
DTSTAMP:20260423T162944
CREATED:20250826T180922Z
LAST-MODIFIED:20260325T134226Z
UID:10001908-1774800000-1774807200@anchorcovenant.org
SUMMARY:Buoy 68
DESCRIPTION:All Middle Schoolers welcome. \nJoin us for Buoy at Anchor Covenant Church every Sunday from 4-6pm.
URL:https://anchorcovenant.org/event/buoy-68/2026-03-29/
LOCATION:WI
ATTACH;FMTTYPE=image/png:https://anchorcovenant.org/wp-content/uploads/2025/08/Screenshot-2025-09-18-at-11.47.20-AM.png
END:VEVENT
BEGIN:VEVENT
DTSTART;TZID=UTC:20260329T170000
DTEND;TZID=UTC:20260329T190000
DTSTAMP:20260423T162944
CREATED:20250826T181055Z
LAST-MODIFIED:20260325T134306Z
UID:10001837-1774803600-1774810800@anchorcovenant.org
SUMMARY:Buoy HS
DESCRIPTION:All High Schoolers welcome. \nJoin us for Buoy at Anchor Covenant Church every Sunday from 5-7 pm.
URL:https://anchorcovenant.org/event/buoy-hs/2026-03-29/
LOCATION:WI
ATTACH;FMTTYPE=image/webp:https://anchorcovenant.org/wp-content/uploads/2025/08/Screenshot-2025-09-18-at-11.47.20-AM.webp
END:VEVENT
END:VCALENDAR