BEGIN:VCALENDAR
VERSION:2.0
PRODID:-//Anchor Covenant Church - ECPv6.15.20//NONSGML v1.0//EN
CALSCALE:GREGORIAN
METHOD:PUBLISH
X-ORIGINAL-URL:https://anchorcovenant.org
X-WR-CALDESC:Events for Anchor Covenant Church
REFRESH-INTERVAL;VALUE=DURATION:PT1H
X-Robots-Tag:noindex
X-PUBLISHED-TTL:PT1H
BEGIN:VTIMEZONE
TZID:UTC
BEGIN:STANDARD
TZOFFSETFROM:+0000
TZOFFSETTO:+0000
TZNAME:UTC
DTSTART:20250101T000000
END:STANDARD
END:VTIMEZONE
BEGIN:VEVENT
DTSTART;TZID=UTC:20260327T090000
DTEND;TZID=UTC:20260327T150000
DTSTAMP:20260423T180425
CREATED:20260325T135109Z
LAST-MODIFIED:20260325T135109Z
UID:10002916-1774602000-1774623600@anchorcovenant.org
SUMMARY:Rummage Sale
DESCRIPTION:Chapel on the Hill Community Church invites you to join them for their rummage sale on Friday\, March 27 and Saturday\, March 28 from 9am-3pm.
URL:https://anchorcovenant.org/event/rummage-sale/2026-03-27/
LOCATION:Chapel on the Hill Arish Hall\, N2482 Cisco Road\, Lake Geneva\, United States
ATTACH;FMTTYPE=image/png:https://anchorcovenant.org/wp-content/uploads/2026/03/unnamed-2026-03-25T084730.342.png
END:VEVENT
END:VCALENDAR