BEGIN:VCALENDAR
VERSION:2.0
PRODID:-//Anchor Covenant Church - ECPv6.15.20//NONSGML v1.0//EN
CALSCALE:GREGORIAN
METHOD:PUBLISH
X-ORIGINAL-URL:https://anchorcovenant.org
X-WR-CALDESC:Events for Anchor Covenant Church
REFRESH-INTERVAL;VALUE=DURATION:PT1H
X-Robots-Tag:noindex
X-PUBLISHED-TTL:PT1H
BEGIN:VTIMEZONE
TZID:UTC
BEGIN:STANDARD
TZOFFSETFROM:+0000
TZOFFSETTO:+0000
TZNAME:UTC
DTSTART:20250101T000000
END:STANDARD
END:VTIMEZONE
BEGIN:VEVENT
DTSTART;TZID=UTC:20260208T093000
DTEND;TZID=UTC:20260208T101500
DTSTAMP:20260423T192854
CREATED:20251210T134542Z
LAST-MODIFIED:20251210T134542Z
UID:10001757-1770543000-1770545700@anchorcovenant.org
SUMMARY:Grow
DESCRIPTION:Join us for Grow every Sunday from 9:30-10:15.
URL:https://anchorcovenant.org/event/grow/2026-02-08/
LOCATION:WI
ATTACH;FMTTYPE=image/jpeg:https://anchorcovenant.org/wp-content/uploads/2025/12/unnamed-9.jpg
END:VEVENT
BEGIN:VEVENT
DTSTART;TZID=UTC:20260208T103000
DTEND;TZID=UTC:20260208T114500
DTSTAMP:20260423T192854
CREATED:20251216T220604Z
LAST-MODIFIED:20251216T220604Z
UID:10001979-1770546600-1770551100@anchorcovenant.org
SUMMARY:Service
DESCRIPTION:Join us every Sunday from 10:30-11:45 for our service online or in person at Anchor Covenant Church.
URL:https://anchorcovenant.org/event/service/2026-02-08/
LOCATION:Anchor Covenant Church\, 1229 Park Row\, Lake Geneva\, WI
ATTACH;FMTTYPE=image/png:https://anchorcovenant.org/wp-content/uploads/2025/12/Anchor.png
END:VEVENT
BEGIN:VEVENT
DTSTART;TZID=UTC:20260208T160000
DTEND;TZID=UTC:20260208T193000
DTSTAMP:20260423T192854
CREATED:20260101T203140Z
LAST-MODIFIED:20260101T203140Z
UID:10002243-1770566400-1770579000@anchorcovenant.org
SUMMARY:No Buoy
DESCRIPTION:No Buoy February 8 because of the Superbowl. Go enjoy your family and friends!
URL:https://anchorcovenant.org/event/no-buoy-2/
LOCATION:WI
ATTACH;FMTTYPE=image/jpeg:https://anchorcovenant.org/wp-content/uploads/2026/01/Screenshot-2025-12-29-at-10.12.24-PM.jpg
END:VEVENT
END:VCALENDAR