BEGIN:VCALENDAR
VERSION:2.0
PRODID:-//Anchor Covenant Church - ECPv6.15.20//NONSGML v1.0//EN
CALSCALE:GREGORIAN
METHOD:PUBLISH
X-ORIGINAL-URL:https://anchorcovenant.org
X-WR-CALDESC:Events for Anchor Covenant Church
REFRESH-INTERVAL;VALUE=DURATION:PT1H
X-Robots-Tag:noindex
X-PUBLISHED-TTL:PT1H
BEGIN:VTIMEZONE
TZID:UTC
BEGIN:STANDARD
TZOFFSETFROM:+0000
TZOFFSETTO:+0000
TZNAME:UTC
DTSTART:20250101T000000
END:STANDARD
END:VTIMEZONE
BEGIN:VEVENT
DTSTART;TZID=UTC:20260203T133000
DTEND;TZID=UTC:20260203T150000
DTSTAMP:20260423T192929
CREATED:20250813T215409Z
LAST-MODIFIED:20260402T125951Z
UID:10002257-1770125400-1770130800@anchorcovenant.org
SUMMARY:Tuesday Ladies Bible Study
DESCRIPTION:The Sermon on the Mount\, The Beatitudes \nBegins January 13th \n1:30-3:00pm \nContact Brenda Follensbee with questions at bfollensbee8@gmail.com
URL:https://anchorcovenant.org/event/tuesday-ladies-bible-study/2026-02-03/
LOCATION:Anchor Covenant Church\, 1229 Park Row\, Lake Geneva\, WI
ATTACH;FMTTYPE=image/png:https://anchorcovenant.org/wp-content/uploads/2025/08/unnamed-2026-03-25T084456.510.png
END:VEVENT
BEGIN:VEVENT
DTSTART;TZID=UTC:20260203T190000
DTEND;TZID=UTC:20260203T200000
DTSTAMP:20260423T192929
CREATED:20251208T222007Z
LAST-MODIFIED:20260415T122550Z
UID:10001173-1770145200-1770148800@anchorcovenant.org
SUMMARY:Men's Bible Study
DESCRIPTION:Join us every 1st and 3rd Tuesday at Anchor at 7:00pm.
URL:https://anchorcovenant.org/event/mens-bible-study-2/2026-02-03/
LOCATION:Anchor Covenant Church\, 1229 Park Row\, Lake Geneva\, WI
ATTACH;FMTTYPE=image/webp:https://anchorcovenant.org/wp-content/uploads/2025/10/unnamed-92.webp
END:VEVENT
BEGIN:VEVENT
DTSTART;TZID=UTC:20260203T190000
DTEND;TZID=UTC:20260203T200000
DTSTAMP:20260423T192929
CREATED:20260203T173251Z
LAST-MODIFIED:20260203T173251Z
UID:10002866-1770145200-1770148800@anchorcovenant.org
SUMMARY:Monthly Intentions
DESCRIPTION:Join us February 3rd at 7:00pm at Anchor.
URL:https://anchorcovenant.org/event/monthly-intentions-8/
LOCATION:Anchor Covenant Church\, 1229 Park Row\, Lake Geneva\, WI
ATTACH;FMTTYPE=image/png:https://anchorcovenant.org/wp-content/uploads/2026/02/unnamed-88.png
END:VEVENT
END:VCALENDAR