BEGIN:VCALENDAR
VERSION:2.0
PRODID:-//Anchor Covenant Church - ECPv6.15.20//NONSGML v1.0//EN
CALSCALE:GREGORIAN
METHOD:PUBLISH
X-ORIGINAL-URL:https://anchorcovenant.org
X-WR-CALDESC:Events for Anchor Covenant Church
REFRESH-INTERVAL;VALUE=DURATION:PT1H
X-Robots-Tag:noindex
X-PUBLISHED-TTL:PT1H
BEGIN:VTIMEZONE
TZID:UTC
BEGIN:STANDARD
TZOFFSETFROM:+0000
TZOFFSETTO:+0000
TZNAME:UTC
DTSTART:20250101T000000
END:STANDARD
END:VTIMEZONE
BEGIN:VEVENT
DTSTART;TZID=UTC:20260116T120000
DTEND;TZID=UTC:20260118T190000
DTSTAMP:20260423T205229
CREATED:20251119T132429Z
LAST-MODIFIED:20251119T132429Z
UID:10000275-1768564800-1768762800@anchorcovenant.org
SUMMARY:Buoy HS Winter Camp
DESCRIPTION:Calling all BuoyHS students! Save the date: January 16-18 for winter camp at Covenant Point!
URL:https://anchorcovenant.org/event/buoy-hs-winter-camp/
LOCATION:Covenant Point\, 358 Hagerman Lake Rd\, Iron River\, MI\, 49935\, United States
ATTACH;FMTTYPE=image/png:https://anchorcovenant.org/wp-content/uploads/2025/11/winter.png
END:VEVENT
BEGIN:VEVENT
DTSTART;TZID=UTC:20260118T093000
DTEND;TZID=UTC:20260118T101500
DTSTAMP:20260423T205229
CREATED:20251210T134542Z
LAST-MODIFIED:20251210T134542Z
UID:10001754-1768728600-1768731300@anchorcovenant.org
SUMMARY:Grow
DESCRIPTION:Join us for Grow every Sunday from 9:30-10:15.
URL:https://anchorcovenant.org/event/grow/2026-01-18/
LOCATION:WI
ATTACH;FMTTYPE=image/jpeg:https://anchorcovenant.org/wp-content/uploads/2025/12/unnamed-9.jpg
END:VEVENT
BEGIN:VEVENT
DTSTART;TZID=UTC:20260118T103000
DTEND;TZID=UTC:20260118T114500
DTSTAMP:20260423T205229
CREATED:20251216T220604Z
LAST-MODIFIED:20251216T220604Z
UID:10001976-1768732200-1768736700@anchorcovenant.org
SUMMARY:Service
DESCRIPTION:Join us every Sunday from 10:30-11:45 for our service online or in person at Anchor Covenant Church.
URL:https://anchorcovenant.org/event/service/2026-01-18/
LOCATION:Anchor Covenant Church\, 1229 Park Row\, Lake Geneva\, WI
ATTACH;FMTTYPE=image/png:https://anchorcovenant.org/wp-content/uploads/2025/12/Anchor.png
END:VEVENT
BEGIN:VEVENT
DTSTART;TZID=UTC:20260118T160000
DTEND;TZID=UTC:20260118T173000
DTSTAMP:20260423T205229
CREATED:20260106T200637Z
LAST-MODIFIED:20260106T200637Z
UID:10002582-1768752000-1768757400@anchorcovenant.org
SUMMARY:Kids Family Event
DESCRIPTION:Calling all families with kids! Please join us Sunday\, January 18 from 4:00-5:30pm for a fun evening.
URL:https://anchorcovenant.org/event/kids-family-event-2/
LOCATION:Anchor Covenant Church\, 1229 Park Row\, Lake Geneva\, WI
ATTACH;FMTTYPE=image/png:https://anchorcovenant.org/wp-content/uploads/2026/01/unnamed-76.png
END:VEVENT
BEGIN:VEVENT
DTSTART;TZID=UTC:20260118T160000
DTEND;TZID=UTC:20260118T193000
DTSTAMP:20260423T205229
CREATED:20260101T203305Z
LAST-MODIFIED:20260101T203344Z
UID:10002244-1768752000-1768764600@anchorcovenant.org
SUMMARY:No Buoy
DESCRIPTION:We will not be having Buoy January 18 as the leaders will be returning home from BuoyHS Winter Camp.
URL:https://anchorcovenant.org/event/no-buoy-3/
LOCATION:WI
ATTACH;FMTTYPE=image/jpeg:https://anchorcovenant.org/wp-content/uploads/2026/01/PNG-image-1.jpg
END:VEVENT
END:VCALENDAR