BEGIN:VCALENDAR
VERSION:2.0
PRODID:-//Anchor Covenant Church - ECPv6.15.20//NONSGML v1.0//EN
CALSCALE:GREGORIAN
METHOD:PUBLISH
X-WR-CALNAME:Anchor Covenant Church
X-ORIGINAL-URL:https://anchorcovenant.org
X-WR-CALDESC:Events for Anchor Covenant Church
REFRESH-INTERVAL;VALUE=DURATION:PT1H
X-Robots-Tag:noindex
X-PUBLISHED-TTL:PT1H
BEGIN:VTIMEZONE
TZID:UTC
BEGIN:STANDARD
TZOFFSETFROM:+0000
TZOFFSETTO:+0000
TZNAME:UTC
DTSTART:20240101T000000
END:STANDARD
END:VTIMEZONE
BEGIN:VEVENT
DTSTART;TZID=UTC:20251223T190000
DTEND;TZID=UTC:20251223T200000
DTSTAMP:20260423T222029
CREATED:20251217T145226Z
LAST-MODIFIED:20251217T145226Z
UID:10002235-1766516400-1766520000@anchorcovenant.org
SUMMARY:Deck the Halls with the Walls
DESCRIPTION:This gathering is deeply close to our hearts. Christmas Eve Eve is for those who already have plans on Christmas Eve but still long for a moment of holy pause—candles glowing\, voices lifted in Silent Night\, and the nearness of God. \nIt’s also for neighbors who may not yet be ready to walk through the doors of a church\, but would step into Horticultural Hall—a familiar\, welcoming space. And it’s our way of honoring relationships and gratitude. When our church experienced the fire last year\, the doors of the Hall were opened wide to us. This service is our gift back to the community\, a shared moment of light and hope.
URL:https://anchorcovenant.org/event/deck-the-halls-with-the-walls/
LOCATION:Horticultural Hall\, 330 Broad St\, Lake Geneva\, WI\, 53147\, United States
ATTACH;FMTTYPE=image/png:https://anchorcovenant.org/wp-content/uploads/2025/12/Deck-the-halls-w-the-Walls-scaled.png
END:VEVENT
END:VCALENDAR