BEGIN:VCALENDAR
VERSION:2.0
PRODID:-//Anchor Covenant Church - ECPv6.15.20//NONSGML v1.0//EN
CALSCALE:GREGORIAN
METHOD:PUBLISH
X-ORIGINAL-URL:https://anchorcovenant.org
X-WR-CALDESC:Events for Anchor Covenant Church
REFRESH-INTERVAL;VALUE=DURATION:PT1H
X-Robots-Tag:noindex
X-PUBLISHED-TTL:PT1H
BEGIN:VTIMEZONE
TZID:UTC
BEGIN:STANDARD
TZOFFSETFROM:+0000
TZOFFSETTO:+0000
TZNAME:UTC
DTSTART:20240101T000000
END:STANDARD
END:VTIMEZONE
BEGIN:VEVENT
DTSTART;TZID=UTC:20251221T080000
DTEND;TZID=UTC:20251221T170000
DTSTAMP:20260423T221549
CREATED:20251210T134955Z
LAST-MODIFIED:20251210T134955Z
UID:10001968-1766304000-1766336400@anchorcovenant.org
SUMMARY:Both Buoys on Break
DESCRIPTION:Peace on earth. Merry Christmas Buoy families! Buoy is on break until January 4.
URL:https://anchorcovenant.org/event/both-buoys-on-break/2025-12-21/
LOCATION:WI
ATTACH;FMTTYPE=image/png:https://anchorcovenant.org/wp-content/uploads/2025/12/unnamed-69.png
END:VEVENT
BEGIN:VEVENT
DTSTART;TZID=UTC:20251221T093000
DTEND;TZID=UTC:20251221T101500
DTSTAMP:20260423T221549
CREATED:20251217T145835Z
LAST-MODIFIED:20251223T151439Z
UID:10002238-1766309400-1766312100@anchorcovenant.org
SUMMARY:Grow On Break
DESCRIPTION:
URL:https://anchorcovenant.org/event/grow-on-break/2025-12-21/
LOCATION:WI
ATTACH;FMTTYPE=image/webp:https://anchorcovenant.org/wp-content/uploads/2025/12/hape.webp
END:VEVENT
BEGIN:VEVENT
DTSTART;TZID=UTC:20251221T103000
DTEND;TZID=UTC:20251221T114500
DTSTAMP:20260423T221549
CREATED:20251216T220604Z
LAST-MODIFIED:20251216T220604Z
UID:10001972-1766313000-1766317500@anchorcovenant.org
SUMMARY:Service
DESCRIPTION:Join us every Sunday from 10:30-11:45 for our service online or in person at Anchor Covenant Church.
URL:https://anchorcovenant.org/event/service/2025-12-21/
LOCATION:Anchor Covenant Church\, 1229 Park Row\, Lake Geneva\, WI
ATTACH;FMTTYPE=image/png:https://anchorcovenant.org/wp-content/uploads/2025/12/Anchor.png
END:VEVENT
END:VCALENDAR