BEGIN:VCALENDAR
VERSION:2.0
PRODID:-//Anchor Covenant Church - ECPv6.15.20//NONSGML v1.0//EN
CALSCALE:GREGORIAN
METHOD:PUBLISH
X-WR-CALNAME:Anchor Covenant Church
X-ORIGINAL-URL:https://anchorcovenant.org
X-WR-CALDESC:Events for Anchor Covenant Church
REFRESH-INTERVAL;VALUE=DURATION:PT1H
X-Robots-Tag:noindex
X-PUBLISHED-TTL:PT1H
BEGIN:VTIMEZONE
TZID:UTC
BEGIN:STANDARD
TZOFFSETFROM:+0000
TZOFFSETTO:+0000
TZNAME:UTC
DTSTART:20240101T000000
END:STANDARD
END:VTIMEZONE
BEGIN:VEVENT
DTSTART;TZID=UTC:20251212T100000
DTEND;TZID=UTC:20251212T110000
DTSTAMP:20260423T222057
CREATED:20251125T211928Z
LAST-MODIFIED:20251125T211928Z
UID:10000276-1765533600-1765537200@anchorcovenant.org
SUMMARY:Lucia Tea
DESCRIPTION:Come celebrate the holiday season and feel free to bring some cookies to share.
URL:https://anchorcovenant.org/event/lucia-tea/
LOCATION:Klockar’s Home\, 1201 Bridget Court\, Fontana\, WI\, United States
ATTACH;FMTTYPE=image/jpeg:https://anchorcovenant.org/wp-content/uploads/2025/11/unnamed.jpg
END:VEVENT
BEGIN:VEVENT
DTSTART;TZID=UTC:20251212T180000
DTEND;TZID=UTC:20251212T200000
DTSTAMP:20260423T222057
CREATED:20251125T212325Z
LAST-MODIFIED:20251202T233640Z
UID:10000277-1765562400-1765569600@anchorcovenant.org
SUMMARY:Pop In Dinner Party
DESCRIPTION:Join us Dec 12 at 6pm for a pop in dinner at Geneva Bay Center at Covenant Harbor. The dinner will be a Prime Rib Dinner and will cost $34 per person.
URL:https://anchorcovenant.org/event/pop-in-dinner-party-2/
LOCATION:Covenant Harbor\, 1724 W Main Street\, Lake Geneva\, WI\, 53147
ATTACH;FMTTYPE=image/png:https://anchorcovenant.org/wp-content/uploads/2025/11/unnamed-3.png
END:VEVENT
END:VCALENDAR