BEGIN:VCALENDAR
VERSION:2.0
PRODID:-//Anchor Covenant Church - ECPv6.15.20//NONSGML v1.0//EN
CALSCALE:GREGORIAN
METHOD:PUBLISH
X-ORIGINAL-URL:https://anchorcovenant.org
X-WR-CALDESC:Events for Anchor Covenant Church
REFRESH-INTERVAL;VALUE=DURATION:PT1H
X-Robots-Tag:noindex
X-PUBLISHED-TTL:PT1H
BEGIN:VTIMEZONE
TZID:UTC
BEGIN:STANDARD
TZOFFSETFROM:+0000
TZOFFSETTO:+0000
TZNAME:UTC
DTSTART:20240101T000000
END:STANDARD
END:VTIMEZONE
BEGIN:VEVENT
DTSTART;TZID=UTC:20251206T080000
DTEND;TZID=UTC:20251206T090000
DTSTAMP:20260423T222159
CREATED:20250813T080007Z
LAST-MODIFIED:20251208T222214Z
UID:10000218-1765008000-1765011600@anchorcovenant.org
SUMMARY:Hour of Prayer
DESCRIPTION:Please join us for an hour of prayer each week at Anchor hosted by El Buen Pastor\, every Saturday at 8:00am
URL:https://anchorcovenant.org/event/hour-of-prayer/2025-12-06/
LOCATION:Anchor Covenant Church\, 1229 Park Row\, Lake Geneva\, WI
ATTACH;FMTTYPE=image/jpeg:https://anchorcovenant.org/wp-content/uploads/2025/07/unnamed.jpg
END:VEVENT
BEGIN:VEVENT
DTSTART;TZID=UTC:20251206T183000
DTEND;TZID=UTC:20251206T210000
DTSTAMP:20260423T222159
CREATED:20251119T131837Z
LAST-MODIFIED:20251119T131837Z
UID:10000273-1765045800-1765054800@anchorcovenant.org
SUMMARY:Buoy68 Christmas Party
DESCRIPTION:Buoy68\, join us Saturday\, December 6 from 6:30-9:00pm for pancakes\, games\, and raffle gifts.
URL:https://anchorcovenant.org/event/buoy68-christmas-party-3/
LOCATION:Buoy Room
ATTACH;FMTTYPE=image/png:https://anchorcovenant.org/wp-content/uploads/2025/11/Christmas.png
END:VEVENT
END:VCALENDAR