BEGIN:VCALENDAR
VERSION:2.0
PRODID:-//Anchor Covenant Church - ECPv6.15.20//NONSGML v1.0//EN
CALSCALE:GREGORIAN
METHOD:PUBLISH
X-WR-CALNAME:Anchor Covenant Church
X-ORIGINAL-URL:https://anchorcovenant.org
X-WR-CALDESC:Events for Anchor Covenant Church
REFRESH-INTERVAL;VALUE=DURATION:PT1H
X-Robots-Tag:noindex
X-PUBLISHED-TTL:PT1H
BEGIN:VTIMEZONE
TZID:UTC
BEGIN:STANDARD
TZOFFSETFROM:+0000
TZOFFSETTO:+0000
TZNAME:UTC
DTSTART:20240101T000000
END:STANDARD
END:VTIMEZONE
BEGIN:VEVENT
DTSTART;TZID=UTC:20251130T103000
DTEND;TZID=UTC:20251130T113000
DTSTAMP:20260423T222030
CREATED:20251114T183047Z
LAST-MODIFIED:20251114T183047Z
UID:10000270-1764498600-1764502200@anchorcovenant.org
SUMMARY:New Member Sunday
DESCRIPTION:Welcome New Members to Anchor’s Congregation.
URL:https://anchorcovenant.org/event/new-member-sunday/
LOCATION:WI
END:VEVENT
BEGIN:VEVENT
DTSTART;TZID=UTC:20251130T160000
DTEND;TZID=UTC:20251130T180000
DTSTAMP:20260423T222030
CREATED:20251119T131535Z
LAST-MODIFIED:20251119T131535Z
UID:10000272-1764518400-1764525600@anchorcovenant.org
SUMMARY:Both Buoys Appetize-Giving
DESCRIPTION:Calling all Buoy students! Join us Sunday\, November 30 from 4-6pm for Appetize-Giving. Bring your favorite appetizer to share and text Laura a 60 second or less video from your childhood.
URL:https://anchorcovenant.org/event/both-buoys-appetize-giving/
LOCATION:Buoy Room
ATTACH;FMTTYPE=image/png:https://anchorcovenant.org/wp-content/uploads/2025/11/Appetize.png
END:VEVENT
END:VCALENDAR