BEGIN:VCALENDAR
VERSION:2.0
PRODID:-//Anchor Covenant Church - ECPv6.15.20//NONSGML v1.0//EN
CALSCALE:GREGORIAN
METHOD:PUBLISH
X-WR-CALNAME:Anchor Covenant Church
X-ORIGINAL-URL:https://anchorcovenant.org
X-WR-CALDESC:Events for Anchor Covenant Church
REFRESH-INTERVAL;VALUE=DURATION:PT1H
X-Robots-Tag:noindex
X-PUBLISHED-TTL:PT1H
BEGIN:VTIMEZONE
TZID:UTC
BEGIN:STANDARD
TZOFFSETFROM:+0000
TZOFFSETTO:+0000
TZNAME:UTC
DTSTART:20240101T000000
END:STANDARD
END:VTIMEZONE
BEGIN:VEVENT
DTSTART;TZID=UTC:20251119T180000
DTEND;TZID=UTC:20251119T200000
DTSTAMP:20260423T234646
CREATED:20251114T181738Z
LAST-MODIFIED:20251114T182132Z
UID:10000269-1763575200-1763582400@anchorcovenant.org
SUMMARY:Pop In Dinner Party
DESCRIPTION:Share a meal with other Anchor adults.  Build and strengthen community. \nRSVP by Nov by 11/16 to Pete or Pat
URL:https://anchorcovenant.org/event/pop-in-dinner-party/
LOCATION:Someplace Else
ATTACH;FMTTYPE=image/jpeg:https://anchorcovenant.org/wp-content/uploads/2025/11/Pop-In-Dinner-Party.jpg
END:VEVENT
END:VCALENDAR