BEGIN:VCALENDAR
VERSION:2.0
PRODID:-//Anchor Covenant Church - ECPv6.15.20//NONSGML v1.0//EN
CALSCALE:GREGORIAN
METHOD:PUBLISH
X-WR-CALNAME:Anchor Covenant Church
X-ORIGINAL-URL:https://anchorcovenant.org
X-WR-CALDESC:Events for Anchor Covenant Church
REFRESH-INTERVAL;VALUE=DURATION:PT1H
X-Robots-Tag:noindex
X-PUBLISHED-TTL:PT1H
BEGIN:VTIMEZONE
TZID:UTC
BEGIN:STANDARD
TZOFFSETFROM:+0000
TZOFFSETTO:+0000
TZNAME:UTC
DTSTART:20240101T000000
END:STANDARD
END:VTIMEZONE
BEGIN:VEVENT
DTSTART;TZID=UTC:20251107T153000
DTEND;TZID=UTC:20251109T160000
DTSTAMP:20260423T234646
CREATED:20251022T124139Z
LAST-MODIFIED:20251022T124655Z
UID:10000257-1762529400-1762704000@anchorcovenant.org
SUMMARY:BuoyHS Gal Galena
DESCRIPTION:Attention as Buoy HS girls. We will be heading to Galena Friday\, November 7 for a retreat weekend. We would love for you to come!
URL:https://anchorcovenant.org/event/buoyhs-gal-galena/
LOCATION:Galena\, Galena\, IL\, 61036\, United States
ATTACH;FMTTYPE=image/png:https://anchorcovenant.org/wp-content/uploads/2025/10/unnamed-50.png
END:VEVENT
BEGIN:VEVENT
DTSTART;TZID=UTC:20251107T153000
DTEND;TZID=UTC:20251109T160000
DTSTAMP:20260423T234646
CREATED:20251022T124557Z
LAST-MODIFIED:20251022T124557Z
UID:10000258-1762529400-1762704000@anchorcovenant.org
SUMMARY:Both Buoy Guys Camping
DESCRIPTION:Attention all Buoy guys! We will be heading out to Kohler-Andrae State Park for our second annual camping trip on Friday\, November 7. Hope to see you there!
URL:https://anchorcovenant.org/event/both-buoy-guys-camping/
LOCATION:Kohler-Andrae State Park\, 1020 Beach Park Ln\, Sheboygan\, WI\, 53081\, United States
ATTACH;FMTTYPE=image/png:https://anchorcovenant.org/wp-content/uploads/2025/10/unnamed-51.png
END:VEVENT
BEGIN:VEVENT
DTSTART;TZID=UTC:20251109T093000
DTEND;TZID=UTC:20251109T101500
DTSTAMP:20260423T234646
CREATED:20251105T124626Z
LAST-MODIFIED:20251105T124626Z
UID:10000262-1762680600-1762683300@anchorcovenant.org
SUMMARY:No Buoy GROW
DESCRIPTION:Buoy GROW for 11/9/25 is canceled as the Guys Camping and Gals Galena Retreat are happening.
URL:https://anchorcovenant.org/event/no-buoy-grow/
LOCATION:Anchor Covenant Church\, 1229 Park Row\, Lake Geneva\, WI
ATTACH;FMTTYPE=image/png:https://anchorcovenant.org/wp-content/uploads/2025/11/unnamed-60.png
END:VEVENT
BEGIN:VEVENT
DTSTART;TZID=UTC:20251109T093000
DTEND;TZID=UTC:20251109T221500
DTSTAMP:20260423T234646
CREATED:20250918T115733Z
LAST-MODIFIED:20251119T130821Z
UID:10000243-1762680600-1762726500@anchorcovenant.org
SUMMARY:Adult GROW
DESCRIPTION:Join us every Sunday at 9:30 at Anchor.
URL:https://anchorcovenant.org/event/adult-grow/
LOCATION:Anchor Covenant Church\, 1229 Park Row\, Lake Geneva\, WI
ATTACH;FMTTYPE=image/png:https://anchorcovenant.org/wp-content/uploads/2025/09/unnamed-64.png
END:VEVENT
BEGIN:VEVENT
DTSTART;TZID=UTC:20251109T160000
DTEND;TZID=UTC:20251109T163000
DTSTAMP:20260423T234646
CREATED:20251029T160814Z
LAST-MODIFIED:20251029T160814Z
UID:10000261-1762704000-1762705800@anchorcovenant.org
SUMMARY:Compass Parent Meeting
DESCRIPTION:Compass parents\, join us Sunday\, November 9th from 4:00-4:30pm to discuss Winter Camp.
URL:https://anchorcovenant.org/event/compass-parent-meeting/
LOCATION:WI
ATTACH;FMTTYPE=image/png:https://anchorcovenant.org/wp-content/uploads/2025/10/unnamed-58.png
END:VEVENT
BEGIN:VEVENT
DTSTART;TZID=UTC:20251109T160000
DTEND;TZID=UTC:20251109T180000
DTSTAMP:20260423T234646
CREATED:20250925T134456Z
LAST-MODIFIED:20251029T160625Z
UID:10000247-1762704000-1762711200@anchorcovenant.org
SUMMARY:Compass
DESCRIPTION:Please join us in the Compass Room on Sunday\, November 9th at 4:00pm.
URL:https://anchorcovenant.org/event/compass/
LOCATION:Anchor Covenant Church\, 1229 Park Row\, Lake Geneva\, WI
ATTACH;FMTTYPE=image/png:https://anchorcovenant.org/wp-content/uploads/2025/09/unnamed-57.png
END:VEVENT
END:VCALENDAR