BEGIN:VCALENDAR
VERSION:2.0
PRODID:-//Anchor Covenant Church - ECPv6.15.20//NONSGML v1.0//EN
CALSCALE:GREGORIAN
METHOD:PUBLISH
X-WR-CALNAME:Anchor Covenant Church
X-ORIGINAL-URL:https://anchorcovenant.org
X-WR-CALDESC:Events for Anchor Covenant Church
REFRESH-INTERVAL;VALUE=DURATION:PT1H
X-Robots-Tag:noindex
X-PUBLISHED-TTL:PT1H
BEGIN:VTIMEZONE
TZID:UTC
BEGIN:STANDARD
TZOFFSETFROM:+0000
TZOFFSETTO:+0000
TZNAME:UTC
DTSTART:20240101T000000
END:STANDARD
END:VTIMEZONE
BEGIN:VEVENT
DTSTART;TZID=UTC:20251102T093000
DTEND;TZID=UTC:20251102T120000
DTSTAMP:20260423T234645
CREATED:20251022T122710Z
LAST-MODIFIED:20251029T155516Z
UID:10000254-1762075800-1762084800@anchorcovenant.org
SUMMARY:Thanksgiving Food Drive
DESCRIPTION:Annual Thanksgiving food drive for the Lake Geneva food pantry.
URL:https://anchorcovenant.org/event/thanksgiving-food-drive-5/
LOCATION:Anchor Covenant Church\, 1229 Park Row\, Lake Geneva\, WI
ATTACH;FMTTYPE=image/png:https://anchorcovenant.org/wp-content/uploads/2025/10/unnamed-48.png
END:VEVENT
END:VCALENDAR