BEGIN:VCALENDAR
VERSION:2.0
PRODID:-//Anchor Covenant Church - ECPv6.15.20//NONSGML v1.0//EN
CALSCALE:GREGORIAN
METHOD:PUBLISH
X-WR-CALNAME:Anchor Covenant Church
X-ORIGINAL-URL:https://anchorcovenant.org
X-WR-CALDESC:Events for Anchor Covenant Church
REFRESH-INTERVAL;VALUE=DURATION:PT1H
X-Robots-Tag:noindex
X-PUBLISHED-TTL:PT1H
BEGIN:VTIMEZONE
TZID:UTC
BEGIN:STANDARD
TZOFFSETFROM:+0000
TZOFFSETTO:+0000
TZNAME:UTC
DTSTART:20240101T000000
END:STANDARD
END:VTIMEZONE
BEGIN:VEVENT
DTSTART;TZID=UTC:20251005T160000
DTEND;TZID=UTC:20251005T180000
DTSTAMP:20260424T011344
CREATED:20250925T135527Z
LAST-MODIFIED:20250925T135527Z
UID:10000250-1759680000-1759687200@anchorcovenant.org
SUMMARY:Both Buoys
DESCRIPTION:Both Buoys\, Join us for Sock Soccer\, Dodgeball\, Climbing\, and Small Groups Sunday\, October 5th at 4:00pm.
URL:https://anchorcovenant.org/event/both-buoys/
LOCATION:Covenant Harbor\, 1724 W Main Street\, Lake Geneva\, WI\, 53147
ATTACH;FMTTYPE=image/png:https://anchorcovenant.org/wp-content/uploads/2025/09/unnamed-38.png
END:VEVENT
END:VCALENDAR