BEGIN:VCALENDAR
VERSION:2.0
PRODID:-//Anchor Covenant Church - ECPv6.15.20//NONSGML v1.0//EN
CALSCALE:GREGORIAN
METHOD:PUBLISH
X-WR-CALNAME:Anchor Covenant Church
X-ORIGINAL-URL:https://anchorcovenant.org
X-WR-CALDESC:Events for Anchor Covenant Church
REFRESH-INTERVAL;VALUE=DURATION:PT1H
X-Robots-Tag:noindex
X-PUBLISHED-TTL:PT1H
BEGIN:VTIMEZONE
TZID:UTC
BEGIN:STANDARD
TZOFFSETFROM:+0000
TZOFFSETTO:+0000
TZNAME:UTC
DTSTART:20240101T000000
END:STANDARD
END:VTIMEZONE
BEGIN:VEVENT
DTSTART;TZID=UTC:20250912T170000
DTEND;TZID=UTC:20250914T110000
DTSTAMP:20260424T022726
CREATED:20250418T200540Z
LAST-MODIFIED:20250418T202917Z
UID:10000175-1757696400-1757847600@anchorcovenant.org
SUMMARY:Women's Retreat 2025
DESCRIPTION:A time of fellowship and restoration on the shores of Geneva Lake.
URL:https://anchorcovenant.org/event/womens-retreat-2025/
LOCATION:Covenant Harbor\, 1724 W Main Street\, Lake Geneva\, WI\, 53147
ATTACH;FMTTYPE=image/jpeg:https://anchorcovenant.org/wp-content/uploads/2025/04/womens-retreat.jpg
END:VEVENT
BEGIN:VEVENT
DTSTART;TZID=UTC:20250914T160000
DTEND;TZID=UTC:20250914T180000
DTSTAMP:20260424T022726
CREATED:20250903T115550Z
LAST-MODIFIED:20250903T115550Z
UID:10000236-1757865600-1757872800@anchorcovenant.org
SUMMARY:Compass Parent Meeting and Kick Off
DESCRIPTION:Compass families\, please mark your calendars! \nJoin us Sunday\, September 14 at 4pm for the fall kick off of Compass.
URL:https://anchorcovenant.org/event/compass-parent-meeting-and-kick-off/
LOCATION:Anchor Covenant Church\, 1229 Park Row\, Lake Geneva\, WI
ATTACH;FMTTYPE=image/png:https://anchorcovenant.org/wp-content/uploads/2025/09/unnamed-28.png
END:VEVENT
BEGIN:VEVENT
DTSTART;TZID=UTC:20250914T160000
DTEND;TZID=UTC:20250914T193000
DTSTAMP:20260424T022726
CREATED:20250820T163017Z
LAST-MODIFIED:20250903T115750Z
UID:10000226-1757865600-1757878200@anchorcovenant.org
SUMMARY:Buoy is Back!
DESCRIPTION:Join us for our first Buoy in the new Buoy room. \nBuoy68: 4-6pm \nBuoyHS: 5:00-7:00pm \nCan’t wait to see y’all there!
URL:https://anchorcovenant.org/event/buoy-is-back/
LOCATION:Anchor Covenant Church\, 1229 Park Row\, Lake Geneva\, WI
ATTACH;FMTTYPE=image/png:https://anchorcovenant.org/wp-content/uploads/2025/08/unnamed-10.png
END:VEVENT
END:VCALENDAR