BEGIN:VCALENDAR
VERSION:2.0
PRODID:-//Anchor Covenant Church - ECPv6.15.20//NONSGML v1.0//EN
CALSCALE:GREGORIAN
METHOD:PUBLISH
X-ORIGINAL-URL:https://anchorcovenant.org
X-WR-CALDESC:Events for Anchor Covenant Church
REFRESH-INTERVAL;VALUE=DURATION:PT1H
X-Robots-Tag:noindex
X-PUBLISHED-TTL:PT1H
BEGIN:VTIMEZONE
TZID:UTC
BEGIN:STANDARD
TZOFFSETFROM:+0000
TZOFFSETTO:+0000
TZNAME:UTC
DTSTART:20240101T000000
END:STANDARD
END:VTIMEZONE
BEGIN:VEVENT
DTSTART;TZID=UTC:20250912T170000
DTEND;TZID=UTC:20250914T110000
DTSTAMP:20260424T023010
CREATED:20250418T200540Z
LAST-MODIFIED:20250418T202917Z
UID:10000175-1757696400-1757847600@anchorcovenant.org
SUMMARY:Women's Retreat 2025
DESCRIPTION:A time of fellowship and restoration on the shores of Geneva Lake.
URL:https://anchorcovenant.org/event/womens-retreat-2025/
LOCATION:Covenant Harbor\, 1724 W Main Street\, Lake Geneva\, WI\, 53147
ATTACH;FMTTYPE=image/jpeg:https://anchorcovenant.org/wp-content/uploads/2025/04/womens-retreat.jpg
END:VEVENT
END:VCALENDAR