BEGIN:VCALENDAR
VERSION:2.0
PRODID:-//Anchor Covenant Church - ECPv6.15.20//NONSGML v1.0//EN
CALSCALE:GREGORIAN
METHOD:PUBLISH
X-WR-CALNAME:Anchor Covenant Church
X-ORIGINAL-URL:https://anchorcovenant.org
X-WR-CALDESC:Events for Anchor Covenant Church
REFRESH-INTERVAL;VALUE=DURATION:PT1H
X-Robots-Tag:noindex
X-PUBLISHED-TTL:PT1H
BEGIN:VTIMEZONE
TZID:UTC
BEGIN:STANDARD
TZOFFSETFROM:+0000
TZOFFSETTO:+0000
TZNAME:UTC
DTSTART:20240101T000000
END:STANDARD
END:VTIMEZONE
BEGIN:VEVENT
DTSTART;TZID=UTC:20250823T000000
DTEND;TZID=UTC:20250823T235959
DTSTAMP:20260424T034844
CREATED:20250529T141807Z
LAST-MODIFIED:20250805T200402Z
UID:10000209-1755907200-1755993599@anchorcovenant.org
SUMMARY:Bikes & Bites
DESCRIPTION:Join us Saturday\, August 23 at 12pm at Glacial Park Pavilion \n6482 Harts Road\, Ringwood\, IL\, 60072 \nBYO Bike and Picnic \nAll ages welcome \nContact Connor Dick with Questions: 224-456-9012
URL:https://anchorcovenant.org/event/bikes-bites-3/
LOCATION:Glacial Park Pavillion\, 6482 Harts Road\, Ringwood\, IL\, 60072\, United States
ATTACH;FMTTYPE=image/png:https://anchorcovenant.org/wp-content/uploads/2025/05/unnamed-4.png
END:VEVENT
BEGIN:VEVENT
DTSTART;TZID=UTC:20250823T140000
DTEND;TZID=UTC:20250823T180000
DTSTAMP:20260424T034844
CREATED:20250820T162411Z
LAST-MODIFIED:20250820T162511Z
UID:10000225-1755957600-1755972000@anchorcovenant.org
SUMMARY:Let's Celebrate
DESCRIPTION:Come join the Hutson Family to Celebrate… \nGraham’s High School Graduation \nNed’s 80th Birthday \nMadeline’s College Graduation
URL:https://anchorcovenant.org/event/lets-celebrate/
LOCATION:Hutson Home\, 111 S Church St\, Elkhorn\, WI\, United States
END:VEVENT
END:VCALENDAR