BEGIN:VCALENDAR
VERSION:2.0
PRODID:-//Anchor Covenant Church - ECPv6.15.20//NONSGML v1.0//EN
CALSCALE:GREGORIAN
METHOD:PUBLISH
X-ORIGINAL-URL:https://anchorcovenant.org
X-WR-CALDESC:Events for Anchor Covenant Church
REFRESH-INTERVAL;VALUE=DURATION:PT1H
X-Robots-Tag:noindex
X-PUBLISHED-TTL:PT1H
BEGIN:VTIMEZONE
TZID:UTC
BEGIN:STANDARD
TZOFFSETFROM:+0000
TZOFFSETTO:+0000
TZNAME:UTC
DTSTART:20240101T000000
END:STANDARD
END:VTIMEZONE
BEGIN:VEVENT
DTSTART;TZID=UTC:20250820T173000
DTEND;TZID=UTC:20250820T193000
DTSTAMP:20260424T035028
CREATED:20250625T183623Z
LAST-MODIFIED:20250625T183659Z
UID:10000214-1755711000-1755718200@anchorcovenant.org
SUMMARY:Vision Night & Ministry Team Time
DESCRIPTION:5:30 Meal \n6:15 Ministry Team Time
URL:https://anchorcovenant.org/event/vision-night-ministry-team-time/
LOCATION:Anchor Covenant Church\, 1229 Park Row\, Lake Geneva\, WI
ATTACH;FMTTYPE=image/png:https://anchorcovenant.org/wp-content/uploads/2025/06/PNG-image-1.png
ORGANIZER;CN="Anchor Staff":MAILTO:office@anchorcovenant.org
END:VEVENT
END:VCALENDAR