BEGIN:VCALENDAR
VERSION:2.0
PRODID:-//Anchor Covenant Church - ECPv6.15.20//NONSGML v1.0//EN
CALSCALE:GREGORIAN
METHOD:PUBLISH
X-WR-CALNAME:Anchor Covenant Church
X-ORIGINAL-URL:https://anchorcovenant.org
X-WR-CALDESC:Events for Anchor Covenant Church
REFRESH-INTERVAL;VALUE=DURATION:PT1H
X-Robots-Tag:noindex
X-PUBLISHED-TTL:PT1H
BEGIN:VTIMEZONE
TZID:UTC
BEGIN:STANDARD
TZOFFSETFROM:+0000
TZOFFSETTO:+0000
TZNAME:UTC
DTSTART:20240101T000000
END:STANDARD
END:VTIMEZONE
BEGIN:VEVENT
DTSTART;TZID=UTC:20250720T103000
DTEND;TZID=UTC:20250720T113000
DTSTAMP:20260424T045854
CREATED:20250508T152916Z
LAST-MODIFIED:20250508T152916Z
UID:10000190-1753007400-1753011000@anchorcovenant.org
SUMMARY:Summer Sundays
DESCRIPTION:This Summer… \nWe’re saying yes to sunny days and sacred spaces. Yes to worship under the tent. Yes to a summer of purpose. \nSo let’s pack our bibles and picnic blankets and open our hearts wide to get ready for another summer of worship by the water. Because God meets us in sacred spaces.
URL:https://anchorcovenant.org/event/summer-sundays-6/
LOCATION:Covenant Harbor\, 1724 W Main Street\, Lake Geneva\, WI\, 53147
ATTACH;FMTTYPE=image/webp:https://anchorcovenant.org/wp-content/uploads/2025/05/67BFA4A2-83FB-44A4-8717-BFEFE61571EF.webp
END:VEVENT
END:VCALENDAR