BEGIN:VCALENDAR
VERSION:2.0
PRODID:-//Anchor Covenant Church - ECPv6.15.20//NONSGML v1.0//EN
CALSCALE:GREGORIAN
METHOD:PUBLISH
X-WR-CALNAME:Anchor Covenant Church
X-ORIGINAL-URL:https://anchorcovenant.org
X-WR-CALDESC:Events for Anchor Covenant Church
REFRESH-INTERVAL;VALUE=DURATION:PT1H
X-Robots-Tag:noindex
X-PUBLISHED-TTL:PT1H
BEGIN:VTIMEZONE
TZID:UTC
BEGIN:STANDARD
TZOFFSETFROM:+0000
TZOFFSETTO:+0000
TZNAME:UTC
DTSTART:20240101T000000
END:STANDARD
END:VTIMEZONE
BEGIN:VEVENT
DTSTART;TZID=UTC:20250717T170000
DTEND;TZID=UTC:20250717T180000
DTSTAMP:20260424T045842
CREATED:20250620T142212Z
LAST-MODIFIED:20250620T142434Z
UID:10000213-1752771600-1752775200@anchorcovenant.org
SUMMARY:Buoy Room - YA!
DESCRIPTION:Before the Jon Troast concert\, celebrate our Buoy Room being open!!
URL:https://anchorcovenant.org/event/buoy-room-ya/
LOCATION:Anchor Covenant Church\, 1229 Park Row\, Lake Geneva\, WI
ATTACH;FMTTYPE=image/png:https://anchorcovenant.org/wp-content/uploads/2025/06/Screenshot-2025-06-01-at-10.28.04 PM.png
ORGANIZER;CN="Laura Gowan":MAILTO:laura.gowan@anchorcovenant.org
END:VEVENT
BEGIN:VEVENT
DTSTART;TZID=UTC:20250717T183000
DTEND;TZID=UTC:20250717T203000
DTSTAMP:20260424T045842
CREATED:20250522T170541Z
LAST-MODIFIED:20250603T225044Z
UID:10000206-1752777000-1752784200@anchorcovenant.org
SUMMARY:Jon Troast Concert & Picnic
DESCRIPTION:
URL:https://anchorcovenant.org/event/jon-troast-concert-picnic/
LOCATION:Anchor Covenant Church\, 1229 Park Row\, Lake Geneva\, WI
ATTACH;FMTTYPE=image/png:https://anchorcovenant.org/wp-content/uploads/2025/05/Screenshot-2025-05-27-at-10.42.26 AM.png
ORGANIZER;CN="Anchor Office":MAILTO:office@anchorcovenant.org
END:VEVENT
END:VCALENDAR