BEGIN:VCALENDAR
VERSION:2.0
PRODID:-//Anchor Covenant Church - ECPv6.15.20//NONSGML v1.0//EN
CALSCALE:GREGORIAN
METHOD:PUBLISH
X-ORIGINAL-URL:https://anchorcovenant.org
X-WR-CALDESC:Events for Anchor Covenant Church
REFRESH-INTERVAL;VALUE=DURATION:PT1H
X-Robots-Tag:noindex
X-PUBLISHED-TTL:PT1H
BEGIN:VTIMEZONE
TZID:UTC
BEGIN:STANDARD
TZOFFSETFROM:+0000
TZOFFSETTO:+0000
TZNAME:UTC
DTSTART:20240101T000000
END:STANDARD
END:VTIMEZONE
BEGIN:VEVENT
DTSTART;TZID=UTC:20250715T160000
DTEND;TZID=UTC:20250715T190000
DTSTAMP:20260424T050003
CREATED:20250713T025250Z
LAST-MODIFIED:20250713T025323Z
UID:10000217-1752595200-1752606000@anchorcovenant.org
SUMMARY:Anchor Work Day
DESCRIPTION:Help get Anchor ready for the Fall.
URL:https://anchorcovenant.org/event/anchor-work-day/
LOCATION:WI
ATTACH;FMTTYPE=image/webp:https://anchorcovenant.org/wp-content/uploads/2025/07/Happy-Labor-Day-Facebook-Post.webp
ORGANIZER;CN="Heidi Nevoso":MAILTO:hnevoso@gmail.com
END:VEVENT
END:VCALENDAR