BEGIN:VCALENDAR
VERSION:2.0
PRODID:-//Anchor Covenant Church - ECPv6.15.20//NONSGML v1.0//EN
CALSCALE:GREGORIAN
METHOD:PUBLISH
X-ORIGINAL-URL:https://anchorcovenant.org
X-WR-CALDESC:Events for Anchor Covenant Church
REFRESH-INTERVAL;VALUE=DURATION:PT1H
X-Robots-Tag:noindex
X-PUBLISHED-TTL:PT1H
BEGIN:VTIMEZONE
TZID:UTC
BEGIN:STANDARD
TZOFFSETFROM:+0000
TZOFFSETTO:+0000
TZNAME:UTC
DTSTART:20240101T000000
END:STANDARD
END:VTIMEZONE
BEGIN:VEVENT
DTSTART;TZID=UTC:20250713T103000
DTEND;TZID=UTC:20250713T113000
DTSTAMP:20260424T045617
CREATED:20250508T152754Z
LAST-MODIFIED:20250508T152754Z
UID:10000189-1752402600-1752406200@anchorcovenant.org
SUMMARY:Summer Sundays
DESCRIPTION:This Summer… \nWe’re saying yes to sunny days and sacred spaces. Yes to worship under the tent. Yes to a summer of purpose. \nSo let’s pack our bibles and picnic blankets and open our hearts wide to get ready for another summer of worship by the water. Because God meets us in sacred spaces.
URL:https://anchorcovenant.org/event/summer-sundays-5/
LOCATION:Covenant Harbor\, 1724 W Main Street\, Lake Geneva\, WI\, 53147
ATTACH;FMTTYPE=image/webp:https://anchorcovenant.org/wp-content/uploads/2025/05/67BFA4A2-83FB-44A4-8717-BFEFE61571EF.webp
END:VEVENT
BEGIN:VEVENT
DTSTART;TZID=UTC:20250713T120000
DTEND;TZID=UTC:20250713T123000
DTSTAMP:20260424T045617
CREATED:20250625T195345Z
LAST-MODIFIED:20250625T195439Z
UID:10000215-1752408000-1752409800@anchorcovenant.org
SUMMARY:Pop on Over and Chill With Us Kids' Meet Up
DESCRIPTION:Meet your leaders on the grassy area in front of the lake at Covenant Harbor for popsicles and to catch up on how Summer is going.
URL:https://anchorcovenant.org/event/pop-on-over-and-chill-with-us-kids-meet-up/
LOCATION:Covenant Harbor\, 1724 W Main Street\, Lake Geneva\, WI\, 53147
ATTACH;FMTTYPE=image/png:https://anchorcovenant.org/wp-content/uploads/2025/06/Kids-Ministry-Popsicles-scaled.png
ORGANIZER;CN="Kylie Dick":MAILTO:kids@anchorcovenant.org
END:VEVENT
END:VCALENDAR