BEGIN:VCALENDAR
VERSION:2.0
PRODID:-//Anchor Covenant Church - ECPv6.15.20//NONSGML v1.0//EN
CALSCALE:GREGORIAN
METHOD:PUBLISH
X-WR-CALNAME:Anchor Covenant Church
X-ORIGINAL-URL:https://anchorcovenant.org
X-WR-CALDESC:Events for Anchor Covenant Church
REFRESH-INTERVAL;VALUE=DURATION:PT1H
X-Robots-Tag:noindex
X-PUBLISHED-TTL:PT1H
BEGIN:VTIMEZONE
TZID:UTC
BEGIN:STANDARD
TZOFFSETFROM:+0000
TZOFFSETTO:+0000
TZNAME:UTC
DTSTART:20240101T000000
END:STANDARD
END:VTIMEZONE
BEGIN:VEVENT
DTSTART;TZID=UTC:20250706T093000
DTEND;TZID=UTC:20250706T101500
DTSTAMP:20260424T045842
CREATED:20250515T181037Z
LAST-MODIFIED:20250515T181037Z
UID:10000199-1751794200-1751796900@anchorcovenant.org
SUMMARY:Donuts & Deeper Buoy6th-HS
DESCRIPTION:
URL:https://anchorcovenant.org/event/donuts-deeper-buoy6th-hs-2/
LOCATION:Covenant Harbor\, 1724 W Main Street\, Lake Geneva\, WI\, 53147
ATTACH;FMTTYPE=image/webp:https://anchorcovenant.org/wp-content/uploads/2025/05/donuts-deepr.webp
ORGANIZER;CN="Laura Gowan":MAILTO:laura.gowan@anchorcovenant.org
END:VEVENT
BEGIN:VEVENT
DTSTART;TZID=UTC:20250706T103000
DTEND;TZID=UTC:20250706T113000
DTSTAMP:20260424T045842
CREATED:20250508T151333Z
LAST-MODIFIED:20250508T152244Z
UID:10000188-1751797800-1751801400@anchorcovenant.org
SUMMARY:Summer Sundays
DESCRIPTION:This Summer… \nWe’re saying yes to sunny days and sacred spaces. Yes to worship under the tent. Yes to a summer of purpose. \nSo let’s pack our bibles and picnic blankets and open our hearts wide to get ready for another summer of worship by the water. Because God meets us in sacred spaces.
URL:https://anchorcovenant.org/event/summer-sundays-4/
LOCATION:Covenant Harbor\, 1724 W Main Street\, Lake Geneva\, WI\, 53147
ATTACH;FMTTYPE=image/webp:https://anchorcovenant.org/wp-content/uploads/2025/05/67BFA4A2-83FB-44A4-8717-BFEFE61571EF.webp
END:VEVENT
END:VCALENDAR