BEGIN:VCALENDAR
VERSION:2.0
PRODID:-//Anchor Covenant Church - ECPv6.15.20//NONSGML v1.0//EN
CALSCALE:GREGORIAN
METHOD:PUBLISH
X-ORIGINAL-URL:https://anchorcovenant.org
X-WR-CALDESC:Events for Anchor Covenant Church
REFRESH-INTERVAL;VALUE=DURATION:PT1H
X-Robots-Tag:noindex
X-PUBLISHED-TTL:PT1H
BEGIN:VTIMEZONE
TZID:UTC
BEGIN:STANDARD
TZOFFSETFROM:+0000
TZOFFSETTO:+0000
TZNAME:UTC
DTSTART:20240101T000000
END:STANDARD
END:VTIMEZONE
BEGIN:VEVENT
DTSTART;TZID=UTC:20250622T093000
DTEND;TZID=UTC:20250622T101500
DTSTAMP:20260424T061731
CREATED:20250515T180616Z
LAST-MODIFIED:20250515T180616Z
UID:10000197-1750584600-1750587300@anchorcovenant.org
SUMMARY:Donuts & Deeper  Buoy 6th-HS
DESCRIPTION:
URL:https://anchorcovenant.org/event/donuts-deeper-buoy-6th-hs/
LOCATION:Covenant Harbor\, 1724 W Main Street\, Lake Geneva\, WI\, 53147
ATTACH;FMTTYPE=image/webp:https://anchorcovenant.org/wp-content/uploads/2025/05/donuts-deepr.webp
ORGANIZER;CN="Laura Gowan":MAILTO:laura.gowan@anchorcovenant.org
END:VEVENT
BEGIN:VEVENT
DTSTART;TZID=UTC:20250622T103000
DTEND;TZID=UTC:20250622T113000
DTSTAMP:20260424T061731
CREATED:20250503T204319Z
LAST-MODIFIED:20250508T151725Z
UID:10000185-1750588200-1750591800@anchorcovenant.org
SUMMARY:Summer Sundays
DESCRIPTION:This Summer… \nWe’re saying yes to sunny days and sacred spaces. Yes to worship under the tent. Yes to a summer of purpose. \nSo let’s pack our bibles and picnic blankets and open our hearts wide to get ready for another summer of worship by the water. Because God meets us in sacred spaces.
URL:https://anchorcovenant.org/event/summer-sundays-2/
LOCATION:Covenant Harbor\, 1724 W Main Street\, Lake Geneva\, WI\, 53147
ATTACH;FMTTYPE=image/jpeg:https://anchorcovenant.org/wp-content/uploads/2025/05/67BFA4A2-83FB-44A4-8717-BFEFE61571EF.jpeg
END:VEVENT
END:VCALENDAR