BEGIN:VCALENDAR
VERSION:2.0
PRODID:-//Anchor Covenant Church - ECPv6.15.20//NONSGML v1.0//EN
CALSCALE:GREGORIAN
METHOD:PUBLISH
X-ORIGINAL-URL:https://anchorcovenant.org
X-WR-CALDESC:Events for Anchor Covenant Church
REFRESH-INTERVAL;VALUE=DURATION:PT1H
X-Robots-Tag:noindex
X-PUBLISHED-TTL:PT1H
BEGIN:VTIMEZONE
TZID:UTC
BEGIN:STANDARD
TZOFFSETFROM:+0000
TZOFFSETTO:+0000
TZNAME:UTC
DTSTART:20240101T000000
END:STANDARD
END:VTIMEZONE
BEGIN:VEVENT
DTSTART;TZID=UTC:20250606T180000
DTEND;TZID=UTC:20250606T200000
DTSTAMP:20260424T061731
CREATED:20250529T132957Z
LAST-MODIFIED:20250529T142149Z
UID:10000208-1749232800-1749240000@anchorcovenant.org
SUMMARY:Bikes & Bites
DESCRIPTION:
URL:https://anchorcovenant.org/event/bikes-bites-2/
LOCATION:White River State Trail
ATTACH;FMTTYPE=image/png:https://anchorcovenant.org/wp-content/uploads/2025/05/Screenshot-2025-05-27-at-12.17.25 PM.png
END:VEVENT
END:VCALENDAR